BEGIN:VCALENDAR
VERSION:2.0
PRODID:-//Instituto Cultural Paraguayo Alemán – Goethe-Zentrum - ECPv6.15.20//NONSGML v1.0//EN
CALSCALE:GREGORIAN
METHOD:PUBLISH
X-ORIGINAL-URL:https://www.icpa-gz.org.py
X-WR-CALDESC:Eventos para Instituto Cultural Paraguayo Alemán – Goethe-Zentrum
REFRESH-INTERVAL;VALUE=DURATION:PT1H
X-Robots-Tag:noindex
X-PUBLISHED-TTL:PT1H
BEGIN:VTIMEZONE
TZID:America/Sao_Paulo
BEGIN:STANDARD
TZOFFSETFROM:-0300
TZOFFSETTO:-0300
TZNAME:-03
DTSTART:20200101T000000
END:STANDARD
END:VTIMEZONE
BEGIN:VEVENT
DTSTART;TZID=America/Sao_Paulo:20210605T100000
DTEND;TZID=America/Sao_Paulo:20210605T120000
DTSTAMP:20260424T041718
CREATED:20210607T054736Z
LAST-MODIFIED:20210607T232129Z
UID:1771-1622887200-1622894400@www.icpa-gz.org.py
SUMMARY:Encuentro con el sonido
DESCRIPTION:Encuentro con el sonido – con el musico Leonardo Di Giusto \nEl ICPA invita a que participen de las sesiones de terapia sonora\, en donde uno puede encontrarse a si mismo a través de los diferentes sonidos de la naturaleza\, música e instrumentos. \nEs una experiencia única\, dura alrededor de dos horas y tiene un costo de 15.000gs. por persona. \nPara mas comodidad pueden traer una pequeña colchoneta o almohada. \nInscripciones a través del 0983307150 \nMas Informaciones sobre terapia Sonora en: Instagram: yaku_terapiasonora \n 
URL:https://www.icpa-gz.org.py/evento/encuentro-con-el-sonido/
LOCATION:Instituto Cultural Paraguayo-Alemán – Goethe-Zentrum | ICPA-GZ\, Juan de Salazar 310 c/ Artigas_\, Asuncion\, 3500\, Paraguay
END:VEVENT
BEGIN:VEVENT
DTSTART;TZID=America/Sao_Paulo:20210606T080000
DTEND;TZID=America/Sao_Paulo:20210626T170000
DTSTAMP:20260424T041718
CREATED:20210608T030118Z
LAST-MODIFIED:20210609T144131Z
UID:1759-1622966400-1624726800@www.icpa-gz.org.py
SUMMARY:ARTE AL PARQUE
DESCRIPTION:Convocatoria de acción cultural para el Parque Caballero \nEl Cluster EUNIC Asunción convoca a actividades y proyectos artísticos y culturales que promuevan la dinamización social dentro del Parque Bernardino Caballero. Se busca actividades para todas las edades\, lúdicas y/o recreativas que inviten a toda la comunidad a apropiarse de su uso y generen un vínculo positivo con este espacio público. \nObjetivos de la convocatoria \nGeneral \nFomentar la recuperación del tejido y la dinamización social en el Parque Caballero a través del arte y la cultura. \nEspecíficos \n\n\nOfrecer actividades culturales gratuitas en el Parque Caballero.  \n\n\nLlevar acción cultural a las comunidades aledañas al parque.  \n\n\nPromover la realización de estas actividades al aire libre\, en el marco del contexto actual.  \n\n\nApoyar en la revitalización del Parque Caballero.  \n\n\nIncentivar a que la ciudadanía utilice y se apropie de este espacio público.  \n\n\nDemostrar la importancia de este espacio público para la ciudad.  \n\n\nLa convocatoria \nSe tendrán en especial consideración aquellas actividades o proyectos que trabajen en temas como la memoria histórica del parque\, sostenibilidad y medio ambiente\, niñez y adolescencia\, género\, inclusión\, utilización del idioma guaraní\, diversidad cultural entre otros. \nSe podrán postular actividades y/o proyectos de intervención\, espectáculo o formativas en teatro\, danza\, música\, circo\, artes visuales\, recorridos turísticos informativos\, recreativos lúdicos\, entre otros. Las actividades deberán ser pensadas para el parque\, para todas las edades en lo posible\, en horario diurno y sean de fácil ejecución. \nLa fecha de la presentación de proyectos es del 2 de junio al 26 de junio de 2021. \nRequisitos  \n\nSubir un documento en formato word o pdf que contenga los siguientes datos:\n\nDatos del proponente: Nombre y apellido\, nombre del grupo o compañía\, documento de identidad\, número teléfonico\, correo electrónico.\nActividad o proyecto: Nombre\, descripción\, objetivos\, público foco\, jornadas sugeridas\, presupuesto detallado.\nAnexos: Información sobre grupo o artista\, dossier\, etc.\n\n\nSubir el documento y completar el formulario online aquí: https://forms.gle/EMNgsrsUy26X7Vbq5\n\n  \n \nSobre EUNIC \nEl Cluster EUNIC es una red conformada por la Alianza Francesa de Asunción\, el Centro Cultural de España Juan de Salazar\, La Embajada de Italia y el Instituto Cultural Paraguayo Alemán Goethe-Zentrum. Busca generar actividades artísticas y culturales con enfoque de cooperación y desarrollo\, promoviendo el intercambio cultural entre Paraguay y las naciones que lo conforman. Actualmente está enfocado\, junto con otros actores\, en el proyecto de revitalización del Parque Bernardino Caballero. \nPara consultas sobre la convocatoria \nConsultar con Silvia Villalba al 0974599926 y al correo silvia.villalba@aecid.es
URL:https://www.icpa-gz.org.py/evento/arte-al-parque/
LOCATION:Instituto Cultural Paraguayo-Alemán – Goethe-Zentrum | ICPA-GZ\, Juan de Salazar 310 c/ Artigas_\, Asuncion\, 3500\, Paraguay
ATTACH;FMTTYPE=image/jpeg:https://www.icpa-gz.org.py/wp-content/uploads/2021/06/arte-en-el-parque-banner.jpg
END:VEVENT
BEGIN:VEVENT
DTSTART;TZID=America/Sao_Paulo:20210606T080000
DTEND;TZID=America/Sao_Paulo:20210730T170000
DTSTAMP:20260424T041718
CREATED:20210608T014326Z
LAST-MODIFIED:20210722T163658Z
UID:1744-1622966400-1627664400@www.icpa-gz.org.py
SUMMARY:¡CONVERTITE EN INFLUENCER PARA EL CAMBIO ECOLÓGICO!
DESCRIPTION:¿Sos parte de la solución a la crisis medioambiental global? \n¿Te importa el medio ambiente? ¿Te cansa que se haga tan poco para resolver la crisis climática? ¿Buscás ideas y formas de expresión positivas para convencer a la gente de un estilo de vida sostenible? ¿Querés combinar el compromiso medioambiental y el activismo en las redes sociales? \nSi respondiste todas estas preguntas con un “sí” y tenés entre 18 y 25 años: ¡esta es tu oportunidad! \n  \nPresentá tu solicitud para el proyecto “¡Convertite en influencer para el cambio ecológico!” \nA partir de septiembre de 2021\, el Goethe-Institut pondrá en marcha el proyecto “¡Convertite en influencer para el cambio ecológico!”\, en colaboración con la Green European Foundation y otras organizaciones. \nParalelamente\, más de un centenar de activistas por la ecología de Alemania\, España\, Francia\, Italia\, Argentina\, Bolivia y Paraguay se formarán en talleres digitales descentralizados. \nEn una combinación de aportes de expertos\, ejercicios en grupo y desarrollo de ideas individuales\, se entrenarán formas innovadoras de comunicación. Algunas presentaciones están en inglés y español con traducción simultánea. Los talleres descentralizados se celebrarán en la lengua nacional correspondiente. \nTras la finalización de los talleres descentralizados en febrero de 2022\, se elegirán dos personas de cada país que viajarán a Barcelona para participar en el taller central a finales de abril. Y\, a continuación\, a principios de mayo\, asistirán a la conferencia internacional sobre la sociedad digital re:publica en Berlín. \n  \n¿Quién puede participar? \nBuscamos activistas medioambientales de entre 18 y 25 años que quieran mejorar sus habilidades comunicativas en el ámbito audiovisual. \n\nQue quieran aprender cómo contar historias de forma emocionante e impactante.\nQue quieran saber cómo diseñar posts o videos en las redes sociales para captar nuevas audiencias.\nQue quieran formar parte de una red vibrante y dinámica de activistas medioambientales y de los medios de comunicación de siete países de Europa y Sudamérica.\n\nSi querés formar parte de este proyecto y vivís en alguno de los países mencionados\, presentá tu solicitud en el ICPA-GZ local antes del 31 de julio de 2021. \nPara participar podés postularte escribiendo a ECOinfluencers-paraguay@icpa-gz.org.py \nVIDEO: ¡CONVERTITE EN INFLUENCER PARA EL CAMBIO ECOLÓGICO! \nFORMULARIO DE INSCRIPCIÓN
URL:https://www.icpa-gz.org.py/evento/convertite-en-influencer-para-el-cambio-ecologico/
LOCATION:Instituto Cultural Paraguayo-Alemán – Goethe-Zentrum | ICPA-GZ\, Juan de Salazar 310 c/ Artigas_\, Asuncion\, 3500\, Paraguay
ATTACH;FMTTYPE=image/jpeg:https://www.icpa-gz.org.py/wp-content/uploads/2021/06/graphik-landingpage-tobias-schrank-formatkey-jpg-w983.jpg
END:VEVENT
BEGIN:VEVENT
DTSTART;TZID=America/Sao_Paulo:20210615T180000
DTEND;TZID=America/Sao_Paulo:20210615T230000
DTSTAMP:20260424T041718
CREATED:20210611T150052Z
LAST-MODIFIED:20210611T150052Z
UID:1803-1623780000-1623798000@www.icpa-gz.org.py
SUMMARY:Goethe on Demand: la plataforma de streaming del Goethe-Institut: LOST IN FACE
DESCRIPTION:Tras reservar el film en ese horario\, tiene 48 horas para su visualización. \nValentin Riedl\, 2020\, 81 min.\nGuion: Valentin Riedl\, Frédéric Schuld\nProducción: Corso Film\, FilmStahl\nFotografía: Doro Goetz\nDirección Animación: Frédéric Schuld\nEdición: Ivan Morales jr.\nProductores: Erik Winker\, Martin Roelly\nVer la Película: \nGoethe on Demand — Argentinien\, Paraguay\, Uruguay – Lost in Face (goethe-on-demand.de) \nCarlotta es una encantadora mujer de 50 años que no se reconoce en el espejo\, porque nunca ha sido capaz de retener ningún rostro humano. Padece desde su nacimiento un grado extremo de prosopagnosia o “ceguera facial”\, un trastorno que afecta a un 1% de la población mundial y que impide al paciente recordar caras\, pues el cerebro es incapaz de interpretar la información que recibe de los ojos. ¿Cómo se vive de este modo\, descubriendose cada mañana de nuevo en el espejo? \nEn este original documental\, el director Valentin Riedl y su equipo de neurocientíficos nos proponen descubrir el universo de Carlotta\, intentando traducir su percepción y perspectiva del mundo con un creativo proceso que combina sus autorretratos\, sus anotaciones en su diario de sueños y algunas impresiones poéticas procedentes de la esfera científica. Un verdadero hallazgo. Su incesante búsqueda de respuestas la conducirá hasta el arte\, hasta su propia cara y de regreso a la humanidad. \nLOST IN FACE – 20° Festival de Cine Alemán – YouTube \nCRÍTICAS Y RECOMENDACIONES\n“Una de nuestras preferidas en el Festival\, por el personaje\, por la originalidad de su propia afección\, por la delicadeza con que la trata Reidl\, como médico y como cineasta\, por la magistral interpretación de sus sueños en la animación de Schuld… Riedl se acerca a Carlotta más que nadie lo haya hecho nunca. Y lo hace con respeto\, intuyendo en esa mujer huidiza la capacidad de crear\, en su humilde casa rural\, un espacio para descubrirla a través de sus producciones\, realizadas sistemáticamente y catalogadas en un archivo del que muestra apenas una punta\, pero que sugiere un universo interior riquísimo.”\n(Liliana Sáez en El espectador imaginario)\nDIRECTOR: VALENTIN RIEDL \n \n© Valentin RiedlMédico y neurocientífico abocado al estudio de la complejidad del cerebro humano. Sus esfuerzos por combinar la ciencia pura con la forma artística cinematográfica lo hicieron merecedor del Premio “Jóvenes Talentos 2016” de la Fundación Sparkassen\, a recomendación de Wim Wenders. Riedl estudió Medicina en Alemania\, Francia y Polonia. En 2009\, obtuvo el título de Doctor en Medicina por la Universidad Técnica de Múnich (TUM). En 2012\, se doctoró en Neurociencia de Sistemas en la Universidad Ludwig Maximilian (LMU). Para Riedl\, su labor cinematográfica es un desvío que le permite escapar de la abstracción de los datos científicos para internarse en un campo en el que todo es posible. \n 
URL:https://www.icpa-gz.org.py/evento/goethe-on-demand-la-plataforma-de-streaming-del-goethe-institut-lost-in-face/
ATTACH;FMTTYPE=image/jpeg:https://www.icpa-gz.org.py/wp-content/uploads/2021/06/lost-in-face.jpg
END:VEVENT
BEGIN:VEVENT
DTSTART;TZID=America/Sao_Paulo:20210619T150000
DTEND;TZID=America/Sao_Paulo:20210619T170000
DTSTAMP:20260424T041718
CREATED:20210611T150910Z
LAST-MODIFIED:20210617T205334Z
UID:1808-1624114800-1624122000@www.icpa-gz.org.py
SUMMARY:Haus-Kino: CINEASTAS EN DIÁLOGO
DESCRIPTION:Nora Fingscheidt y Valentin Riedl en diálogo con Diego Brodersen \nTe invitamos a participar del diálogo con la realizadora y el realizador de las películas de junio\, Rompeestructuras y Lost in Face. Al finalizar la charla moderada por Diego Brodersen\, el público tendrá la oportunidad de formular sus propias preguntas. \nSábado 19 de junio\nArgentina 16 h / Paraguay 15 h\nCon traducción simultánea.\nEvento por Zoom\, con inscripción previa. \nInscripciones: \nINSCRIPCIÓN (google.com) \nNora Fingscheidt \nCreció en Alemania y Argentina. A partir de 2003 participó en Berlín de la creación de la escuela autogestionada de cine filmArche e.V. Se formó como entrenadora de actores con Sigrid Andersson y estudió dirección escénica en la Academia de Cine de Baden-Wurtemberg. Fingscheidt trabaja tanto el género documental como ficción. Su película de graduación\, el documental Ohne diese Welt (Sin este mundo)\, filmado en Argentina\, fue galardonada con el Premio Max-Ophüls y el First Step Award. Su primer largometraje ficcional Systemsprenger tuvo su estreno mundial en 2019 en la Competencia Internacional del 69° Festival Internacional de Cine de Berlín y cosechó un gran numero de premios nacionales e internacionales. \nValentin Riedl \nMédico y neurocientífico abocado al estudio de la complejidad del cerebro humano. Sus esfuerzos por combinar la ciencia pura con la forma artística cinematográfica lo hicieron merecedor del Premio “Jóvenes Talentos 2016” de la Fundación Sparkassen\, a recomendación de Wim Wenders. Riedl estudió Medicina en Alemania\, Francia y Polonia. En 2012\, se doctoró en Neurociencia de Sistemas en la Universidad Ludwig Maximilian (LMU). Lost in face es el primer largometraje de Riedl. Para él\, su labor cinematográfica le permite escapar de la abstracción de los datos científicos para internarse en un campo en el que todo es posible. \nDiego Brodersen \n\nDiego Brodersen\, Crítico de cine\, programador y docente. Director de Programación de la Sala Leopoldo Lugones del Teatro San Martín. Escribe en la sección Cultura y Espectáculos y en el suplemento Radar del diario Página/12. Colabora en la revista Rolling Stone\, entre otros medios nacionales e internacionales. Ha dictado cursos de Historia del Cine en diversas instituciones.
URL:https://www.icpa-gz.org.py/evento/haus-kino-cineastas-en-dialogo/
ATTACH;FMTTYPE=image/png:https://www.icpa-gz.org.py/wp-content/uploads/2021/06/imagen_2021-06-17_154823.png
END:VEVENT
END:VCALENDAR