BEGIN:VCALENDAR
VERSION:2.0
PRODID:-//Instituto Cultural Paraguayo Alemán – Goethe-Zentrum - ECPv6.15.20//NONSGML v1.0//EN
CALSCALE:GREGORIAN
METHOD:PUBLISH
X-WR-CALNAME:Instituto Cultural Paraguayo Alemán – Goethe-Zentrum
X-ORIGINAL-URL:https://www.icpa-gz.org.py
X-WR-CALDESC:Eventos para Instituto Cultural Paraguayo Alemán – Goethe-Zentrum
REFRESH-INTERVAL;VALUE=DURATION:PT1H
X-Robots-Tag:noindex
X-PUBLISHED-TTL:PT1H
BEGIN:VTIMEZONE
TZID:America/Asuncion
BEGIN:STANDARD
TZOFFSETFROM:-0300
TZOFFSETTO:-0300
TZNAME:-03
DTSTART:20250101T000000
END:STANDARD
END:VTIMEZONE
BEGIN:VEVENT
DTSTART;TZID=America/Asuncion:20260428T150000
DTEND;TZID=America/Asuncion:20260428T180000
DTSTAMP:20260423T155353
CREATED:20260331T202346Z
LAST-MODIFIED:20260331T202346Z
UID:61045-1777388400-1777399200@www.icpa-gz.org.py
SUMMARY:Taller de Dibujo y Pintura | Gabriel Brizuela Santomé 7/7
DESCRIPTION:Dirigidos por el experimentado artista plástico Gabriel Brizuela Santomé (@gbsantome) los participantes hacen un recorrido por diversas técnicas como grafito\, pastel\, acuarela\, óleo pastel\, tinta\, mixtas y otras; a elección del estudiante\, al igual que los temas a desarrollar\, que van de la figura humana fundamentalmente a otros\, como bodegones\, naturaleza\, etc. En niveles de representación tanto figurativos como abstractos. \nGabriel Brizuela Santomé tiene un centenar de exposiciones realizadas en Paraguay y el exterior\, varias en representación de nuestro país en Brasil\, Argentina\, Uruguay\, España\, Portugal\, Italia\, USA\, en Bienales\, festivales\, concursos\, etc. Más de 20 premios nacionales e internacionales\, como también es mencionado en una veintena de libros de arte y publicidad de nuestro medio y el exterior Es fundador del MAD\, Museo de Arte Digital\, el primer portal de artes visuales de Paraguay y América\, de la primera facultad de diseño gráfico\, UCA\, en nuestro país\, el Círculo de Creativos del Paraguay\, el colectivo de acuarela Medium Aquae\, el Salón Anual de Acuarela y es Líder de Paraguay para IWS\, International Watercolor Society. \nLos talleres de desarrollan en éstos horarios: \nMartes de 15:00 hs. a 18:00 hs.\nSábados que son de 09:00 hs. a 12:00 hs. \nMás información: \n\nContacto telefónico del ICPA-GZ | (021) 22 44 55\nMensaje vía WhatsApp | +595 983 307 150 
URL:https://www.icpa-gz.org.py/evento/taller-de-dibujo-y-pintura-gabriel-brizuela-santome-7-7/
LOCATION:Biblioteca Ulrich Schmidl del Instituto Cultural Paraguayo-Alemán – Goethe-Zentrum | ICPA-GZ\, Juan de Salazar 310 c/ Artigas_\, Asuncion\, Distrito Capital\, Paraguay
CATEGORIES:Arte,Cultura,Evento presencial,Taller
ATTACH;FMTTYPE=image/jpeg:https://www.icpa-gz.org.py/wp-content/uploads/2026/03/WhatsApp-Image-2025-04-30-at-07.05.50.jpeg
END:VEVENT
BEGIN:VEVENT
DTSTART;TZID=America/Asuncion:20260428T183000
DTEND;TZID=America/Asuncion:20260428T203000
DTSTAMP:20260423T155353
CREATED:20260331T192623Z
LAST-MODIFIED:20260331T192623Z
UID:60761-1777401000-1777408200@www.icpa-gz.org.py
SUMMARY:Taller ActorStudio para principiantes 4/4
DESCRIPTION:¿Estudias teatro? ¿Sos actor o actriz y querés profundirzar tus conocimientos? Este taller puede ofrecerte nuevas herramientas. El taller será impartido por el director teatral Juan Hannes Bürgin. \nJuan Bürgin es dramaturgo\, director de teatro y docente. Egresado del Conversatorio\, Buenos Aires y el Actors Studio en Los Ángeles. Fundador de la primera Escuela de Teatro en Nuremberg. Ha dictado talleres de teatro en Alemania\, España\, Suiza\, Austria\, Italia\, y Países Bajos. \nInicio: Martes 7 de abril\nTodos los martes\nDe 18:45 a 20:45 Hs.\nGs. 200.000 mensual \nPara más información\, contactanos:\n+59591646689\n+595 983 307 150 | WhatsApp \nInstituto Cultural Paraguayo-Alemán – Goethe-Zentrum\nJuan de Salazar 310 esq. Artigas
URL:https://www.icpa-gz.org.py/evento/taller-actorstudio-para-principiantes-4-4/
LOCATION:Instituto Cultural Paraguayo-Alemán – Goethe-Zentrum | ICPA-GZ\, Juan de Salazar 310 c/ Artigas_\, Asuncion\, 3500\, Paraguay
CATEGORIES:apoyado por el ICPA-GZ,Arte,Cultura,Evento presencial,Taller,Teatro
ATTACH;FMTTYPE=image/png:https://www.icpa-gz.org.py/wp-content/uploads/2026/03/ICPA_TeatroEnEspanhol-2026-Feedb.png
ORGANIZER;CN="Juan B%C3%BCrgin | Dramaturgo. Director de teatro. Docente":MAILTO:https://www.instagram.com/hannes_burginteatroactstudio/
END:VEVENT
BEGIN:VEVENT
DTSTART;TZID=America/Asuncion:20260429T170000
DTEND;TZID=America/Asuncion:20260429T190000
DTSTAMP:20260423T155353
CREATED:20260331T195647Z
LAST-MODIFIED:20260331T195731Z
UID:60888-1777482000-1777489200@www.icpa-gz.org.py
SUMMARY:Clases de Guitarra | Diego Guzmán 4/4
DESCRIPTION:Clases de Guitarra en el ICPA-GZ \nAún podés anotarte a las clases de guitarra con el músico Diego Guzmán.\nSi querés aprender\, o si ya sabés y querés seguir practicando\, este espacio es para todos los niveles. \nTodos los miércoles\nDe 17 a 19 Hs.\nInversión: Gs. 250.000 mensual \nPara más información\, contactanos:\n +595 983 307 150 | WhatsApp\n+595 (21) 22 44 55 \nInstituto Cultural Paraguayo-Alemán – Goethe-Zentrum\nJuan de Salazar 310 esq. Artigas
URL:https://www.icpa-gz.org.py/evento/clases-de-guitarra-diego-guzman-4-4-2/
LOCATION:Instituto Cultural Paraguayo-Alemán – Goethe-Zentrum | ICPA-GZ\, Juan de Salazar 310 c/ Artigas_\, Asuncion\, 3500\, Paraguay
CATEGORIES:apoyado por el ICPA-GZ,Arte,Cultura,Evento presencial,Música,Taller
ATTACH;FMTTYPE=image/png:https://www.icpa-gz.org.py/wp-content/uploads/2026/03/CPA_CursoGuitarra-Feed2.png
END:VEVENT
BEGIN:VEVENT
DTSTART;TZID=America/Asuncion:20260429T180000
DTEND;TZID=America/Asuncion:20260429T200000
DTSTAMP:20260423T155353
CREATED:20260410T215909Z
LAST-MODIFIED:20260410T215909Z
UID:61107-1777485600-1777492800@www.icpa-gz.org.py
SUMMARY:“Deutschsprachige Literatur und (ästhetische) Medien – Lese 2/2
DESCRIPTION:“Deutschsprachige Literatur und (ästhetische) Medien – Lese- und Gesprächskreis im ICPA-GZ” #ZwischenDenZeilen #EntreLíneas #Blicke #Vistas\n\n\nEs un espacio para conocer literatura contemporánea\, en lengua alemana. Las jornadas serán semanales\, donde se intercanlarán las lecturas conjuntas\, con trabajos a partir de películas\, series\, noticieros\, etc. Se buscará reflexionar sobre la actualidad alemana.\n\n\n\nTodos los miércoles (Cada 15 días)\nDe 18:00 a 20:00 hs.\nhttps://tny.lv/zwischendenzeilen_blicke\n\n\n\n#ZwischenDenZeilen #EntreLíneas\nLectura conjunta de literatura actual en lengua alemana.\nInicio: Miércoles 15/04\n\n\n\n#Blicke #Vistas\nPerspectivas mediáticas sobre la Alemania actual. Análisis de fragmentos de películas\, series y noticieros.\nInicio: Miércoles 29/04\n\n\n\nMás información +595985133910
URL:https://www.icpa-gz.org.py/evento/deutschsprachige-literatur-und-asthetische-medien-lese-2-2/
LOCATION:Instituto Cultural Paraguayo-Alemán – Goethe-Zentrum | ICPA-GZ\, Juan de Salazar 310 c/ Artigas_\, Asuncion\, 3500\, Paraguay
ATTACH;FMTTYPE=image/png:https://www.icpa-gz.org.py/wp-content/uploads/2026/04/Cursos-post-2.png
ORGANIZER;CN="Instituto Superior de Lenguas %E2%80%93 FFUNA":MAILTO:isl-info@fil.una.py
END:VEVENT
BEGIN:VEVENT
DTSTART;TZID=America/Asuncion:20260430T170000
DTEND;TZID=America/Asuncion:20260430T200000
DTSTAMP:20260423T155353
CREATED:20260331T194428Z
LAST-MODIFIED:20260331T194428Z
UID:60821-1777568400-1777579200@www.icpa-gz.org.py
SUMMARY:Taller de libro infantil ilustrado | Amelí Schneider 4/4
DESCRIPTION:Te invitamos al Taller de Libro Ilustrado\, impartido por Amelí Schneider. Será un espacio para compartir herramientas creativas y vivir la experiencia del libro infantil desde adentro. \nHorario: jueves de 18 a 20 hs\nCosto: Gs. 350.000 mensual \nLugar: ICPA-GZ\nJuan de Salazar 310 esq. Artigas \nInformación e inscripciones en +595981436561
URL:https://www.icpa-gz.org.py/evento/taller-de-libro-infantil-ilustrado-ameli-schneider-4-4-2/
LOCATION:Instituto Cultural Paraguayo-Alemán – Goethe-Zentrum | ICPA-GZ\, Juan de Salazar 310 c/ Artigas_\, Asuncion\, 3500\, Paraguay
CATEGORIES:Arte,Cultura,Evento presencial,Taller
ATTACH;FMTTYPE=image/png:https://www.icpa-gz.org.py/wp-content/uploads/2026/02/Taller-Ameli.png
END:VEVENT
END:VCALENDAR