BEGIN:VCALENDAR
VERSION:2.0
PRODID:-//Instituto Cultural Paraguayo Alemán – Goethe-Zentrum - ECPv6.15.20//NONSGML v1.0//EN
CALSCALE:GREGORIAN
METHOD:PUBLISH
X-ORIGINAL-URL:https://www.icpa-gz.org.py
X-WR-CALDESC:Eventos para Instituto Cultural Paraguayo Alemán – Goethe-Zentrum
REFRESH-INTERVAL;VALUE=DURATION:PT1H
X-Robots-Tag:noindex
X-PUBLISHED-TTL:PT1H
BEGIN:VTIMEZONE
TZID:America/Asuncion
BEGIN:STANDARD
TZOFFSETFROM:-0300
TZOFFSETTO:-0400
TZNAME:-04
DTSTART:20230326T030000
END:STANDARD
BEGIN:DAYLIGHT
TZOFFSETFROM:-0400
TZOFFSETTO:-0300
TZNAME:-03
DTSTART:20231001T040000
END:DAYLIGHT
BEGIN:STANDARD
TZOFFSETFROM:-0300
TZOFFSETTO:-0400
TZNAME:-04
DTSTART:20240324T030000
END:STANDARD
BEGIN:DAYLIGHT
TZOFFSETFROM:-0400
TZOFFSETTO:-0300
TZNAME:-03
DTSTART:20241006T040000
END:DAYLIGHT
BEGIN:STANDARD
TZOFFSETFROM:-0300
TZOFFSETTO:-0300
TZNAME:-03
DTSTART:20241015T030000
END:STANDARD
END:VTIMEZONE
BEGIN:VEVENT
DTSTART;TZID=America/Asuncion:20240125T130000
DTEND;TZID=America/Asuncion:20240125T140000
DTSTAMP:20260424T200700
CREATED:20231025T182145Z
LAST-MODIFIED:20240108T182041Z
UID:15214-1706187600-1706191200@www.icpa-gz.org.py
SUMMARY:Viaje virtual a Alemania | Willkommen in Niedersachsen
DESCRIPTION:Nuestro viaje virtual nos lleva ahora al norte de Alemania\, al Heidekreis y Braunschweig\, en Baja Sajonia. Además de su proximidad a Hamburgo y Hannover\, los brezales en flor en agosto son un atractivo especial de la región. La ingeniería mecánica\, la logística y la industria alimentaria caracterizan la economía del Heidekreis junto con la agricultura. Braunschweig es la sede de la ingeniería mecánica\, los medios de comunicación y la ciencia en el centro de Alemania. \nJunto con los Centro de Bienvenida (Welcome Center) Heidekreis\, la Alianza para la Región de Braunschweig y los Coaches de Bienvenida (Welcome Coaches)\, conocerá la región y su diversidad: \n\nCiudades emblemáticas⁣\nAtractivos naturales y culturales⁣\nEspecialidades gastronómicas⁣\nOportunidades laborales⁣\n\n¡Viaja con nosotros!\nJueves 25 de enero de 2024⁣ | 13:00 horas ⁣\nIdioma | alemán con traducción simultánea al español⁣\nCupo limitado | se asignarán los espacios por orden de registro | Inscripción abierta \n___ \nMás viajes virtuales a\nBremen & Hamburg | Jueves\, 29 de febrero de 2024\, 13:00 horas\nSachsen-Anhalt | Miércoles\, 10 de abril de 2024\, 11:00 horas \n+ Información | Vivir y trabajar en Alemania
URL:https://www.icpa-gz.org.py/evento/recorrido-virtual-por-alemania-willkommen-im-heidekreis-braunschweig/
LOCATION:en línea\, Paraguay
CATEGORIES:Evento digital,Virtuelle Deutschlandreise,Vivir & trabajar en Alemania
ATTACH;FMTTYPE=image/png:https://www.icpa-gz.org.py/wp-content/uploads/2023/10/20.png
END:VEVENT
END:VCALENDAR