BEGIN:VCALENDAR
VERSION:2.0
PRODID:-//Instituto Cultural Paraguayo Alemán – Goethe-Zentrum - ECPv6.15.20//NONSGML v1.0//EN
CALSCALE:GREGORIAN
METHOD:PUBLISH
X-ORIGINAL-URL:https://www.icpa-gz.org.py
X-WR-CALDESC:Eventos para Instituto Cultural Paraguayo Alemán – Goethe-Zentrum
REFRESH-INTERVAL;VALUE=DURATION:PT1H
X-Robots-Tag:noindex
X-PUBLISHED-TTL:PT1H
BEGIN:VTIMEZONE
TZID:America/Asuncion
BEGIN:STANDARD
TZOFFSETFROM:-0300
TZOFFSETTO:-0400
TZNAME:-04
DTSTART:20230326T030000
END:STANDARD
BEGIN:DAYLIGHT
TZOFFSETFROM:-0400
TZOFFSETTO:-0300
TZNAME:-03
DTSTART:20231001T040000
END:DAYLIGHT
BEGIN:STANDARD
TZOFFSETFROM:-0300
TZOFFSETTO:-0400
TZNAME:-04
DTSTART:20240324T030000
END:STANDARD
BEGIN:DAYLIGHT
TZOFFSETFROM:-0400
TZOFFSETTO:-0300
TZNAME:-03
DTSTART:20241006T040000
END:DAYLIGHT
BEGIN:STANDARD
TZOFFSETFROM:-0300
TZOFFSETTO:-0300
TZNAME:-03
DTSTART:20241015T030000
END:STANDARD
END:VTIMEZONE
BEGIN:VEVENT
DTSTART;TZID=America/Asuncion:20240516T110000
DTEND;TZID=America/Asuncion:20240516T120000
DTSTAMP:20260425T075930
CREATED:20240208T195609Z
LAST-MODIFIED:20240508T160632Z
UID:26830-1715857200-1715860800@www.icpa-gz.org.py
SUMMARY:Recorrido virtual por Alemania | Willkommen in Rheinland-Pfalz
DESCRIPTION:¿Sabías que en Renania-Palatinado puedes encontrar castillos\, viñedos\, la histórica Universidad de Gutenberg y la ciudad más antigua de Alemania? La gira virtual por Alemania continúa el 16 de mayo de 2024 en el suroeste de Alemania. Acompáñanos a las 11 horas para descubrir junto con la Cámara de Industria y Comercio y los Coaches de Bienvenida del Goethe-Institut\, la historia\, la cultura y las oportunidades profesionales de la diversa industria de Renania-Palatinado! \n¡Viajá con nosotros!\nJueves 16 de mayo de 2024⁣ | 11:00 horas ⁣\nIdioma | alemán con traducción simultánea al español⁣\nCupo limitado | se asignarán los espacios por orden de registro | Inscripción abierta \n  \n+ Información | Vivir y trabajar en Alemania
URL:https://www.icpa-gz.org.py/evento/viaje-virtual-a-alemania-willkommen-in-rheinland-pfalz/
LOCATION:en línea\, Paraguay
CATEGORIES:Evento digital,Virtuelle Deutschlandreise,Vivir & trabajar en Alemania
ATTACH;FMTTYPE=image/png:https://www.icpa-gz.org.py/wp-content/uploads/2024/05/virtuelle-deutschlandreise-2.png
END:VEVENT
END:VCALENDAR