BEGIN:VCALENDAR
VERSION:2.0
PRODID:-//Instituto Cultural Paraguayo Alemán – Goethe-Zentrum - ECPv6.15.20//NONSGML v1.0//EN
CALSCALE:GREGORIAN
METHOD:PUBLISH
X-WR-CALNAME:Instituto Cultural Paraguayo Alemán – Goethe-Zentrum
X-ORIGINAL-URL:https://www.icpa-gz.org.py
X-WR-CALDESC:Eventos para Instituto Cultural Paraguayo Alemán – Goethe-Zentrum
REFRESH-INTERVAL;VALUE=DURATION:PT1H
X-Robots-Tag:noindex
X-PUBLISHED-TTL:PT1H
BEGIN:VTIMEZONE
TZID:America/Asuncion
BEGIN:STANDARD
TZOFFSETFROM:-0300
TZOFFSETTO:-0400
TZNAME:-04
DTSTART:20220327T030000
END:STANDARD
BEGIN:DAYLIGHT
TZOFFSETFROM:-0400
TZOFFSETTO:-0300
TZNAME:-03
DTSTART:20221002T040000
END:DAYLIGHT
BEGIN:STANDARD
TZOFFSETFROM:-0300
TZOFFSETTO:-0400
TZNAME:-04
DTSTART:20230326T030000
END:STANDARD
BEGIN:DAYLIGHT
TZOFFSETFROM:-0400
TZOFFSETTO:-0300
TZNAME:-03
DTSTART:20231001T040000
END:DAYLIGHT
BEGIN:STANDARD
TZOFFSETFROM:-0300
TZOFFSETTO:-0400
TZNAME:-04
DTSTART:20240324T030000
END:STANDARD
BEGIN:DAYLIGHT
TZOFFSETFROM:-0400
TZOFFSETTO:-0300
TZNAME:-03
DTSTART:20241006T040000
END:DAYLIGHT
BEGIN:STANDARD
TZOFFSETFROM:-0300
TZOFFSETTO:-0300
TZNAME:-03
DTSTART:20241015T030000
END:STANDARD
END:VTIMEZONE
BEGIN:VEVENT
DTSTART;TZID=America/Asuncion:20231012T120000
DTEND;TZID=America/Asuncion:20231012T130000
DTSTAMP:20260425T103041
CREATED:20230830T133209Z
LAST-MODIFIED:20230928T190640Z
UID:12297-1697112000-1697115600@www.icpa-gz.org.py
SUMMARY:Recorrido virtual por Alemania | Willkommen in Thüringen
DESCRIPTION:Continuamos el recorrido virtual hacia el centro de Alemania. \n¡Nuestro próximo destino es Thüringen! Comenzamos en Erfurt\, la capital del estado y seguiremos a Jena\, famosa ciudad universitaria. Viajaremos en el tiempo a la época clásica de Weimar con Johann Wolfgang von Goethe y Friedrich Schiller\, así como la famosa escuela de arte Bauhaus. \n¿Sabías que Thüringen es un destino natural? El bosque de Turingia es una extensa área montañosa de más de 1000 kilómetros cuadrados con numerosos senderos para caminar. ¡Este pequeño estado federal tiene mucho que ofrecer! \n\nCiudades y regiones\nNaturaleza\, historia y cultura\nEspecialidades gastronómicas\nOportunidades profesionales y personas de contacto\n\nEl Welcome Center te brindará información sobre cómo integrarte en la vida cultural y laboral de Thüringen. El(la) Willkommenscoach del Goethe-Institut te orientará antes\, durante y después de tu llegada a Thüringen. ¡Viaja con nosotros! \nJueves 12 de octubre de 2023⁣ | 12:00 horas ⁣\nIdioma | alemán con traducción simultánea al español⁣\nCupo limitado | se asignarán los espacios por orden de registro | Inscripción previa \n¡Preparate para el viaje! Sumate a nuestro encuentro virtual⁣ \n+ Información | Vivir y trabajar en Alemania
URL:https://www.icpa-gz.org.py/evento/recorrido-virtual-por-alemania-willkommen-in-thuringen/
LOCATION:en línea\, Paraguay
CATEGORIES:Charla,Evento digital,Virtuelle Deutschlandreise
ATTACH;FMTTYPE=image/png:https://www.icpa-gz.org.py/wp-content/uploads/2023/08/virtuelle-deutschlandreise_Thueringen.png
END:VEVENT
END:VCALENDAR