BEGIN:VCALENDAR
VERSION:2.0
PRODID:-//Instituto Cultural Paraguayo Alemán – Goethe-Zentrum - ECPv6.15.20//NONSGML v1.0//EN
CALSCALE:GREGORIAN
METHOD:PUBLISH
X-WR-CALNAME:Instituto Cultural Paraguayo Alemán – Goethe-Zentrum
X-ORIGINAL-URL:https://www.icpa-gz.org.py
X-WR-CALDESC:Eventos para Instituto Cultural Paraguayo Alemán – Goethe-Zentrum
REFRESH-INTERVAL;VALUE=DURATION:PT1H
X-Robots-Tag:noindex
X-PUBLISHED-TTL:PT1H
BEGIN:VTIMEZONE
TZID:America/Halifax
BEGIN:DAYLIGHT
TZOFFSETFROM:-0400
TZOFFSETTO:-0300
TZNAME:ADT
DTSTART:20220313T060000
END:DAYLIGHT
BEGIN:STANDARD
TZOFFSETFROM:-0300
TZOFFSETTO:-0400
TZNAME:AST
DTSTART:20221106T050000
END:STANDARD
BEGIN:DAYLIGHT
TZOFFSETFROM:-0400
TZOFFSETTO:-0300
TZNAME:ADT
DTSTART:20230312T060000
END:DAYLIGHT
BEGIN:STANDARD
TZOFFSETFROM:-0300
TZOFFSETTO:-0400
TZNAME:AST
DTSTART:20231105T050000
END:STANDARD
BEGIN:DAYLIGHT
TZOFFSETFROM:-0400
TZOFFSETTO:-0300
TZNAME:ADT
DTSTART:20240310T060000
END:DAYLIGHT
BEGIN:STANDARD
TZOFFSETFROM:-0300
TZOFFSETTO:-0400
TZNAME:AST
DTSTART:20241103T050000
END:STANDARD
END:VTIMEZONE
BEGIN:VEVENT
DTSTART;TZID=America/Halifax:20230906T110000
DTEND;TZID=America/Halifax:20230906T130000
DTSTAMP:20260425T192840
CREATED:20230828T194313Z
LAST-MODIFIED:20230830T135504Z
UID:12171-1693998000-1694005200@www.icpa-gz.org.py
SUMMARY:Recorrido virtual por Alemania | Willkommen in Baden-Württemberg
DESCRIPTION:[Virtuelle Deutschlandreise] ¡Te invitamos a un viaje virtual por los 16 estados federales de Alemania! ⁣ \nEn esta serie de 16 encuentros\, Welcome Centers y Willkommenscoaches te brindarán información sobre cómo integrarte en la vida cultural y laboral de cada “Bundesland”. ⁣En el primer encuentro se presentará el estado federal de Baden-Württemberg. ¿Qué te espera en este recorrido? \n\nCiudades emblemáticas⁣\nAtractivos naturales y culturales⁣\nEspecialidades gastronómicas⁣\nOportunidades laborales⁣\n\nMiércoles 6 de septiembre⁣ | 11:00 horas ⁣\nIdioma | alemán con traducción simultánea al español⁣\nCupo limitado | se asignarán los espacios por orden de registro | Inscripción previa \n¡Preparate para el viaje! Sumate a nuestro encuentro virtual⁣ \n+ Información | Vivir y trabajar en Alemania
URL:https://www.icpa-gz.org.py/evento/recorrido-virtual-por-alemania-willkommen-in-baden-wurttemberg/
LOCATION:en línea\, Paraguay
CATEGORIES:Charla,Evento digital,Virtuelle Deutschlandreise
ATTACH;FMTTYPE=image/png:https://www.icpa-gz.org.py/wp-content/uploads/2023/08/2023-09-Virtuelle-Deutschlandreise.png
END:VEVENT
END:VCALENDAR