BEGIN:VCALENDAR
VERSION:2.0
PRODID:-//Instituto Cultural Paraguayo Alemán – Goethe-Zentrum - ECPv6.15.20//NONSGML v1.0//EN
CALSCALE:GREGORIAN
METHOD:PUBLISH
X-WR-CALNAME:Instituto Cultural Paraguayo Alemán – Goethe-Zentrum
X-ORIGINAL-URL:https://www.icpa-gz.org.py
X-WR-CALDESC:Eventos para Instituto Cultural Paraguayo Alemán – Goethe-Zentrum
REFRESH-INTERVAL;VALUE=DURATION:PT1H
X-Robots-Tag:noindex
X-PUBLISHED-TTL:PT1H
BEGIN:VTIMEZONE
TZID:America/Asuncion
BEGIN:STANDARD
TZOFFSETFROM:-0300
TZOFFSETTO:-0400
TZNAME:-04
DTSTART:20240324T030000
END:STANDARD
BEGIN:DAYLIGHT
TZOFFSETFROM:-0400
TZOFFSETTO:-0300
TZNAME:-03
DTSTART:20241006T040000
END:DAYLIGHT
BEGIN:STANDARD
TZOFFSETFROM:-0300
TZOFFSETTO:-0300
TZNAME:-03
DTSTART:20241015T030000
END:STANDARD
END:VTIMEZONE
BEGIN:VEVENT
DTSTART;TZID=America/Asuncion:20251006T200000
DTEND;TZID=America/Asuncion:20251006T220000
DTSTAMP:20260425T105343
CREATED:20250819T204046Z
LAST-MODIFIED:20250819T204046Z
UID:55771-1759780800-1759788000@www.icpa-gz.org.py
SUMMARY:Laboratorio de Videomapping Bauhaus100+ | Daniel Milessi 8/8
DESCRIPTION:Laboratorio de Videomapping por los 100 años de la Bauhaus\n\n\nImpartido por Daniel Milessi\nOrganizado por el Instituto Cultural Paraguayo-Alemán – Goethe-Zentrum\n\n\n\n¿Querés aprender a proyectar sobre arquitectura y crear una obra colectiva de videomapping? Sumate a este laboratorio intensivo donde trabajaremos con imágenes\, memoria\, espacio público y el legado de la Bauhaus a 100 años de su influencia.\n\n\n\nInicio: lunes 18 de agosto\n Horario: 20:00 a 22.00 h\n 8 encuentros semanales (todos los lunes)\n\n\nMuestra final con proyección en espacio público\n\n\n\n\n\nInscripciones cerradas.\n\n\n\nEn el ICPA-GZ | Juan de Salazar 310 esq. Artigas
URL:https://www.icpa-gz.org.py/evento/laboratorio-de-videomapping-bauhaus100-daniel-milessi-8-8/
LOCATION:Instituto Cultural Paraguayo-Alemán – Goethe-Zentrum | ICPA-GZ\, Juan de Salazar 310 c/ Artigas_\, Asuncion\, 3500\, Paraguay
CATEGORIES:apoyado por el ICPA-GZ,Arte,Cultura,Evento presencial,Taller,Videoarte
ATTACH;FMTTYPE=image/jpeg:https://www.icpa-gz.org.py/wp-content/uploads/2025/08/Convocatoria-BAUHAUS-100-1080x1080-1.jpg
END:VEVENT
BEGIN:VEVENT
DTSTART;TZID=America/Asuncion:20251008T200000
DTEND;TZID=America/Asuncion:20251008T210000
DTSTAMP:20260425T105343
CREATED:20250930T210359Z
LAST-MODIFIED:20250930T214837Z
UID:57179-1759953600-1759957200@www.icpa-gz.org.py
SUMMARY:Gesamtkunstwerk Videomapping Bauhaus 100+ | Semana Alemana
DESCRIPTION:Gesamtkunstwerk Videomapping Bauhaus 100+ – \nMuestra de mapping con la participación de artistas locales. \nFecha: Miércoles 8 de octubre 2025\nHorario: 20:00 hs\nLugar: Instituto Cultural Paraguayo-Alemán – Goethe-Zentrum (ICPA-GZ)\nDirección: Juan de Salazar y Espinoza 310 c/Av. Artigas \nPara conocer la programación de la Semana Alemana\, ingresa a este enlace.
URL:https://www.icpa-gz.org.py/evento/gesamtkunstwerk-videomapping-bauhaus-100-semana-alemana/
LOCATION:Instituto Cultural Paraguayo-Alemán – Goethe-Zentrum | ICPA-GZ\, Juan de Salazar 310 c/ Artigas_\, Asuncion\, 3500\, Paraguay
CATEGORIES:apoyado por el ICPA-GZ,Arte,Cultura,Evento presencial,Semana Alemana | Deutsche Woche,Videoarte
ATTACH;FMTTYPE=image/png:https://www.icpa-gz.org.py/wp-content/uploads/2025/09/ICPA_SemanaAlemana_GesamtkunstwerkVideomappingBauhaus-Feed.png
END:VEVENT
END:VCALENDAR