BEGIN:VCALENDAR
VERSION:2.0
PRODID:-//Instituto Cultural Paraguayo Alemán – Goethe-Zentrum - ECPv6.15.20//NONSGML v1.0//EN
CALSCALE:GREGORIAN
METHOD:PUBLISH
X-ORIGINAL-URL:https://www.icpa-gz.org.py
X-WR-CALDESC:Eventos para Instituto Cultural Paraguayo Alemán – Goethe-Zentrum
REFRESH-INTERVAL;VALUE=DURATION:PT1H
X-Robots-Tag:noindex
X-PUBLISHED-TTL:PT1H
BEGIN:VTIMEZONE
TZID:America/Asuncion
BEGIN:STANDARD
TZOFFSETFROM:-0300
TZOFFSETTO:-0400
TZNAME:-04
DTSTART:20240324T030000
END:STANDARD
BEGIN:DAYLIGHT
TZOFFSETFROM:-0400
TZOFFSETTO:-0300
TZNAME:-03
DTSTART:20241006T040000
END:DAYLIGHT
BEGIN:STANDARD
TZOFFSETFROM:-0300
TZOFFSETTO:-0300
TZNAME:-03
DTSTART:20241015T030000
END:STANDARD
END:VTIMEZONE
BEGIN:VEVENT
DTSTART;TZID=America/Asuncion:20251025T200000
DTEND;TZID=America/Asuncion:20251025T210000
DTSTAMP:20260424T214410
CREATED:20251022T204800Z
LAST-MODIFIED:20251022T204800Z
UID:57756-1761422400-1761426000@www.icpa-gz.org.py
SUMMARY:Teatro "El Muro"
DESCRIPTION:Si no pudiste ver esta obra\, tenés una última oportunidad. Te esperamos para ver “Die Mauer” o “El Muro”\, una pieza teatral que surge del taller “Aprender Alemán haciendo Teatro” apoyado por el ICPA-GZ. Rerecrea\, algunos episodios en torno a la división de Berlín tras la Segunda Guerra Mundial\, hasta la reunificación alemana. \nEs una creación colectiva bajo la dirección de Juan Bürgin \, y la asistencia de dirección de Yosué Ayala . Actúan en alemán: Yosué Ayala\, Alejandro Medina\, Samira Villalba\, Leonardo Rivas\, Nadia Lagraña\, Alejandro Dominguez\, Christian Zarza y Claudia Zarate y Lorenzo Giunta. \nSabado 25 de octubre\n20:00 Hs.\nAcceso gratuito \nSalón Rolando Rasmussen\nInstituto Cultural Paraguayo-Alemán – Goethe-Zentrum\nJuan de Salazar 310 esq. Artigas
URL:https://www.icpa-gz.org.py/evento/teatro-el-muro/
LOCATION:Salón Rolando Rasmussen del Instituto Cultural Paraguayo-Alemán – Goethe-Zentrum | ICPA-GZ\, Juan de Salazar 310 c/ Artigas Barrio Ricardo Brugada\, Asunción\, Distrito Capital\, Paraguay
CATEGORIES:apoyado por el ICPA-GZ,Arte,Cultura,Evento presencial,Teatro
ATTACH;FMTTYPE=image/png:https://www.icpa-gz.org.py/wp-content/uploads/2025/10/ICPA_DieMauer-Feed.png
END:VEVENT
END:VCALENDAR