BEGIN:VCALENDAR
VERSION:2.0
PRODID:-//Instituto Cultural Paraguayo Alemán – Goethe-Zentrum - ECPv6.15.20//NONSGML v1.0//EN
CALSCALE:GREGORIAN
METHOD:PUBLISH
X-WR-CALNAME:Instituto Cultural Paraguayo Alemán – Goethe-Zentrum
X-ORIGINAL-URL:https://www.icpa-gz.org.py
X-WR-CALDESC:Eventos para Instituto Cultural Paraguayo Alemán – Goethe-Zentrum
REFRESH-INTERVAL;VALUE=DURATION:PT1H
X-Robots-Tag:noindex
X-PUBLISHED-TTL:PT1H
BEGIN:VTIMEZONE
TZID:America/Asuncion
BEGIN:STANDARD
TZOFFSETFROM:-0300
TZOFFSETTO:-0400
TZNAME:-04
DTSTART:20240324T030000
END:STANDARD
BEGIN:DAYLIGHT
TZOFFSETFROM:-0400
TZOFFSETTO:-0300
TZNAME:-03
DTSTART:20241006T040000
END:DAYLIGHT
BEGIN:STANDARD
TZOFFSETFROM:-0300
TZOFFSETTO:-0300
TZNAME:-03
DTSTART:20241015T030000
END:STANDARD
END:VTIMEZONE
BEGIN:VEVENT
DTSTART;TZID=America/Asuncion:20251012T190000
DTEND;TZID=America/Asuncion:20251012T200000
DTSTAMP:20260424T233747
CREATED:20250930T211726Z
LAST-MODIFIED:20250930T211726Z
UID:57195-1760295600-1760299200@www.icpa-gz.org.py
SUMMARY:Obra de teatro “Die Mauer” | Semana Alemana
DESCRIPTION:Obra de teatro “Die Mauer” (Deutsche Theater-AG) \nRepresentación teatral sobre la historia del Muro de Berlín \nDomingo 12 de octubre 2025\nHorario: 19:00 hs\nLugar: Salón Auditorio del Instituto Cultural Paraguayo-Alemán – Goethe-Zentrum (ICPA-GZ)\nDirección: Juan de Salazar y Espinoza 310 c/ Av. Artigas \nPara conocer la programación de la Semana Alemana 2025\, ingresa a este enlace. 
URL:https://www.icpa-gz.org.py/evento/obra-de-teatro-die-mauer-semana-alemana/
LOCATION:Salón Rolando Rasmussen del Instituto Cultural Paraguayo-Alemán – Goethe-Zentrum | ICPA-GZ\, Juan de Salazar 310 c/ Artigas Barrio Ricardo Brugada\, Asunción\, Distrito Capital\, Paraguay
CATEGORIES:apoyado por el ICPA-GZ,Arte,Cultura,Evento presencial,Semana Alemana | Deutsche Woche,Teatro
ATTACH;FMTTYPE=image/png:https://www.icpa-gz.org.py/wp-content/uploads/2025/09/ICPA_SemanaAlemana_DieMauer-Feed.png
END:VEVENT
END:VCALENDAR