BEGIN:VCALENDAR
VERSION:2.0
PRODID:-//Instituto Cultural Paraguayo Alemán – Goethe-Zentrum - ECPv6.15.20//NONSGML v1.0//EN
CALSCALE:GREGORIAN
METHOD:PUBLISH
X-ORIGINAL-URL:https://www.icpa-gz.org.py
X-WR-CALDESC:Eventos para Instituto Cultural Paraguayo Alemán – Goethe-Zentrum
REFRESH-INTERVAL;VALUE=DURATION:PT1H
X-Robots-Tag:noindex
X-PUBLISHED-TTL:PT1H
BEGIN:VTIMEZONE
TZID:America/Asuncion
BEGIN:STANDARD
TZOFFSETFROM:-0300
TZOFFSETTO:-0400
TZNAME:-04
DTSTART:20240324T030000
END:STANDARD
BEGIN:DAYLIGHT
TZOFFSETFROM:-0400
TZOFFSETTO:-0300
TZNAME:-03
DTSTART:20241006T040000
END:DAYLIGHT
BEGIN:STANDARD
TZOFFSETFROM:-0300
TZOFFSETTO:-0300
TZNAME:-03
DTSTART:20241015T030000
END:STANDARD
END:VTIMEZONE
BEGIN:VEVENT
DTSTART;TZID=America/Asuncion:20251003T150000
DTEND;TZID=America/Asuncion:20251003T200000
DTSTAMP:20260424T195345
CREATED:20250922T213954Z
LAST-MODIFIED:20251010T195208Z
UID:57018-1759503600-1759521600@www.icpa-gz.org.py
SUMMARY:Fiesta de la Unidad Alemana  | Semana Alemana
DESCRIPTION:FIESTA DE LA UNIDAD ALEMANA con actividades para toda la familia. Habrá teatro de títeres\, manualidades\, acrobacia en telas y juegos de mesa. También puedes traer tu remera u otros textiles para llevarte una serigrafía artesanal de recuerdo. Habrá comidas típicas alemanas. \nHorario: 15:00 a 20:00 hs\nLugar: Instituto Cultural Paraguayo Alemán (ICPA) Juan de Salazar y Espinoza 310 c/ Av. Artigas
URL:https://www.icpa-gz.org.py/evento/fiesta-de-la-unidad-alemana-semana-alemana/
LOCATION:Instituto Cultural Paraguayo-Alemán – Goethe-Zentrum | ICPA-GZ\, Juan de Salazar 310 c/ Artigas_\, Asuncion\, 3500\, Paraguay
CATEGORIES:apoyado por el ICPA-GZ,Arte,Cultura,Evento presencial,Semana de Acción Ambiental,Taller,Teatro
ATTACH;FMTTYPE=image/jpeg:https://www.icpa-gz.org.py/wp-content/uploads/2025/09/555913048_1104655091841618_1115963767150039748_n.jpg
END:VEVENT
END:VCALENDAR