BEGIN:VCALENDAR
VERSION:2.0
PRODID:-//Instituto Cultural Paraguayo Alemán – Goethe-Zentrum - ECPv6.15.20//NONSGML v1.0//EN
CALSCALE:GREGORIAN
METHOD:PUBLISH
X-ORIGINAL-URL:https://www.icpa-gz.org.py
X-WR-CALDESC:Eventos para Instituto Cultural Paraguayo Alemán – Goethe-Zentrum
REFRESH-INTERVAL;VALUE=DURATION:PT1H
X-Robots-Tag:noindex
X-PUBLISHED-TTL:PT1H
BEGIN:VTIMEZONE
TZID:America/Asuncion
BEGIN:STANDARD
TZOFFSETFROM:-0300
TZOFFSETTO:-0400
TZNAME:-04
DTSTART:20240324T030000
END:STANDARD
BEGIN:DAYLIGHT
TZOFFSETFROM:-0400
TZOFFSETTO:-0300
TZNAME:-03
DTSTART:20241006T040000
END:DAYLIGHT
BEGIN:STANDARD
TZOFFSETFROM:-0300
TZOFFSETTO:-0300
TZNAME:-03
DTSTART:20241015T030000
END:STANDARD
END:VTIMEZONE
BEGIN:VEVENT
DTSTART;TZID=America/Asuncion:20250623T173000
DTEND;TZID=America/Asuncion:20250623T183000
DTSTAMP:20260425T075757
CREATED:20250605T203653Z
LAST-MODIFIED:20250605T203653Z
UID:53960-1750699800-1750703400@www.icpa-gz.org.py
SUMMARY:Taller de Teatro en Alemán | Juan Bürgin 4/5
DESCRIPTION:APRENDÉ ALEMÁN CON TEATRO\nPara quienes están empezando sus clases de alemán\, como para quienes quieren iniciar el estudio de esté idioma\, se habilita un taller donde podrás hacerlo de una manera lúdica y divertida.\n\n\n\nFecha: Todos los lunes\nHorario: 17:30 a 18:30 Hs.\nCosto: ¡Gratis!\n\n\n\nJuan Bürgin\nDramaturgo. Director de teatro. Docente\n\n\n\nEgresado del Conversatorio\, Buenos Aires | Actors Studio\, Los Angeles | Fundador de la primera Escuela de Teatro\, Nuremberg | Talleres de teatro en Alemania\, España\, Suiza\, Austria\, Italia\, Países Bajos. \n\n\nMás información en:\n@hannes_burginteatroactstudio / Instagram\n tel. +54 11 27 403 539
URL:https://www.icpa-gz.org.py/evento/taller-de-teatro-en-aleman-juan-burgin-4-5/
LOCATION:Salón Rolando Rasmussen del Instituto Cultural Paraguayo-Alemán – Goethe-Zentrum | ICPA-GZ\, Juan de Salazar 310 c/ Artigas Barrio Ricardo Brugada\, Asunción\, Distrito Capital\, Paraguay
CATEGORIES:apoyado por el ICPA-GZ,Arte,Cultura,Evento presencial,Taller,Teatro
ATTACH;FMTTYPE=image/jpeg:https://www.icpa-gz.org.py/wp-content/uploads/2025/03/WhatsApp-Image-2025-03-22-at-11.27.15.jpeg
ORGANIZER;CN="Juan B%C3%BCrgin | Dramaturgo. Director de teatro. Docente":MAILTO:https://www.instagram.com/hannes_burginteatroactstudio/
END:VEVENT
BEGIN:VEVENT
DTSTART;TZID=America/Asuncion:20250623T183000
DTEND;TZID=America/Asuncion:20250623T203000
DTSTAMP:20260425T075757
CREATED:20250605T205512Z
LAST-MODIFIED:20250605T205512Z
UID:54035-1750703400-1750710600@www.icpa-gz.org.py
SUMMARY:Taller de Teatro | Juan Bürgin 4/5
DESCRIPTION:Este taller es tanto para personas que quieran iniciarse en el mundo de la actuación\, como para quienes quiera seguir desarrolando sus herramientas en este arte.\n\n\n\nFecha: Todos los lunes desde el 7 de abril\nHorario: 18:30 a 20:30 Hs.\nCosto: gs. 250.000\n\n\n\nJuan Bürgin\nDramaturgo. Director de teatro. Docente\n\n\n\nEgresado del Conversatorio\, Buenos Aires | Actors Studio\, Los Angeles | Fundador de la primera Escuela de Teatro\, Nuremberg | Talleres de teatro en Alemania\, España\, Suiza\, Austria\, Italia\, Países Bajos. \n\n\nMás información en:\n@hannes_burginteatroactstudio / Instagram\n tel. +54 11 27 403 539
URL:https://www.icpa-gz.org.py/evento/taller-de-teatro-juan-burgin-4-5/
LOCATION:Salón Rolando Rasmussen del Instituto Cultural Paraguayo-Alemán – Goethe-Zentrum | ICPA-GZ\, Juan de Salazar 310 c/ Artigas Barrio Ricardo Brugada\, Asunción\, Distrito Capital\, Paraguay
CATEGORIES:apoyado por el ICPA-GZ,Arte,Cultura,Evento presencial,Taller,Teatro
ATTACH;FMTTYPE=image/jpeg:https://www.icpa-gz.org.py/wp-content/uploads/2025/03/WhatsApp-Image-2025-03-22-at-11.27.44.jpeg
ORGANIZER;CN="Juan B%C3%BCrgin | Dramaturgo. Director de teatro. Docente":MAILTO:https://www.instagram.com/hannes_burginteatroactstudio/
END:VEVENT
END:VCALENDAR