BEGIN:VCALENDAR
VERSION:2.0
PRODID:-//Instituto Cultural Paraguayo Alemán – Goethe-Zentrum - ECPv6.15.20//NONSGML v1.0//EN
CALSCALE:GREGORIAN
METHOD:PUBLISH
X-ORIGINAL-URL:https://www.icpa-gz.org.py
X-WR-CALDESC:Eventos para Instituto Cultural Paraguayo Alemán – Goethe-Zentrum
REFRESH-INTERVAL;VALUE=DURATION:PT1H
X-Robots-Tag:noindex
X-PUBLISHED-TTL:PT1H
BEGIN:VTIMEZONE
TZID:America/Asuncion
BEGIN:STANDARD
TZOFFSETFROM:-0300
TZOFFSETTO:-0400
TZNAME:-04
DTSTART:20240324T030000
END:STANDARD
BEGIN:DAYLIGHT
TZOFFSETFROM:-0400
TZOFFSETTO:-0300
TZNAME:-03
DTSTART:20241006T040000
END:DAYLIGHT
BEGIN:STANDARD
TZOFFSETFROM:-0300
TZOFFSETTO:-0300
TZNAME:-03
DTSTART:20241015T030000
END:STANDARD
END:VTIMEZONE
BEGIN:VEVENT
DTSTART;TZID=America/Asuncion:20250620T200000
DTEND;TZID=America/Asuncion:20250620T210000
DTSTAMP:20260425T091708
CREATED:20250620T193245Z
LAST-MODIFIED:20250620T193245Z
UID:54232-1750449600-1750453200@www.icpa-gz.org.py
SUMMARY:Teatro "El Montaplatos" y "Decir sí" | Taller de Teatro del ICPA-GZ
DESCRIPTION:Te esperamos para la presentación de “El Monta Platos” de Harold Pinter y “Decir que sí” de creación colectiva. Se trata de la muestra final del taller de teatro impartido por Juan Hannes Bürgin\, en el Instituto Cultural Paraguayo-Alemán – Goethe-Zentrum.\n\n\n\nSon dos obras cortas del teatro de absurdo contemporaneo. En el caso del “Montaplatos”\, es una pieza escrita por Harold Pinter\, premio novel de literatura inglés.\n\n\n\nLas actuaciones son de Florencia Ramirez\, Cinthia Montaner\, Alejandro Dominguez\, Emilio Caballero y Lulo Rojas. La direccion está a cargo de Juan Hannes Bürgin.\n\n\n\nFecha: Sábado 21 de Junio\nHorario: 20:00 horas\nLa entrada es libre y gratuita\nLugar:  Salón Rolando Rasmussen | Instituto Cultural Paraguayo-Alemán – Goethe-Zentrum\nJuan de Salazar 310 esq. Artigas
URL:https://www.icpa-gz.org.py/evento/teatro-el-montaplatos-y-decir-si-taller-de-teatro-del-icpa-gz/
LOCATION:Salón Rolando Rasmussen del Instituto Cultural Paraguayo-Alemán – Goethe-Zentrum | ICPA-GZ\, Juan de Salazar 310 c/ Artigas Barrio Ricardo Brugada\, Asunción\, Distrito Capital\, Paraguay
CATEGORIES:apoyado por el ICPA-GZ,Arte,Cultura,Evento presencial,Taller,Teatro
ATTACH;FMTTYPE=image/jpeg:https://www.icpa-gz.org.py/wp-content/uploads/2025/06/MontaplatosTeatro.jpeg
ORGANIZER;CN="Juan B%C3%BCrgin | Dramaturgo. Director de teatro. Docente":MAILTO:https://www.instagram.com/hannes_burginteatroactstudio/
END:VEVENT
END:VCALENDAR