BEGIN:VCALENDAR
VERSION:2.0
PRODID:-//Instituto Cultural Paraguayo Alemán – Goethe-Zentrum - ECPv6.15.20//NONSGML v1.0//EN
CALSCALE:GREGORIAN
METHOD:PUBLISH
X-WR-CALNAME:Instituto Cultural Paraguayo Alemán – Goethe-Zentrum
X-ORIGINAL-URL:https://www.icpa-gz.org.py
X-WR-CALDESC:Eventos para Instituto Cultural Paraguayo Alemán – Goethe-Zentrum
REFRESH-INTERVAL;VALUE=DURATION:PT1H
X-Robots-Tag:noindex
X-PUBLISHED-TTL:PT1H
BEGIN:VTIMEZONE
TZID:America/Asuncion
BEGIN:STANDARD
TZOFFSETFROM:-0300
TZOFFSETTO:-0400
TZNAME:-04
DTSTART:20240324T030000
END:STANDARD
BEGIN:DAYLIGHT
TZOFFSETFROM:-0400
TZOFFSETTO:-0300
TZNAME:-03
DTSTART:20241006T040000
END:DAYLIGHT
BEGIN:STANDARD
TZOFFSETFROM:-0300
TZOFFSETTO:-0300
TZNAME:-03
DTSTART:20241015T030000
END:STANDARD
END:VTIMEZONE
BEGIN:VEVENT
DTSTART;TZID=America/Asuncion:20250616T160000
DTEND;TZID=America/Asuncion:20250616T200000
DTSTAMP:20260425T091215
CREATED:20250606T204408Z
LAST-MODIFIED:20250606T204408Z
UID:54183-1750089600-1750104000@www.icpa-gz.org.py
SUMMARY:Audiciones para teatro en alemán | Juan Hannes Bürgin 5/6
DESCRIPTION:El grupo de teatro en alemán del ICPA-GZ está trabajando en una presentación sobre la caída del muro de Berlín. Se busca a personas interesadas en el teatro\, en la historia y que tengan un buen manejo del idioma. La obra será dirigida por Juan Hannes Bürgin. Lunes | De 16 a 20 Hs.Jueves | De 14 a 16 Hs.Instituto Cultural Paraguayo-Alemán – Goethe-ZentrumJuan de Salazar 310 esquina ArtigasMás información en:+541127403539
URL:https://www.icpa-gz.org.py/evento/audiciones-para-teatro-en-aleman-juan-hannes-burgin-5-6/
LOCATION:Salón Rolando Rasmussen del Instituto Cultural Paraguayo-Alemán – Goethe-Zentrum | ICPA-GZ\, Juan de Salazar 310 c/ Artigas Barrio Ricardo Brugada\, Asunción\, Distrito Capital\, Paraguay
CATEGORIES:apoyado por el ICPA-GZ,Arte,Cultura,Evento presencial,Teatro
ATTACH;FMTTYPE=image/png:https://www.icpa-gz.org.py/wp-content/uploads/2025/06/CASTING-2.png
ORGANIZER;CN="Juan B%C3%BCrgin | Dramaturgo. Director de teatro. Docente":MAILTO:https://www.instagram.com/hannes_burginteatroactstudio/
END:VEVENT
BEGIN:VEVENT
DTSTART;TZID=America/Asuncion:20250616T173000
DTEND;TZID=America/Asuncion:20250616T183000
DTSTAMP:20260425T091215
CREATED:20250605T203518Z
LAST-MODIFIED:20250605T203518Z
UID:53945-1750095000-1750098600@www.icpa-gz.org.py
SUMMARY:Taller de Teatro en Alemán | Juan Bürgin 3/5
DESCRIPTION:APRENDÉ ALEMÁN CON TEATRO\nPara quienes están empezando sus clases de alemán\, como para quienes quieren iniciar el estudio de esté idioma\, se habilita un taller donde podrás hacerlo de una manera lúdica y divertida.\n\n\n\nFecha: Todos los lunes\nHorario: 17:30 a 18:30 Hs.\nCosto: ¡Gratis!\n\n\n\nJuan Bürgin\nDramaturgo. Director de teatro. Docente\n\n\n\nEgresado del Conversatorio\, Buenos Aires | Actors Studio\, Los Angeles | Fundador de la primera Escuela de Teatro\, Nuremberg | Talleres de teatro en Alemania\, España\, Suiza\, Austria\, Italia\, Países Bajos. \n\n\nMás información en:\n@hannes_burginteatroactstudio / Instagram\n tel. +54 11 27 403 539
URL:https://www.icpa-gz.org.py/evento/taller-de-teatro-en-aleman-juan-burgin-3-5/
LOCATION:Biblioteca Ulrich Schmidl del Instituto Cultural Paraguayo-Alemán – Goethe-Zentrum | ICPA-GZ\, Juan de Salazar 310 c/ Artigas_\, Asuncion\, Distrito Capital\, Paraguay
CATEGORIES:apoyado por el ICPA-GZ,Arte,Cultura,Evento presencial,Taller,Teatro
ATTACH;FMTTYPE=image/jpeg:https://www.icpa-gz.org.py/wp-content/uploads/2025/03/WhatsApp-Image-2025-03-22-at-11.27.15.jpeg
ORGANIZER;CN="Juan B%C3%BCrgin | Dramaturgo. Director de teatro. Docente":MAILTO:https://www.instagram.com/hannes_burginteatroactstudio/
END:VEVENT
BEGIN:VEVENT
DTSTART;TZID=America/Asuncion:20250616T183000
DTEND;TZID=America/Asuncion:20250616T203000
DTSTAMP:20260425T091215
CREATED:20250605T205334Z
LAST-MODIFIED:20250605T205334Z
UID:54020-1750098600-1750105800@www.icpa-gz.org.py
SUMMARY:Taller de Teatro | Juan Bürgin 3/5
DESCRIPTION:Este taller es tanto para personas que quieran iniciarse en el mundo de la actuación\, como para quienes quiera seguir desarrolando sus herramientas en este arte.\n\n\n\nFecha: Todos los lunes desde el 7 de abril\nHorario: 18:30 a 20:30 Hs.\nCosto: gs. 250.000\n\n\n\nJuan Bürgin\nDramaturgo. Director de teatro. Docente\n\n\n\nEgresado del Conversatorio\, Buenos Aires | Actors Studio\, Los Angeles | Fundador de la primera Escuela de Teatro\, Nuremberg | Talleres de teatro en Alemania\, España\, Suiza\, Austria\, Italia\, Países Bajos. \n\n\nMás información en:\n@hannes_burginteatroactstudio / Instagram\n tel. +54 11 27 403 539
URL:https://www.icpa-gz.org.py/evento/taller-de-teatro-juan-burgin-3-5/
LOCATION:Salón Rolando Rasmussen del Instituto Cultural Paraguayo-Alemán – Goethe-Zentrum | ICPA-GZ\, Juan de Salazar 310 c/ Artigas Barrio Ricardo Brugada\, Asunción\, Distrito Capital\, Paraguay
CATEGORIES:apoyado por el ICPA-GZ,Arte,Cultura,Evento presencial,Taller,Teatro
ATTACH;FMTTYPE=image/jpeg:https://www.icpa-gz.org.py/wp-content/uploads/2025/03/WhatsApp-Image-2025-03-22-at-11.27.44.jpeg
ORGANIZER;CN="Juan B%C3%BCrgin | Dramaturgo. Director de teatro. Docente":MAILTO:https://www.instagram.com/hannes_burginteatroactstudio/
END:VEVENT
END:VCALENDAR