BEGIN:VCALENDAR
VERSION:2.0
PRODID:-//Instituto Cultural Paraguayo Alemán – Goethe-Zentrum - ECPv6.15.20//NONSGML v1.0//EN
CALSCALE:GREGORIAN
METHOD:PUBLISH
X-ORIGINAL-URL:https://www.icpa-gz.org.py
X-WR-CALDESC:Eventos para Instituto Cultural Paraguayo Alemán – Goethe-Zentrum
REFRESH-INTERVAL;VALUE=DURATION:PT1H
X-Robots-Tag:noindex
X-PUBLISHED-TTL:PT1H
BEGIN:VTIMEZONE
TZID:America/Asuncion
BEGIN:STANDARD
TZOFFSETFROM:-0300
TZOFFSETTO:-0400
TZNAME:-04
DTSTART:20240324T030000
END:STANDARD
BEGIN:DAYLIGHT
TZOFFSETFROM:-0400
TZOFFSETTO:-0300
TZNAME:-03
DTSTART:20241006T040000
END:DAYLIGHT
BEGIN:STANDARD
TZOFFSETFROM:-0300
TZOFFSETTO:-0300
TZNAME:-03
DTSTART:20241015T030000
END:STANDARD
END:VTIMEZONE
BEGIN:VEVENT
DTSTART;TZID=America/Asuncion:20250612T140000
DTEND;TZID=America/Asuncion:20250612T160000
DTSTAMP:20260425T075747
CREATED:20250606T203208Z
LAST-MODIFIED:20250606T203815Z
UID:54162-1749736800-1749744000@www.icpa-gz.org.py
SUMMARY:Audiciones para teatro en alemán | Juan Hannes Bürgin 4/6
DESCRIPTION:El grupo de teatro en alemán del ICPA-GZ está trabajando en una presentación sobre la caída del muro de Berlín. Se busca a personas interesadas en el teatro\, en la historia y que tengan un buen manejo del idioma. La obra será dirigida por Juan Hannes Bürgin. Lunes | De 16 a 20 Hs.Jueves | De 14 a 16 Hs.Instituto Cultural Paraguayo-Alemán – Goethe-ZentrumJuan de Salazar 310 esquina ArtigasMás información en:+541127403539
URL:https://www.icpa-gz.org.py/evento/audiciones-para-teatro-en-aleman-juan-hannes-burgin-4-6/
LOCATION:Salón Rolando Rasmussen del Instituto Cultural Paraguayo-Alemán – Goethe-Zentrum | ICPA-GZ\, Juan de Salazar 310 c/ Artigas Barrio Ricardo Brugada\, Asunción\, Distrito Capital\, Paraguay
CATEGORIES:apoyado por el ICPA-GZ,Arte,Cultura,Evento presencial,Teatro
ATTACH;FMTTYPE=image/png:https://www.icpa-gz.org.py/wp-content/uploads/2025/06/CASTING-2.png
ORGANIZER;CN="Juan B%C3%BCrgin | Dramaturgo. Director de teatro. Docente":MAILTO:https://www.instagram.com/hannes_burginteatroactstudio/
END:VEVENT
END:VCALENDAR