BEGIN:VCALENDAR
VERSION:2.0
PRODID:-//Instituto Cultural Paraguayo Alemán – Goethe-Zentrum - ECPv6.15.20//NONSGML v1.0//EN
CALSCALE:GREGORIAN
METHOD:PUBLISH
X-WR-CALNAME:Instituto Cultural Paraguayo Alemán – Goethe-Zentrum
X-ORIGINAL-URL:https://www.icpa-gz.org.py
X-WR-CALDESC:Eventos para Instituto Cultural Paraguayo Alemán – Goethe-Zentrum
REFRESH-INTERVAL;VALUE=DURATION:PT1H
X-Robots-Tag:noindex
X-PUBLISHED-TTL:PT1H
BEGIN:VTIMEZONE
TZID:America/Asuncion
BEGIN:STANDARD
TZOFFSETFROM:-0300
TZOFFSETTO:-0400
TZNAME:-04
DTSTART:20240324T030000
END:STANDARD
BEGIN:DAYLIGHT
TZOFFSETFROM:-0400
TZOFFSETTO:-0300
TZNAME:-03
DTSTART:20241006T040000
END:DAYLIGHT
BEGIN:STANDARD
TZOFFSETFROM:-0300
TZOFFSETTO:-0300
TZNAME:-03
DTSTART:20241015T030000
END:STANDARD
END:VTIMEZONE
BEGIN:VEVENT
DTSTART;TZID=America/Asuncion:20250421T140000
DTEND;TZID=America/Asuncion:20250421T180000
DTSTAMP:20260425T144314
CREATED:20250411T194947Z
LAST-MODIFIED:20250411T195002Z
UID:52461-1745244000-1745258400@www.icpa-gz.org.py
SUMMARY:Taller de Videoperformance 1/2
DESCRIPTION:Sumate a este espacio de entrenamiento de dos jornadas de duración en donde se fusionará el cuerpo\, la acción y el dispositivo a través del análisis de obras y conceptos para abordar en la práctica una composición colectiva de videoperformance.\n\n\n \n\n\nA cargo de Pamela Paredes Osorio\, actriz\, performer y audiovisualista paraguaya. \n\n\n \n\n\nFecha: 21 y 22 de abril – de 14 a 18hs.\n\n\nCupos limitados. Requiere inscripción previa.\n Acceso gratuito.\n\n\nLugar: Ubicación: Instituto Cultural Paraguayo Alemán y Casa Bicentenario del Teatro “Edda de los Ríos”. Asunción\, Paraguay.\n\n\n \n\n\nSi sos artista\, performer\, creador/a audiovisual o te interesa la experimentación corporal y el video\, te invitamos a ser parte de este espacio de formación y creación.\n\n\nLink de inscripción acá\n\n\n \n\n\nCon el apoyo del Fondo Nacional de la Cultura y las Artes (FONDEC)\, Instituto Cultural Paraguayo-Alemán – Goethe-Zentrum (ICPA-GZ)\, Centro Cultural de la República Cabildo\, Casa Bicentenario del Teatro “Edda de los Ríos” y El Ropero News.
URL:https://www.icpa-gz.org.py/evento/taller-de-videoperformance/
LOCATION:Instituto Cultural Paraguayo-Alemán – Goethe-Zentrum | ICPA-GZ\, Juan de Salazar 310 c/ Artigas_\, Asuncion\, 3500\, Paraguay
CATEGORIES:apoyado por el ICPA-GZ,Arte,Cultura,Danza,Taller,Teatro,Videoarte
ATTACH;FMTTYPE=image/jpeg:https://www.icpa-gz.org.py/wp-content/uploads/2025/04/WhatsApp-Image-2025-04-10-at-11.56.14.jpeg
END:VEVENT
BEGIN:VEVENT
DTSTART;TZID=America/Asuncion:20250421T173000
DTEND;TZID=America/Asuncion:20250421T183000
DTSTAMP:20260425T144314
CREATED:20250325T184853Z
LAST-MODIFIED:20250325T184853Z
UID:51960-1745256600-1745260200@www.icpa-gz.org.py
SUMMARY:Taller de Teatro en Alemán | Juan Bürgin 3/4
DESCRIPTION:APRENDÉ ALEMÁN CON TEATRO\nPara quienes están empezando sus clases de alemán\, como para quienes quieren iniciar el estudio de esté idioma\, se habilita un taller donde podrás hacerlo de una manera lúdica y divertida.\n\n\n\nFecha: Todos los lunes desde el 7 de abril\nHorario: 17:30 a 18:30 Hs.\nCosto: ¡Gratis!\n\n\n\nJuan Bürgin\nDramaturgo. Director de teatro. Docente\n\n\n\nEgresado del Conversatorio\, Buenos Aires | Actors Studio\, Los Angeles | Fundador de la primera Escuela de Teatro\, Nuremberg | Talleres de teatro en Alemania\, España\, Suiza\, Austria\, Italia\, Países Bajos. \n\n\nMás información en:\n@hannes_burginteatroactstudio / Instagram\n tel. +54 11 27 403 539
URL:https://www.icpa-gz.org.py/evento/taller-de-teatro-en-aleman-juan-burgin-3-4/
LOCATION:Instituto Cultural Paraguayo-Alemán – Goethe-Zentrum | ICPA-GZ\, Juan de Salazar 310 c/ Artigas_\, Asuncion\, 3500\, Paraguay
CATEGORIES:apoyado por el ICPA-GZ,Arte,Cultura,Taller,Teatro
ATTACH;FMTTYPE=image/jpeg:https://www.icpa-gz.org.py/wp-content/uploads/2025/03/WhatsApp-Image-2025-03-22-at-11.27.15.jpeg
ORGANIZER;CN="Juan B%C3%BCrgin | Dramaturgo. Director de teatro. Docente":MAILTO:https://www.instagram.com/hannes_burginteatroactstudio/
END:VEVENT
BEGIN:VEVENT
DTSTART;TZID=America/Asuncion:20250421T183000
DTEND;TZID=America/Asuncion:20250421T203000
DTSTAMP:20260425T144314
CREATED:20250325T190008Z
LAST-MODIFIED:20250325T190028Z
UID:52021-1745260200-1745267400@www.icpa-gz.org.py
SUMMARY:Taller de Teatro | Juan Bürgin 3/4
DESCRIPTION:En abril comienzan los talleres de teatro en el ICPA-GZ con Juan Hannes Bürgin. Tanto para personas que quieran iniciarse en el mundo de la actuación\, como para quienes quiera seguir desarrolando sus herramientas en este arte.\n\n\n\nFecha: Todos los lunes desde el 7 de abril\nHorario: 18:30 a 20:30 Hs.\nCosto: gs. 250.000\n\n\n\nJuan Bürgin\nDramaturgo. Director de teatro. Docente\n\n\n\nEgresado del Conversatorio\, Buenos Aires | Actors Studio\, Los Angeles | Fundador de la primera Escuela de Teatro\, Nuremberg | Talleres de teatro en Alemania\, España\, Suiza\, Austria\, Italia\, Países Bajos. \n\n\nMás información en:\n@hannes_burginteatroactstudio / Instagram\n tel. +54 11 27 403 539
URL:https://www.icpa-gz.org.py/evento/taller-de-teatro-juan-burgin-3-4/
LOCATION:Instituto Cultural Paraguayo-Alemán – Goethe-Zentrum | ICPA-GZ\, Juan de Salazar 310 c/ Artigas_\, Asuncion\, 3500\, Paraguay
CATEGORIES:Arte,Cultura,Taller,Teatro
ATTACH;FMTTYPE=image/jpeg:https://www.icpa-gz.org.py/wp-content/uploads/2025/03/WhatsApp-Image-2025-03-22-at-11.27.44.jpeg
ORGANIZER;CN="Juan B%C3%BCrgin | Dramaturgo. Director de teatro. Docente":MAILTO:https://www.instagram.com/hannes_burginteatroactstudio/
END:VEVENT
END:VCALENDAR