BEGIN:VCALENDAR
VERSION:2.0
PRODID:-//Instituto Cultural Paraguayo Alemán – Goethe-Zentrum - ECPv6.15.20//NONSGML v1.0//EN
CALSCALE:GREGORIAN
METHOD:PUBLISH
X-ORIGINAL-URL:https://www.icpa-gz.org.py
X-WR-CALDESC:Eventos para Instituto Cultural Paraguayo Alemán – Goethe-Zentrum
REFRESH-INTERVAL;VALUE=DURATION:PT1H
X-Robots-Tag:noindex
X-PUBLISHED-TTL:PT1H
BEGIN:VTIMEZONE
TZID:America/Asuncion
BEGIN:STANDARD
TZOFFSETFROM:-0300
TZOFFSETTO:-0300
TZNAME:-03
DTSTART:20250101T000000
END:STANDARD
END:VTIMEZONE
BEGIN:VEVENT
DTSTART;TZID=America/Asuncion:20260408T170000
DTEND;TZID=America/Asuncion:20260408T190000
DTSTAMP:20260423T212722
CREATED:20260331T194918Z
LAST-MODIFIED:20260331T194918Z
UID:60836-1775667600-1775674800@www.icpa-gz.org.py
SUMMARY:Clases de Guitarra | Diego Guzmán 1/4
DESCRIPTION:Clases de Guitarra en el ICPA-GZ \nAún podés anotarte a las clases de guitarra con el músico Diego Guzmán.\nSi querés aprender\, o si ya sabés y querés seguir practicando\, este espacio es para todos los niveles. \nTodos los miércoles\nDe 17 a 19 Hs.\nInversión: Gs. 250.000 mensual \nPara más información\, contactanos:\n +595 983 307 150 | WhatsApp\n+595 (21) 22 44 55 \nInstituto Cultural Paraguayo-Alemán – Goethe-Zentrum\nJuan de Salazar 310 esq. Artigas
URL:https://www.icpa-gz.org.py/evento/clases-de-guitarra-diego-guzman-1-4/
LOCATION:Instituto Cultural Paraguayo-Alemán – Goethe-Zentrum | ICPA-GZ\, Juan de Salazar 310 c/ Artigas_\, Asuncion\, 3500\, Paraguay
CATEGORIES:apoyado por el ICPA-GZ,Arte,Cultura,Evento presencial,Música,Taller
ATTACH;FMTTYPE=image/png:https://www.icpa-gz.org.py/wp-content/uploads/2026/03/CPA_CursoGuitarra-Feed2.png
END:VEVENT
END:VCALENDAR