BEGIN:VCALENDAR
VERSION:2.0
PRODID:-//Instituto Cultural Paraguayo Alemán – Goethe-Zentrum - ECPv6.15.20//NONSGML v1.0//EN
CALSCALE:GREGORIAN
METHOD:PUBLISH
X-WR-CALNAME:Instituto Cultural Paraguayo Alemán – Goethe-Zentrum
X-ORIGINAL-URL:https://www.icpa-gz.org.py
X-WR-CALDESC:Eventos para Instituto Cultural Paraguayo Alemán – Goethe-Zentrum
REFRESH-INTERVAL;VALUE=DURATION:PT1H
X-Robots-Tag:noindex
X-PUBLISHED-TTL:PT1H
BEGIN:VTIMEZONE
TZID:America/Asuncion
BEGIN:STANDARD
TZOFFSETFROM:-0300
TZOFFSETTO:-0300
TZNAME:-03
DTSTART:20250101T000000
END:STANDARD
END:VTIMEZONE
BEGIN:VEVENT
DTSTART;TZID=America/Asuncion:20260304T150000
DTEND;TZID=America/Asuncion:20260304T180000
DTSTAMP:20260423T174913
CREATED:20260303T214648Z
LAST-MODIFIED:20260303T214720Z
UID:60174-1772636400-1772647200@www.icpa-gz.org.py
SUMMARY:Clases de Guitarra | Diego Guzmán 1/4
DESCRIPTION:Clases de Guitarra en el ICPA-GZ \nAún podés anotarte a las clases de guitarra con el músico Diego Guzmán.\nSi querés aprender\, o si ya sabés y querés seguir practicando\, este espacio es para todos los niveles. \nTodos los miércoles\nDesde las 15 Hs.\nInversión: Gs. 250.000 mensual \nPara más información\, contactanos:\n +595 983 307 150 | WhatsApp\n+595 (21) 22 44 55 \nInstituto Cultural Paraguayo-Alemán – Goethe-Zentrum\nJuan de Salazar 310 esq. Artigas
URL:https://www.icpa-gz.org.py/evento/clases-de-guitarra-diego-guzman/
LOCATION:Instituto Cultural Paraguayo-Alemán – Goethe-Zentrum | ICPA-GZ\, Juan de Salazar 310 c/ Artigas_\, Asuncion\, 3500\, Paraguay
CATEGORIES:Arte,Cultura,Evento presencial,Música,Taller
ATTACH;FMTTYPE=image/png:https://www.icpa-gz.org.py/wp-content/uploads/2026/03/CPA_CursoGuitarra-Feed.png
END:VEVENT
BEGIN:VEVENT
DTSTART;TZID=America/Asuncion:20260311T150000
DTEND;TZID=America/Asuncion:20260311T180000
DTSTAMP:20260423T174913
CREATED:20260303T214848Z
LAST-MODIFIED:20260303T214856Z
UID:60204-1773241200-1773252000@www.icpa-gz.org.py
SUMMARY:Clases de Guitarra | Diego Guzmán 2/4
DESCRIPTION:Clases de Guitarra en el ICPA-GZ \nAún podés anotarte a las clases de guitarra con el músico Diego Guzmán.\nSi querés aprender\, o si ya sabés y querés seguir practicando\, este espacio es para todos los niveles. \nTodos los miércoles\nDesde las 15 Hs.\nInversión: Gs. 250.000 mensual \nPara más información\, contactanos:\n +595 983 307 150 | WhatsApp\n+595 (21) 22 44 55 \nInstituto Cultural Paraguayo-Alemán – Goethe-Zentrum\nJuan de Salazar 310 esq. Artigas
URL:https://www.icpa-gz.org.py/evento/clases-de-guitarra-diego-guzman-2-4/
LOCATION:Instituto Cultural Paraguayo-Alemán – Goethe-Zentrum | ICPA-GZ\, Juan de Salazar 310 c/ Artigas_\, Asuncion\, 3500\, Paraguay
CATEGORIES:Arte,Cultura,Evento presencial,Música,Taller
ATTACH;FMTTYPE=image/png:https://www.icpa-gz.org.py/wp-content/uploads/2026/03/CPA_CursoGuitarra-Feed.png
END:VEVENT
BEGIN:VEVENT
DTSTART;TZID=America/Asuncion:20260318T150000
DTEND;TZID=America/Asuncion:20260318T180000
DTSTAMP:20260423T174913
CREATED:20260303T215113Z
LAST-MODIFIED:20260303T215113Z
UID:60225-1773846000-1773856800@www.icpa-gz.org.py
SUMMARY:Clases de Guitarra | Diego Guzmán 3/4
DESCRIPTION:Clases de Guitarra en el ICPA-GZ \nAún podés anotarte a las clases de guitarra con el músico Diego Guzmán.\nSi querés aprender\, o si ya sabés y querés seguir practicando\, este espacio es para todos los niveles. \nTodos los miércoles\nDesde las 15 Hs.\nInversión: Gs. 250.000 mensual \nPara más información\, contactanos:\n +595 983 307 150 | WhatsApp\n+595 (21) 22 44 55 \nInstituto Cultural Paraguayo-Alemán – Goethe-Zentrum\nJuan de Salazar 310 esq. Artigas
URL:https://www.icpa-gz.org.py/evento/clases-de-guitarra-diego-guzman-3-4/
LOCATION:Instituto Cultural Paraguayo-Alemán – Goethe-Zentrum | ICPA-GZ\, Juan de Salazar 310 c/ Artigas_\, Asuncion\, 3500\, Paraguay
CATEGORIES:Arte,Cultura,Evento presencial,Música,Taller
ATTACH;FMTTYPE=image/png:https://www.icpa-gz.org.py/wp-content/uploads/2026/03/CPA_CursoGuitarra-Feed.png
END:VEVENT
BEGIN:VEVENT
DTSTART;TZID=America/Asuncion:20260318T180000
DTEND;TZID=America/Asuncion:20260318T200000
DTSTAMP:20260423T174913
CREATED:20260312T213343Z
LAST-MODIFIED:20260313T203449Z
UID:60513-1773856800-1773864000@www.icpa-gz.org.py
SUMMARY:Happy Hour con Jeremías
DESCRIPTION:Jeremías\, la exitosa banda alemana de indie-pop\, ofrecerá un espacio de encuentro y happy hour el día 18 de marzo en el Instituto Cultural Paraguayo-Alemán\, de 18 a 20 Hs\, con acceso gratuito. El grupo llega al país con entradas agotadas para sus conciertos. \nJEREMÍAS es una banda alemana de indie-pop fundada en Hannover en 2018\, con un estilo que combina elementos melancólicos y bailables. El grupo está compuesto por cuatro miembros y debe su nombre al vocalista principal\, Jeremias Heimbach. Combinan canciones de amor y desamor con momentos melancólicos y otros más alegres y bailables. \nEl ICPA-GZ y la Embajada Alemana invitan al “Happy Hour con Jeremías”\, el día 18 de marzo a las 18 Hs\, en la sede del instituto (Juan de Salazar 310 esq Artigas). Será un espacio para quienes quieran conocer y compartir un espacio con los músicos alemanes\, acompañados de unos tragos. \nParaguay es una de las paradas de la gira latinoamericana\, que incluye fechas en México\, Colombia\, Argentina y nuestro país. La banda ofrecerá dos fechas de conciertos en La Tarantela (ex JazzCube)\, los días 21 y 22 de marzo. Las entradas para estos shows se agotaron ni bien salieron a la venta por medio de su web. \nPara conocer más a la banda\, se puede visitar su web. También podés ver sus videos en el canal de Youtube de JEREMÍAS.
URL:https://www.icpa-gz.org.py/evento/happy-hour-con-jeremias/
LOCATION:Instituto Cultural Paraguayo-Alemán – Goethe-Zentrum | ICPA-GZ\, Juan de Salazar 310 c/ Artigas_\, Asuncion\, 3500\, Paraguay
CATEGORIES:apoyado por el ICPA-GZ,Arte,Cultura,Embajada de Alemania Asunción,Evento presencial,Música
ATTACH;FMTTYPE=image/png:https://www.icpa-gz.org.py/wp-content/uploads/2026/03/ICPA_ConciertoJeremias-Feed.png
END:VEVENT
BEGIN:VEVENT
DTSTART;TZID=America/Asuncion:20260321T200000
DTEND;TZID=America/Asuncion:20260321T210000
DTSTAMP:20260423T174913
CREATED:20260312T215554Z
LAST-MODIFIED:20260312T215554Z
UID:60535-1774123200-1774126800@www.icpa-gz.org.py
SUMMARY:Concierto de Jeremías 1/2
DESCRIPTION:JEREMÍAS es una banda alemana de indie-pop fundada en Hannover en 2018\, con un estilo que combina elementos melancólicos y bailables. El grupo está compuesto por cuatro miembros y debe su nombre al vocalista principal\, Jeremias Heimbach. Combinan canciones de amor y desamor con momentos melancólicos y otros más alegres y bailables. \nLa banda ofrecerá dos fechas de conciertos en La Tarantela (ex JazzCube)\, los días 21 y 22 de marzo. Las entradas para estos shows se agotaron ni bien salieron a la venta por medio de su web. Paraguay es una de las paradas de la gira latinoamericana\, que incluye fechas en México\, Colombia\, Argentina y nuestro país. \nPara conocer más a la banda\, se puede visitar su web. También podés ver sus videos en el canal de Youtube de JEREMÍAS.
URL:https://www.icpa-gz.org.py/evento/concierto-de-jeremias-1-2/
LOCATION:La Tarantela\, Edificio Atrium\, Guido Spano esq\, Asunción 1411\, Asunción\, Paraguay
CATEGORIES:Arte,Concierto,Cultura,Evento presencial,Música
ATTACH;FMTTYPE=image/jpeg:https://www.icpa-gz.org.py/wp-content/uploads/2026/03/JEREMIAS_Presspic2025_byMalaKolumna-1-scaled.jpg
END:VEVENT
BEGIN:VEVENT
DTSTART;TZID=America/Asuncion:20260322T200000
DTEND;TZID=America/Asuncion:20260322T220000
DTSTAMP:20260423T174913
CREATED:20260312T215735Z
LAST-MODIFIED:20260312T215735Z
UID:60553-1774209600-1774216800@www.icpa-gz.org.py
SUMMARY:Concierto de Jeremías 2/2
DESCRIPTION:JEREMÍAS es una banda alemana de indie-pop fundada en Hannover en 2018\, con un estilo que combina elementos melancólicos y bailables. El grupo está compuesto por cuatro miembros y debe su nombre al vocalista principal\, Jeremias Heimbach. Combinan canciones de amor y desamor con momentos melancólicos y otros más alegres y bailables. \nLa banda ofrecerá dos fechas de conciertos en La Tarantela (ex JazzCube)\, los días 21 y 22 de marzo. Las entradas para estos shows se agotaron ni bien salieron a la venta por medio de su web. Paraguay es una de las paradas de la gira latinoamericana\, que incluye fechas en México\, Colombia\, Argentina y nuestro país. \nPara conocer más a la banda\, se puede visitar su web. También podés ver sus videos en el canal de Youtube de JEREMÍAS.
URL:https://www.icpa-gz.org.py/evento/concierto-de-jeremias-2-2/
LOCATION:La Tarantela\, Edificio Atrium\, Guido Spano esq\, Asunción 1411\, Asunción\, Paraguay
CATEGORIES:Arte,Concierto,Cultura,Evento presencial,Música
ATTACH;FMTTYPE=image/jpeg:https://www.icpa-gz.org.py/wp-content/uploads/2026/03/JEREMIAS_Presspic2025_byMalaKolumna-1-scaled.jpg
END:VEVENT
BEGIN:VEVENT
DTSTART;TZID=America/Asuncion:20260325T150000
DTEND;TZID=America/Asuncion:20260325T180000
DTSTAMP:20260423T174913
CREATED:20260303T215243Z
LAST-MODIFIED:20260303T215243Z
UID:60240-1774450800-1774461600@www.icpa-gz.org.py
SUMMARY:Clases de Guitarra | Diego Guzmán 4/4
DESCRIPTION:Clases de Guitarra en el ICPA-GZ \nAún podés anotarte a las clases de guitarra con el músico Diego Guzmán.\nSi querés aprender\, o si ya sabés y querés seguir practicando\, este espacio es para todos los niveles. \nTodos los miércoles\nDesde las 15 Hs.\nInversión: Gs. 250.000 mensual \nPara más información\, contactanos:\n +595 983 307 150 | WhatsApp\n+595 (21) 22 44 55 \nInstituto Cultural Paraguayo-Alemán – Goethe-Zentrum\nJuan de Salazar 310 esq. Artigas
URL:https://www.icpa-gz.org.py/evento/clases-de-guitarra-diego-guzman-4-4/
LOCATION:Instituto Cultural Paraguayo-Alemán – Goethe-Zentrum | ICPA-GZ\, Juan de Salazar 310 c/ Artigas_\, Asuncion\, 3500\, Paraguay
CATEGORIES:Arte,Cultura,Evento presencial,Música,Taller
ATTACH;FMTTYPE=image/png:https://www.icpa-gz.org.py/wp-content/uploads/2026/03/CPA_CursoGuitarra-Feed.png
END:VEVENT
END:VCALENDAR