BEGIN:VCALENDAR
VERSION:2.0
PRODID:-//Instituto Cultural Paraguayo Alemán – Goethe-Zentrum - ECPv6.15.20//NONSGML v1.0//EN
CALSCALE:GREGORIAN
METHOD:PUBLISH
X-WR-CALNAME:Instituto Cultural Paraguayo Alemán – Goethe-Zentrum
X-ORIGINAL-URL:https://www.icpa-gz.org.py
X-WR-CALDESC:Eventos para Instituto Cultural Paraguayo Alemán – Goethe-Zentrum
REFRESH-INTERVAL;VALUE=DURATION:PT1H
X-Robots-Tag:noindex
X-PUBLISHED-TTL:PT1H
BEGIN:VTIMEZONE
TZID:America/Asuncion
BEGIN:STANDARD
TZOFFSETFROM:-0300
TZOFFSETTO:-0400
TZNAME:-04
DTSTART:20240324T030000
END:STANDARD
BEGIN:DAYLIGHT
TZOFFSETFROM:-0400
TZOFFSETTO:-0300
TZNAME:-03
DTSTART:20241006T040000
END:DAYLIGHT
BEGIN:STANDARD
TZOFFSETFROM:-0300
TZOFFSETTO:-0300
TZNAME:-03
DTSTART:20241015T030000
END:STANDARD
END:VTIMEZONE
BEGIN:VEVENT
DTSTART;TZID=America/Asuncion:20251206T150000
DTEND;TZID=America/Asuncion:20251206T200000
DTSTAMP:20260425T163114
CREATED:20251126T211517Z
LAST-MODIFIED:20251126T212617Z
UID:58569-1765033200-1765051200@www.icpa-gz.org.py
SUMMARY:Mercadillo Navideño del ICPA-GZ
DESCRIPTION:¡Empezamos la cuenta regresiva para nuestro Mercadillo Navideño! \nTe esperamos para difrutar de una tarde de encuentro\, música\, comida y una feria donde podrás comprar todos tus regalos de navidad. Tendremos artesanías\, joyas de autor\, joyas de cerámica\, cuadernos artesanales\, pesbres\, cuadros pintados a mano\, productos de huerta orgánica\, cosmética natural\, cerámica\, ropas tejidas a mano\, amigurimis\, crochet\, comidas dulces y saladas… ¡Y mucho más! \nAdemás\, se presentará el coro del ICPA-GZ. ¡Te esperamos! \nSábado 6 de diciembre\nDe 15 a 20 Hs.\nAcceso gratuito \nInstituto Cultural Paraguayo-Alemán – Goethe-Zentrum\nJuan de Salazar 310 esq. Artigas
URL:https://www.icpa-gz.org.py/evento/mercadillo-navideno-del-icpa-gz-2/
LOCATION:Instituto Cultural Paraguayo-Alemán – Goethe-Zentrum | ICPA-GZ\, Juan de Salazar 310 c/ Artigas_\, Asuncion\, 3500\, Paraguay
CATEGORIES:apoyado por el ICPA-GZ,Arte,Chor,Cultura,Evento presencial,Mercadillo navideño,Música
ATTACH;FMTTYPE=image/png:https://www.icpa-gz.org.py/wp-content/uploads/2025/11/ICPA_MercadilloNavidenho_Fecha-Feed.png
END:VEVENT
END:VCALENDAR