BEGIN:VCALENDAR
VERSION:2.0
PRODID:-//Instituto Cultural Paraguayo Alemán – Goethe-Zentrum - ECPv6.15.20//NONSGML v1.0//EN
CALSCALE:GREGORIAN
METHOD:PUBLISH
X-ORIGINAL-URL:https://www.icpa-gz.org.py
X-WR-CALDESC:Eventos para Instituto Cultural Paraguayo Alemán – Goethe-Zentrum
REFRESH-INTERVAL;VALUE=DURATION:PT1H
X-Robots-Tag:noindex
X-PUBLISHED-TTL:PT1H
BEGIN:VTIMEZONE
TZID:America/Asuncion
BEGIN:STANDARD
TZOFFSETFROM:-0300
TZOFFSETTO:-0300
TZNAME:-03
DTSTART:20250101T000000
END:STANDARD
END:VTIMEZONE
BEGIN:VEVENT
DTSTART;TZID=America/Asuncion:20260416T110000
DTEND;TZID=America/Asuncion:20260416T120000
DTSTAMP:20260423T163231
CREATED:20260414T190349Z
LAST-MODIFIED:20260414T191119Z
UID:61134-1776337200-1776340800@www.icpa-gz.org.py
SUMMARY:Charla sobre la Formación Dual en Alemania
DESCRIPTION:¿Te gustaría estudiar y trabajar al mismo tiempo en Alemania?\n¿Querés conocer cómo funciona la formación dual y qué oportunidades podrías tener?\nEl Goethe-Institut\, en el marco de la iniciativa PASCH\, DAMOS y la Agencia Federal de Empleo (programa APAL) te invitan a la charla: \n“Formación Dual en Alemania”\nUn encuentro para jóvenes interesados/as en descubrir oportunidades reales de formación y futuro en Alemania. \nJueves 16/04\n10:00 Chile / 11:00 Argentina\, Paraguay\, Uruguay \nOnline por Zoom – Anotarse aquí\nBilingüe: español y alemán
URL:https://www.icpa-gz.org.py/evento/charla-sobre-la-formacion-dual-en-alemania/
LOCATION:Online
CATEGORIES:Charla,Evento digital,Goethe-Institut,Vivir & trabajar en Alemania
ATTACH;FMTTYPE=image/png:https://www.icpa-gz.org.py/wp-content/uploads/2026/04/FormacionDual.png
END:VEVENT
END:VCALENDAR