BEGIN:VCALENDAR
VERSION:2.0
PRODID:-//Instituto Cultural Paraguayo Alemán – Goethe-Zentrum - ECPv6.15.20//NONSGML v1.0//EN
CALSCALE:GREGORIAN
METHOD:PUBLISH
X-WR-CALNAME:Instituto Cultural Paraguayo Alemán – Goethe-Zentrum
X-ORIGINAL-URL:https://www.icpa-gz.org.py
X-WR-CALDESC:Eventos para Instituto Cultural Paraguayo Alemán – Goethe-Zentrum
REFRESH-INTERVAL;VALUE=DURATION:PT1H
X-Robots-Tag:noindex
X-PUBLISHED-TTL:PT1H
BEGIN:VTIMEZONE
TZID:America/Asuncion
BEGIN:STANDARD
TZOFFSETFROM:-0300
TZOFFSETTO:-0400
TZNAME:-04
DTSTART:20240324T030000
END:STANDARD
BEGIN:DAYLIGHT
TZOFFSETFROM:-0400
TZOFFSETTO:-0300
TZNAME:-03
DTSTART:20241006T040000
END:DAYLIGHT
BEGIN:STANDARD
TZOFFSETFROM:-0300
TZOFFSETTO:-0300
TZNAME:-03
DTSTART:20241015T030000
END:STANDARD
END:VTIMEZONE
BEGIN:VEVENT
DTSTART;TZID=America/Asuncion:20250910T173000
DTEND;TZID=America/Asuncion:20250910T220000
DTSTAMP:20260425T162342
CREATED:20250909T212206Z
LAST-MODIFIED:20250909T212240Z
UID:56696-1757525400-1757541600@www.icpa-gz.org.py
SUMMARY:Exposición "ERROR" | Paul3
DESCRIPTION:Inauguración de la muestra “ERROR”\n\n\n \n\n\nEsta es muestra del artista Paul3\, que cuenta con la curaduría de Fernando Moure\, será inaugurada en la galería BGN/ARTE en el marco del evento de la Bienal Pinta Sud\n\n\n \n\n\nMiércoles 10 de Septiembre\n\n\nDe 17:30 a 22:00 Hs. \n\n\n\nBNG / ARTE\nPaseo La Peregrina – Augusto Roa Bastos casi España\n\n\n \n\n\nEsta muestra cuenta con el apoyo del ICPA-GZ
URL:https://www.icpa-gz.org.py/evento/exposicion-error-paul3/
LOCATION:Galería BGN/ARTE\, Paseo La Peregrina - Augusto Roa Bastos casi España\, Asunción
CATEGORIES:apoyado por el ICPA-GZ,Arte,Cultura,Evento presencial,Festival,PintaSudASU
ATTACH;FMTTYPE=image/jpeg:https://www.icpa-gz.org.py/wp-content/uploads/2025/09/WhatsApp-Image-2025-09-08-at-14.18.18.jpeg
END:VEVENT
END:VCALENDAR