BEGIN:VCALENDAR
VERSION:2.0
PRODID:-//Instituto Cultural Paraguayo Alemán – Goethe-Zentrum - ECPv6.15.20//NONSGML v1.0//EN
CALSCALE:GREGORIAN
METHOD:PUBLISH
X-ORIGINAL-URL:https://www.icpa-gz.org.py
X-WR-CALDESC:Eventos para Instituto Cultural Paraguayo Alemán – Goethe-Zentrum
REFRESH-INTERVAL;VALUE=DURATION:PT1H
X-Robots-Tag:noindex
X-PUBLISHED-TTL:PT1H
BEGIN:VTIMEZONE
TZID:America/Asuncion
BEGIN:STANDARD
TZOFFSETFROM:-0300
TZOFFSETTO:-0400
TZNAME:-04
DTSTART:20240324T030000
END:STANDARD
BEGIN:DAYLIGHT
TZOFFSETFROM:-0400
TZOFFSETTO:-0300
TZNAME:-03
DTSTART:20241006T040000
END:DAYLIGHT
BEGIN:STANDARD
TZOFFSETFROM:-0300
TZOFFSETTO:-0300
TZNAME:-03
DTSTART:20241015T030000
END:STANDARD
END:VTIMEZONE
BEGIN:VEVENT
DTSTART;TZID=America/Asuncion:20250607T140000
DTEND;TZID=America/Asuncion:20250607T190000
DTSTAMP:20260425T114441
CREATED:20250606T205340Z
LAST-MODIFIED:20250606T205340Z
UID:54213-1749304800-1749322800@www.icpa-gz.org.py
SUMMARY:Alemania en la Feria Internacional del Libro
DESCRIPTION:¡Te esperamos en el stand de la Embajada de Alemania y el Instituto Cultural Paraguayo-Alemán en la Feria Internacional del Libro!\n\n\n\nPasá por nuestro stand\, te esperaremos con libros\, juegos\, sorteos\, información sobre cursos y más. También te invitamos a la proyección de la película alemana “Todos hablan sobre el tiempo”\, a las 16 hs.\n\n\n\nSábado 7 de junio\nDe 14:00 a 19:00 hs\nAcceso Libre y gratuito\n\n\nEn el Centro de Convenciones Mariscal López | Dr. Juan Eulogio Estigarribia 5086 Esq\, Asunción
URL:https://www.icpa-gz.org.py/evento/alemania-en-la-feria-internacional-del-libro/
LOCATION:Centro de Convenciones del Shopping Mariscal López\, Dr. Juan Eulogio Estigarribia 5086 Esq\, Asunción\, Asunción\, Paraguay
CATEGORIES:apoyado por el ICPA-GZ,Arte,Cultura,Embajada de Alemania Asunción,Evento presencial,Feria,Festival
ATTACH;FMTTYPE=image/jpeg:https://www.icpa-gz.org.py/wp-content/uploads/2025/06/WhatsApp-Image-2025-06-05-at-13.57.10.jpeg
END:VEVENT
END:VCALENDAR