BEGIN:VCALENDAR
VERSION:2.0
PRODID:-//Instituto Cultural Paraguayo Alemán – Goethe-Zentrum - ECPv6.15.20//NONSGML v1.0//EN
CALSCALE:GREGORIAN
METHOD:PUBLISH
X-ORIGINAL-URL:https://www.icpa-gz.org.py
X-WR-CALDESC:Eventos para Instituto Cultural Paraguayo Alemán – Goethe-Zentrum
REFRESH-INTERVAL;VALUE=DURATION:PT1H
X-Robots-Tag:noindex
X-PUBLISHED-TTL:PT1H
BEGIN:VTIMEZONE
TZID:America/Asuncion
BEGIN:STANDARD
TZOFFSETFROM:-0300
TZOFFSETTO:-0300
TZNAME:-03
DTSTART:20250101T000000
END:STANDARD
END:VTIMEZONE
BEGIN:VEVENT
DTSTART;TZID=America/Asuncion:20260324T160000
DTEND;TZID=America/Asuncion:20260324T190000
DTSTAMP:20260424T001951
CREATED:20260304T214436Z
LAST-MODIFIED:20260304T214436Z
UID:60352-1774368000-1774378800@www.icpa-gz.org.py
SUMMARY:Traducir en el contexto latinoamericano: Alemán como Lengua Extranjera y Traductología 3/3
DESCRIPTION:Workshopsreihe ÜBERSETZEN IM LATEINAMERIKANISCHEN KONTEXT: DAF UND TRANSLATOLOGIE”\nSerie de talleres: Traducir en el contexto latinoamericano: Alemán como Lengua Extranjera y Traductología\n\n\nEsta importante iniciativa es fruto de la colaboración entre nuestra Licenciatura en Lengua Alemana (UNA) y la prestigiosa Universidad Federal de Santa Catarina (UFSC)\, buscando fomentar el intercambio y la formación en áreas clave para nuestra región.\n\n\nPara más información\, ingresar a este enlace. 
URL:https://www.icpa-gz.org.py/evento/traducir-en-el-contexto-latinoamericano-aleman-como-lengua-extranjera-y-traductologia-3-3/
LOCATION:Online
CATEGORIES:Evento digital,Taller
ATTACH;FMTTYPE=image/png:https://www.icpa-gz.org.py/wp-content/uploads/2026/03/Workshop-Ubersetzung-und-Daf.png
ORGANIZER;CN="Instituto Superior de Lenguas %E2%80%93 FFUNA":MAILTO:isl-info@fil.una.py
END:VEVENT
END:VCALENDAR