BEGIN:VCALENDAR
VERSION:2.0
PRODID:-//Instituto Cultural Paraguayo Alemán – Goethe-Zentrum - ECPv6.15.20//NONSGML v1.0//EN
CALSCALE:GREGORIAN
METHOD:PUBLISH
X-WR-CALNAME:Instituto Cultural Paraguayo Alemán – Goethe-Zentrum
X-ORIGINAL-URL:https://www.icpa-gz.org.py
X-WR-CALDESC:Eventos para Instituto Cultural Paraguayo Alemán – Goethe-Zentrum
REFRESH-INTERVAL;VALUE=DURATION:PT1H
X-Robots-Tag:noindex
X-PUBLISHED-TTL:PT1H
BEGIN:VTIMEZONE
TZID:America/Asuncion
BEGIN:STANDARD
TZOFFSETFROM:-0300
TZOFFSETTO:-0400
TZNAME:-04
DTSTART:20240324T030000
END:STANDARD
BEGIN:DAYLIGHT
TZOFFSETFROM:-0400
TZOFFSETTO:-0300
TZNAME:-03
DTSTART:20241006T040000
END:DAYLIGHT
BEGIN:STANDARD
TZOFFSETFROM:-0300
TZOFFSETTO:-0300
TZNAME:-03
DTSTART:20241015T030000
END:STANDARD
END:VTIMEZONE
BEGIN:VEVENT
DTSTART;TZID=America/Asuncion:20251003T080000
DTEND;TZID=America/Asuncion:20251003T190000
DTSTAMP:20260424T154318
CREATED:20250916T205349Z
LAST-MODIFIED:20250916T205349Z
UID:56856-1759478400-1759518000@www.icpa-gz.org.py
SUMMARY:Premio Artes Visuales de la Embajada de Alemania 3/4
DESCRIPTION:¡Convocatoria para muralistas!\n\n\nLa Embajada de Alemania Asunción – Deutsche Botschaft Asuncion y el Instituto Cultural Paraguayo-Aleman – Goethe-Zentrum. invitan a la 12.° edición del Premio de Artes Visuales\, un concurso de muralismo en homenaje a los 100 años de la Guarania\, recientemente declarada Patrimonio Cultural Inmaterial de la Humanidad por la UNESCO.\n\n\n\nSi sos artista muralista\, mayor de 18 años y radicado en Paraguay\, esta es tu oportunidad de crear una obra pública que celebre el poder de la música como lenguaje universal que une culturas.\n\nEl mural ganador se pintará en un espacio público de Asunción en noviembre de 2025.\nPremio: 1.000 euros.\nTenés tiempo hasta el 10 de octubre para postularte.\nBases y formulario en:\nwww.asuncion.diplo.de/premio
URL:https://www.icpa-gz.org.py/evento/premio-artes-visuales-de-la-embajada-de-alemania-3-4/
LOCATION:Online
CATEGORIES:apoyado por el ICPA-GZ,Arte,Convocatoria,Cultura,Embajada de Alemania Asunción,Evento digital
ATTACH;FMTTYPE=image/jpeg:https://www.icpa-gz.org.py/wp-content/uploads/2025/09/515441624_1081862967454164_328619396056851207_n.jpg
ORGANIZER;CN="Embajada de Alemania":MAILTO:https://asuncion.diplo.de/py-es/sobre-nosotros/kontakt-formular
END:VEVENT
BEGIN:VEVENT
DTSTART;TZID=America/Asuncion:20251010T080000
DTEND;TZID=America/Asuncion:20251010T190000
DTSTAMP:20260424T154318
CREATED:20250916T205851Z
LAST-MODIFIED:20250916T212653Z
UID:56871-1760083200-1760122800@www.icpa-gz.org.py
SUMMARY:Premio Artes Visuales de la Embajada de Alemania 4/4
DESCRIPTION:¡Convocatoria para muralistas!\n\n\nLa Embajada de Alemania Asunción – Deutsche Botschaft Asuncion y el Instituto Cultural Paraguayo-Aleman – Goethe-Zentrum\, invitan a la 12.° edición del Premio de Artes Visuales\, un concurso de muralismo en homenaje a los 100 años de la Guarania\, recientemente declarada Patrimonio Cultural Inmaterial de la Humanidad por la UNESCO.\n\n\n\nSi sos artista muralista\, mayor de 18 años y radicado en Paraguay\, esta es tu oportunidad de crear una obra pública que celebre el poder de la música como lenguaje universal que une culturas.\n\nEl mural ganador se pintará en un espacio público de Asunción en noviembre de 2025.\nPremio: 1.000 euros.\nTenés tiempo hasta el 10 de octubre para postularte.\nBases y formulario en:\nwww.asuncion.diplo.de/premio
URL:https://www.icpa-gz.org.py/evento/premio-artes-visuales-de-la-embajada-de-alemania-4-4/
LOCATION:Online
CATEGORIES:apoyado por el ICPA-GZ,Arte,Convocatoria,Cultura,Embajada de Alemania Asunción,Evento digital
ATTACH;FMTTYPE=image/jpeg:https://www.icpa-gz.org.py/wp-content/uploads/2025/09/515441624_1081862967454164_328619396056851207_n.jpg
ORGANIZER;CN="Embajada de Alemania":MAILTO:https://asuncion.diplo.de/py-es/sobre-nosotros/kontakt-formular
END:VEVENT
BEGIN:VEVENT
DTSTART;TZID=America/Asuncion:20251031T120000
DTEND;TZID=America/Asuncion:20251031T130000
DTSTAMP:20260424T154318
CREATED:20251022T211255Z
LAST-MODIFIED:20251022T211255Z
UID:57772-1761912000-1761915600@www.icpa-gz.org.py
SUMMARY:Charla sobre el Studienkolleg
DESCRIPTION:¿Te gustaría estudiar una carrera en Alemania? \nTe invitamos a participar de la charla virtual sobre el “Studienkolleg”\, el programa de preparación para adminisión a universidades alemanas. Durante esta charla entenderás qué es y cómo es posible llegar allí habiendo terminado tus estudios en una escuela de Sudamérica. \nViernes 31 de ocubre\n12:00 Argentina\, Paraguay\, Uruguay\, Chile \nPor Zoom\nPodes anotarte en este enlace.  \n 
URL:https://www.icpa-gz.org.py/evento/charla-sobre-el-studienkolleg/
LOCATION:Online
CATEGORIES:Estudiar en Alemania,Evento digital,Studienkolleg
ATTACH;FMTTYPE=image/png:https://www.icpa-gz.org.py/wp-content/uploads/2025/10/Opera-Captura-de-pantalla_2025-10-22_145619_www.instagram.com_.png
ORGANIZER;CN="Goethe Institut Buenos Aires":MAILTO:info-buenosaires@goethe.de
END:VEVENT
END:VCALENDAR