BEGIN:VCALENDAR
VERSION:2.0
PRODID:-//Instituto Cultural Paraguayo Alemán – Goethe-Zentrum - ECPv6.15.20//NONSGML v1.0//EN
CALSCALE:GREGORIAN
METHOD:PUBLISH
X-ORIGINAL-URL:https://www.icpa-gz.org.py
X-WR-CALDESC:Eventos para Instituto Cultural Paraguayo Alemán – Goethe-Zentrum
REFRESH-INTERVAL;VALUE=DURATION:PT1H
X-Robots-Tag:noindex
X-PUBLISHED-TTL:PT1H
BEGIN:VTIMEZONE
TZID:America/Asuncion
BEGIN:STANDARD
TZOFFSETFROM:-0300
TZOFFSETTO:-0400
TZNAME:-04
DTSTART:20240324T030000
END:STANDARD
BEGIN:DAYLIGHT
TZOFFSETFROM:-0400
TZOFFSETTO:-0300
TZNAME:-03
DTSTART:20241006T040000
END:DAYLIGHT
BEGIN:STANDARD
TZOFFSETFROM:-0300
TZOFFSETTO:-0300
TZNAME:-03
DTSTART:20241015T030000
END:STANDARD
END:VTIMEZONE
BEGIN:VEVENT
DTSTART;TZID=America/Asuncion:20250227T140000
DTEND;TZID=America/Asuncion:20250227T170000
DTSTAMP:20260426T004741
CREATED:20250220T200619Z
LAST-MODIFIED:20250220T200619Z
UID:51411-1740664800-1740675600@www.icpa-gz.org.py
SUMMARY:Charla "Mi camino hacia Alemania" | Goethe Institut Buenos Aires
DESCRIPTION:¿Te estás preparando para vivir y trabajar en Alemania? \nEntonces\, este webinar gratuito en español es para vos. Conoce Mein Weg nach Deutschland\, el portal oficial del Goethe-Institut con recursos clave para tus primeros meses en Alemania: \nInformación sobre vivir y trabajar en Alemania \nMateriales para practicar alemán \nContactos y redes de apoyo \nFecha: Jueves 27 de febrero de 2025 \nHorario: 11:00 h México | 14:00 h Argentina\, Chile y Paraguay \nInscribíte en éste formulario  \nOrganizan: Preintegración en Argentina\, Chile y México.
URL:https://www.icpa-gz.org.py/evento/charla-mi-camino-hacia-alemania-goethe-institut-buenos-aires/
LOCATION:Online
CATEGORIES:Charla,Evento digital,Goethe-Institut
ATTACH;FMTTYPE=image/jpeg:https://www.icpa-gz.org.py/wp-content/uploads/2025/02/478433382_18304253344226408_8622286242477567864_n.jpg
ORGANIZER;CN="Goethe Institut Buenos Aires":MAILTO:info-buenosaires@goethe.de
END:VEVENT
END:VCALENDAR