BEGIN:VCALENDAR
VERSION:2.0
PRODID:-//Instituto Cultural Paraguayo Alemán – Goethe-Zentrum - ECPv6.15.20//NONSGML v1.0//EN
CALSCALE:GREGORIAN
METHOD:PUBLISH
X-ORIGINAL-URL:https://www.icpa-gz.org.py
X-WR-CALDESC:Eventos para Instituto Cultural Paraguayo Alemán – Goethe-Zentrum
REFRESH-INTERVAL;VALUE=DURATION:PT1H
X-Robots-Tag:noindex
X-PUBLISHED-TTL:PT1H
BEGIN:VTIMEZONE
TZID:America/Asuncion
BEGIN:STANDARD
TZOFFSETFROM:-0300
TZOFFSETTO:-0400
TZNAME:-04
DTSTART:20240324T030000
END:STANDARD
BEGIN:DAYLIGHT
TZOFFSETFROM:-0400
TZOFFSETTO:-0300
TZNAME:-03
DTSTART:20241006T040000
END:DAYLIGHT
BEGIN:STANDARD
TZOFFSETFROM:-0300
TZOFFSETTO:-0300
TZNAME:-03
DTSTART:20241015T030000
END:STANDARD
END:VTIMEZONE
BEGIN:VEVENT
DTSTART;TZID=America/Asuncion:20251202T180000
DTEND;TZID=America/Asuncion:20251202T200000
DTSTAMP:20260424T152215
CREATED:20251201T212650Z
LAST-MODIFIED:20251201T212755Z
UID:58592-1764698400-1764705600@www.icpa-gz.org.py
SUMMARY:Taller "Más que música" 1/2
DESCRIPTION:El grupo Fetén Fetén\, integrado por Jorge Arribas y Diego Galaz\, ofrecerá un taller de formación e intercambio musical. La propuesta formativa está dirigida a músicos e intérpretes de cualquier instrumento y edad\, proponiendo un recorrido didáctico y musical por las músicas tradicionales y populares de España. A través de jotas\, fandangos\, valses\, mazurcas\, seguidillas\, pasodobles\, ruedas o ajechados\, se invita a descubrir un legado cultural diverso\, fruto de las múltiples culturas y pueblos que han habitado el país. De este modo\, se busca difundir músicas características de España y fomentar el encuentro e intercambio con músicos de diferentes contextos\, compartiendo formas de entender la tradición e incorporando nuevas miradas a partir de las expresiones locales. \nEsta actividad forma parte del concierto “Raíces del Mundo”\, presentado por el Cluster EUNIC Asunción. Este grupo está integrado por el Centro Cultural de España\, el Instituto Cultural Paraguayo-Alemán\, la Alianza Francesa y la Embajada de Italia—\, en conjunto con la Delegación de la Unión Europea. \nMartes 2 de diciembre\, a las 18.00\, en el Juande (Herrera\, 834)\nViernes 5 de diciembre\, a las 18.00\, en el ICPA (Juan de Salazar 310 c/ Artigas)\nAcceso libre y gratuito\, previa inscripción a través de este formulario \n 
URL:https://www.icpa-gz.org.py/evento/taller-mas-que-musica-1-2/
LOCATION:Centro Cultural de España Juan de Salazar | CCEJS\, Herrera 834\, Asunción\, Distrito Capital\, Paraguay
CATEGORIES:apoyado por el ICPA-GZ,Arte,Cultura,European Union National Institutes for Culture | EUNIC,Evento presencial,Música,Taller
ATTACH;FMTTYPE=image/jpeg:https://www.icpa-gz.org.py/wp-content/uploads/2025/12/589040066_18540063325020252_1569204533359204345_n.jpg
END:VEVENT
BEGIN:VEVENT
DTSTART;TZID=America/Asuncion:20251204T203000
DTEND;TZID=America/Asuncion:20251204T210000
DTSTAMP:20260424T152215
CREATED:20251201T214035Z
LAST-MODIFIED:20251201T215939Z
UID:58629-1764880200-1764882000@www.icpa-gz.org.py
SUMMARY:Concierto "Raíces del Mundo” | EUNIC
DESCRIPTION:La red de institutos de cultura de la Unión Europea en Paraguay (EUNIC) —integrados por el Centro Cultural de España\, el Instituto Cultural Paraguayo-Alemán\, la Alianza Francesa y la Embajada de Italia—\, en conjunto con la Delegación de la Unión Europea\, organizan el concierto de fin de año “Raíces del Mundo”. Se presentarán:  \n\nNima Sarkechick\, pianista franco-iraní.\n\n\nNéstor Lo y Los Caminantes\, folclore contemporáneo paraguayo.\n\n\n Jeheka\, identidades sonoras desde las músicas de raíz.\n\n\nFetén Fetén\, dúo español con una mirada renovada a las músicas populares.\n\nEl programa reúne a artistas de diversas latitudes que reflejan la riqueza del intercambio musical y la diversidad de lenguajes sonoros: desde el pianista franco-iraní Nima Sarkechik\, con su arraigo multicultural y su refinada propuesta instrumental\, hasta la fuerza del folclore contemporáneo del grupo paraguayo Néstor Lo y Los Caminantes\, sumando también la energía y la identidad sonora del grupo JEHEKA\, cargado de un folk electrónico experimental\, y el dúo español Fetén Fetén\, que presentará una propuesta renovada de las músicas populares de España. \nEl concierto “Raíces del Mundo” propone un viaje sonoro hacia la esencia de distintos pueblos y culturas. Un recorrido por ritmos populares de amplias geografías\, donde las influencias migran\, se mezcla y reinventan. Así\, la programación busca tender puentes entre identidades\, armonías y estéticas diversas\, invitando al público a sumergirse en sonidos que dialogan entre la tradición y los nuevos lenguajes. \n\n Jueves 4 de diciembre\, 20.30 h\n\n\nPlaza Italia (15 de Agosto e/ Ygatimí)\n\n\nAcceso libre y gratuito.
URL:https://www.icpa-gz.org.py/evento/concierto-raices-del-mundo-eunic/
LOCATION:Plaza Italia\, 15 De Agosto\, Asunción\, Distrito Capital\, Paraguay
CATEGORIES:apoyado por el ICPA-GZ,Arte,Concierto,Cultura,European Union National Institutes for Culture | EUNIC,Evento presencial,Música
ATTACH;FMTTYPE=image/jpeg:https://www.icpa-gz.org.py/wp-content/uploads/2025/12/591144932_18540193696020252_6045460795970703609_n.jpg
END:VEVENT
BEGIN:VEVENT
DTSTART;TZID=America/Asuncion:20251205T180000
DTEND;TZID=America/Asuncion:20251205T200000
DTSTAMP:20260424T152215
CREATED:20251201T213004Z
LAST-MODIFIED:20251201T213004Z
UID:58614-1764957600-1764964800@www.icpa-gz.org.py
SUMMARY:Taller "Más que Música" | EUNIC 2/2
DESCRIPTION:El grupo Fetén Fetén\, integrado por Jorge Arribas y Diego Galaz\, ofrecerá un taller de formación e intercambio musical. La propuesta formativa está dirigida a músicos e intérpretes de cualquier instrumento y edad\, proponiendo un recorrido didáctico y musical por las músicas tradicionales y populares de España. A través de jotas\, fandangos\, valses\, mazurcas\, seguidillas\, pasodobles\, ruedas o ajechados\, se invita a descubrir un legado cultural diverso\, fruto de las múltiples culturas y pueblos que han habitado el país. De este modo\, se busca difundir músicas características de España y fomentar el encuentro e intercambio con músicos de diferentes contextos\, compartiendo formas de entender la tradición e incorporando nuevas miradas a partir de las expresiones locales. \nEsta actividad forma parte del concierto “Raíces del Mundo”\, presentado por el Cluster EUNIC Asunción. Este grupo está integrado por el Centro Cultural de España\, el Instituto Cultural Paraguayo-Alemán\, la Alianza Francesa y la Embajada de Italia—\, en conjunto con la Delegación de la Unión Europea. \nMartes 2 de diciembre\, a las 18.00\, en el Juande (Herrera\, 834)\nViernes 5 de diciembre\, a las 18.00\, en el ICPA (Juan de Salazar 310 c/ Artigas)\nAcceso libre y gratuito\, previa inscripción a través de este formulario \n 
URL:https://www.icpa-gz.org.py/evento/taller-mas-que-musica-eunic-2-2/
LOCATION:Instituto Cultural Paraguayo-Alemán – Goethe-Zentrum | ICPA-GZ\, Juan de Salazar 310 c/ Artigas_\, Asuncion\, 3500\, Paraguay
CATEGORIES:apoyado por el ICPA-GZ,Arte,Cultura,European Union National Institutes for Culture | EUNIC,Evento presencial,Música,Taller
ATTACH;FMTTYPE=image/jpeg:https://www.icpa-gz.org.py/wp-content/uploads/2025/12/589040066_18540063325020252_1569204533359204345_n.jpg
END:VEVENT
END:VCALENDAR