BEGIN:VCALENDAR
VERSION:2.0
PRODID:-//Instituto Cultural Paraguayo Alemán – Goethe-Zentrum - ECPv6.15.20//NONSGML v1.0//EN
CALSCALE:GREGORIAN
METHOD:PUBLISH
X-ORIGINAL-URL:https://www.icpa-gz.org.py
X-WR-CALDESC:Eventos para Instituto Cultural Paraguayo Alemán – Goethe-Zentrum
REFRESH-INTERVAL;VALUE=DURATION:PT1H
X-Robots-Tag:noindex
X-PUBLISHED-TTL:PT1H
BEGIN:VTIMEZONE
TZID:America/Asuncion
BEGIN:STANDARD
TZOFFSETFROM:-0300
TZOFFSETTO:-0400
TZNAME:-04
DTSTART:20240324T030000
END:STANDARD
BEGIN:DAYLIGHT
TZOFFSETFROM:-0400
TZOFFSETTO:-0300
TZNAME:-03
DTSTART:20241006T040000
END:DAYLIGHT
BEGIN:STANDARD
TZOFFSETFROM:-0300
TZOFFSETTO:-0300
TZNAME:-03
DTSTART:20241015T030000
END:STANDARD
END:VTIMEZONE
BEGIN:VEVENT
DTSTART;TZID=America/Asuncion:20250809T170000
DTEND;TZID=America/Asuncion:20250809T190000
DTSTAMP:20260424T231400
CREATED:20250806T191227Z
LAST-MODIFIED:20250806T191847Z
UID:55258-1754758800-1754766000@www.icpa-gz.org.py
SUMMARY:"Las desventuras de Sophie” | Ciclo de Cine "Al otro lado del mar"
DESCRIPTION: “Las desventuras de Sophie” (2016)\nDesde su castillo\, Sophie no puede resistirse a la aventura\, aunque eso implique meterse en problemas. Entre primos cómplices\, madrastras malvadas y amigas leales\, esta historia mezcla humor\, fantasía y ternura.\n\n\nEs una propuesta de la Alianza Francesa de Asunción\n\n\n\nSábado 9 de agosto | 18:00 h\nEntrada libre y gratuita.\n\nCentro Cultural del Puerto\nAvda. de la República esq. Colón – Costanera de Asunción
URL:https://www.icpa-gz.org.py/evento/las-desventuras-de-sophie-ciclo-de-cine-al-otro-lado-del-mar/
LOCATION:Centro Cultural del Puerto\, Avda. República\, Asunción\, Distrito Capital\, Paraguay
CATEGORIES:apoyado por el ICPA-GZ,Arte,Cine,Cultura,European Union National Institutes for Culture | EUNIC,Evento presencial
ATTACH;FMTTYPE=image/jpeg:https://www.icpa-gz.org.py/wp-content/uploads/2025/08/528298853_18516138850020252_2055641158408304424_n.jpg
ORGANIZER;CN="Centro Cultural de Espa%C3%B1a Juan de Salazar | CCEJS":MAILTO:info.ccejs@aecid.es
END:VEVENT
END:VCALENDAR