BEGIN:VCALENDAR
VERSION:2.0
PRODID:-//Instituto Cultural Paraguayo Alemán – Goethe-Zentrum - ECPv6.15.20//NONSGML v1.0//EN
CALSCALE:GREGORIAN
METHOD:PUBLISH
X-WR-CALNAME:Instituto Cultural Paraguayo Alemán – Goethe-Zentrum
X-ORIGINAL-URL:https://www.icpa-gz.org.py
X-WR-CALDESC:Eventos para Instituto Cultural Paraguayo Alemán – Goethe-Zentrum
REFRESH-INTERVAL;VALUE=DURATION:PT1H
X-Robots-Tag:noindex
X-PUBLISHED-TTL:PT1H
BEGIN:VTIMEZONE
TZID:America/Asuncion
BEGIN:STANDARD
TZOFFSETFROM:-0300
TZOFFSETTO:-0400
TZNAME:-04
DTSTART:20240324T030000
END:STANDARD
BEGIN:DAYLIGHT
TZOFFSETFROM:-0400
TZOFFSETTO:-0300
TZNAME:-03
DTSTART:20241006T040000
END:DAYLIGHT
BEGIN:STANDARD
TZOFFSETFROM:-0300
TZOFFSETTO:-0300
TZNAME:-03
DTSTART:20241015T030000
END:STANDARD
END:VTIMEZONE
BEGIN:VEVENT
DTSTART;TZID=America/Asuncion:20250906T160000
DTEND;TZID=America/Asuncion:20250906T200000
DTSTAMP:20260425T080523
CREATED:20250828T213332Z
LAST-MODIFIED:20250902T201840Z
UID:55995-1757174400-1757188800@www.icpa-gz.org.py
SUMMARY:Calle Cultura 2025
DESCRIPTION:El sábado 06 de setiembre de 16.00 a 20.00 hs se realizará la 11a edición de CALLECULTURA. Durante este evento\, se desarrollan diferentes actividades culturales\, artísticas\, educativas y de recreación en la calzada y veredas de la calle Juan de Salazar\, entre San José y Artigas (Barrio San José\, Asunción). El acceso es gratuito. \nAlgunas de las actividades que podrás disfrutar\, son:  música en vivo\, feria de libros\, talleres y juegos para niños\, murales\, espectáculos de danza\, teatro\, talleres de cerámica\, bardado\, tecnologías\, danzas\, feria de comidas y ¡muchas sorpresas más! \nCALLECULTURA surgió hace más de 10 años\, con el objeto de promover y posicionar a la calle Juan de Salazar\, como uno de los ejes culturales de Asunción y como espacio público común. La calle\, como un lugar de uso seguro para todas las edades\, donde puedan crearse espacios de juego\, expresión artística y cultural y brindar\, además\, un espacio donde familias y amigos puedan compartir una tarde diferente. \nCon ese objetivo las instituciones organizadoras: el Anglo English\, el Instituto Cultural Paraguayo-Alemán – Goethe-Zentrum\, el Colegio del Sol\, Stael Ruffinelli de Ortíz English y El Granel\, invitan a toda la ciudadanía a esta nueva y energizante versión de CALLECULTURA 2025 para toda la familia. \nCALLECULURA ha sido declarada de interés educativo y cultural por la Secretaría Nacional de Cultura y por la Municipalidad de Asunción. Esta edición es apoya La Secretaría Nacional de Cultura\, la Dirección de Centro Histórico de la Municipalidad de Asunción\, y la Delegación de la Unión Europea en Paraguay. \n 
URL:https://www.icpa-gz.org.py/evento/calle-cultura-2025/
LOCATION:Juan de Salazar y Espinoza\, Asunción\, Asunción\, Distrito Capital\, Paraguay
CATEGORIES:apoyado por el ICPA-GZ,Arte,Calle Cultura,Cultura,Danza,Evento presencial,Feria,Música,Taller,Teatro
ATTACH;FMTTYPE=image/jpeg:https://www.icpa-gz.org.py/wp-content/uploads/2025/08/WhatsApp-Image-2025-09-02-at-14.27.03.jpeg
END:VEVENT
END:VCALENDAR