BEGIN:VCALENDAR
VERSION:2.0
PRODID:-//Instituto Cultural Paraguayo Alemán – Goethe-Zentrum - ECPv6.15.20//NONSGML v1.0//EN
CALSCALE:GREGORIAN
METHOD:PUBLISH
X-ORIGINAL-URL:https://www.icpa-gz.org.py
X-WR-CALDESC:Eventos para Instituto Cultural Paraguayo Alemán – Goethe-Zentrum
REFRESH-INTERVAL;VALUE=DURATION:PT1H
X-Robots-Tag:noindex
X-PUBLISHED-TTL:PT1H
BEGIN:VTIMEZONE
TZID:America/Asuncion
BEGIN:STANDARD
TZOFFSETFROM:-0300
TZOFFSETTO:-0400
TZNAME:-04
DTSTART:20240324T030000
END:STANDARD
BEGIN:DAYLIGHT
TZOFFSETFROM:-0400
TZOFFSETTO:-0300
TZNAME:-03
DTSTART:20241006T040000
END:DAYLIGHT
BEGIN:STANDARD
TZOFFSETFROM:-0300
TZOFFSETTO:-0300
TZNAME:-03
DTSTART:20241015T030000
END:STANDARD
END:VTIMEZONE
BEGIN:VEVENT
DTSTART;TZID=America/Asuncion:20250717T100000
DTEND;TZID=America/Asuncion:20250717T150000
DTSTAMP:20260425T114737
CREATED:20250709T202951Z
LAST-MODIFIED:20250709T202951Z
UID:54753-1752746400-1752764400@www.icpa-gz.org.py
SUMMARY:Colonia de vacaciones "Isla Verde" | ICPA-GZ 4/5
DESCRIPTION:La Isla Verde es la colonia de vacaciones de invierno que organiza el Instituto Cultural Paraguayo-Alemán – Goethe-Zentrum. Es un espacio donde niñas y niños pueden difrutar de una semana cargada de actividades para todas las edades. \nEste año tendremos talleres de: Cerámica\, hip\, hop\, carpintería\, costura\, manualidades\, introducción a la impresión 3D\, cocina y arte\, telas acrobáticas. También habran juegos\, y mucho\, mucho más. \nFecha: Del 14 al 18 de julio 2025 \nHorario: De 10 a 15 hs. \nInscripciones: Cupos llenos. \nLugar: Instituto Cultural Paraguayo-Alemán – Goethe-Zentrum | Juan de Salazar 310 esq. Artigas
URL:https://www.icpa-gz.org.py/evento/colonia-de-vacaciones-isla-verde-icpa-gz-4-5/
LOCATION:Instituto Cultural Paraguayo-Alemán – Goethe-Zentrum | ICPA-GZ\, Juan de Salazar 310 c/ Artigas_\, Asuncion\, 3500\, Paraguay
CATEGORIES:apoyado por el ICPA-GZ,Arte,Cultura,Danza,Deporte,Evento para niñas y niños,Evento presencial,la ISLA verde,Taller
ATTACH;FMTTYPE=image/png:https://www.icpa-gz.org.py/wp-content/uploads/2025/07/LaIslaVerde-Feed.png
END:VEVENT
END:VCALENDAR