BEGIN:VCALENDAR
VERSION:2.0
PRODID:-//Instituto Cultural Paraguayo Alemán – Goethe-Zentrum - ECPv6.15.20//NONSGML v1.0//EN
CALSCALE:GREGORIAN
METHOD:PUBLISH
X-WR-CALNAME:Instituto Cultural Paraguayo Alemán – Goethe-Zentrum
X-ORIGINAL-URL:https://www.icpa-gz.org.py
X-WR-CALDESC:Eventos para Instituto Cultural Paraguayo Alemán – Goethe-Zentrum
REFRESH-INTERVAL;VALUE=DURATION:PT1H
X-Robots-Tag:noindex
X-PUBLISHED-TTL:PT1H
BEGIN:VTIMEZONE
TZID:America/Asuncion
BEGIN:STANDARD
TZOFFSETFROM:-0300
TZOFFSETTO:-0400
TZNAME:-04
DTSTART:20240324T030000
END:STANDARD
BEGIN:DAYLIGHT
TZOFFSETFROM:-0400
TZOFFSETTO:-0300
TZNAME:-03
DTSTART:20241006T040000
END:DAYLIGHT
BEGIN:STANDARD
TZOFFSETFROM:-0300
TZOFFSETTO:-0300
TZNAME:-03
DTSTART:20241015T030000
END:STANDARD
END:VTIMEZONE
BEGIN:VEVENT
DTSTART;TZID=America/Asuncion:20250819T080000
DTEND;TZID=America/Asuncion:20250819T190000
DTSTAMP:20260425T165945
CREATED:20250819T211358Z
LAST-MODIFIED:20250819T211358Z
UID:55848-1755590400-1755630000@www.icpa-gz.org.py
SUMMARY:Convocatoria Calle Cultura 2025 1/2
DESCRIPTION:¡ÚLTIMOS PUESTOS PARA CALLECULTURA 2025!\nParticipá con tu organización\, aportando contenido y experiencia para las personas que asisten a la 11ma. edición de CALLECULTURA. \nSábado 6 de setiembre\n16 a 20 hs \nJuan de Salazar\, entre Artigas y San José (Asunción) \nPuestos individuales e institucionales disponibles.\nPara presentar una propuesta\, mas información\, ingresa a este formulario. \nMás info: bit.ly/CALLECULTURA2025 \n 
URL:https://www.icpa-gz.org.py/evento/convocatoria-calle-cultura-2025-1-2/
LOCATION:Online
CATEGORIES:apoyado por el ICPA-GZ,Arte,Calle Cultura,Convocatoria,Cultura,Evento digital,Feria
ATTACH;FMTTYPE=image/jpeg:https://www.icpa-gz.org.py/wp-content/uploads/2025/08/WhatsApp-Image-2025-08-18-at-15.28.28.jpeg
END:VEVENT
BEGIN:VEVENT
DTSTART;TZID=America/Asuncion:20250826T080000
DTEND;TZID=America/Asuncion:20250826T193000
DTSTAMP:20260425T165945
CREATED:20250819T211547Z
LAST-MODIFIED:20250819T211547Z
UID:55864-1756195200-1756236600@www.icpa-gz.org.py
SUMMARY:Convocatoria Calle Cultura 2025 2/2
DESCRIPTION:¡ÚLTIMOS PUESTOS PARA CALLECULTURA 2025!\nParticipá con tu organización\, aportando contenido y experiencia para las personas que asisten a la 11ma. edición de CALLECULTURA. \nSábado 6 de setiembre\n16 a 20 hs \nJuan de Salazar\, entre Artigas y San José (Asunción) \nPuestos individuales e institucionales disponibles.\nPara presentar una propuesta\, mas información\, ingresa a este formulario. \nMás info: bit.ly/CALLECULTURA2025 \n 
URL:https://www.icpa-gz.org.py/evento/convocatoria-calle-cultura-2025-2-2/
LOCATION:Online
CATEGORIES:apoyado por el ICPA-GZ,Arte,Calle Cultura,Convocatoria,Cultura,Evento digital
ATTACH;FMTTYPE=image/jpeg:https://www.icpa-gz.org.py/wp-content/uploads/2025/08/WhatsApp-Image-2025-08-18-at-15.28.28.jpeg
END:VEVENT
BEGIN:VEVENT
DTSTART;TZID=America/Asuncion:20250829T080000
DTEND;TZID=America/Asuncion:20250829T190000
DTSTAMP:20260425T165945
CREATED:20250827T192115Z
LAST-MODIFIED:20250827T192218Z
UID:55919-1756454400-1756494000@www.icpa-gz.org.py
SUMMARY:Convocatoria de becas para estudiar alemán  | La Huella 1/3
DESCRIPTION:¡Convocatoria de becas para estudiar alemán! \n\n\nEn el marco del Segundo Remate de Reproductores\, la Agroganadera La Huella\, apuesta al futuro del sector. La Huella y el ICPA-GZ convocan a postular para tres (3) becas de idioma alemán. La convocatoria está dirigida a estudiantes de Agronomía\, Veterinaria y/o carreras afines al agro.\n\n\n\nTiempo límite para recibir las postulaciones: Viernes 12 de septiembre 2025\n\n\nPara más información y postulaciones\, ingresar a este enlace\n\n\n\n¡Animate y participá!
URL:https://www.icpa-gz.org.py/evento/convocatoria-de-becas-para-estudiar-aleman-la-huella-1-3/
LOCATION:Online
CATEGORIES:apoyado por el ICPA-GZ,Beca,Convocatoria,Evento digital
ATTACH;FMTTYPE=image/png:https://www.icpa-gz.org.py/wp-content/uploads/2025/08/ICPA_Beca.png
END:VEVENT
END:VCALENDAR