BEGIN:VCALENDAR
VERSION:2.0
PRODID:-//Instituto Cultural Paraguayo Alemán – Goethe-Zentrum - ECPv6.15.20//NONSGML v1.0//EN
CALSCALE:GREGORIAN
METHOD:PUBLISH
X-WR-CALNAME:Instituto Cultural Paraguayo Alemán – Goethe-Zentrum
X-ORIGINAL-URL:https://www.icpa-gz.org.py
X-WR-CALDESC:Eventos para Instituto Cultural Paraguayo Alemán – Goethe-Zentrum
REFRESH-INTERVAL;VALUE=DURATION:PT1H
X-Robots-Tag:noindex
X-PUBLISHED-TTL:PT1H
BEGIN:VTIMEZONE
TZID:America/Asuncion
BEGIN:STANDARD
TZOFFSETFROM:-0300
TZOFFSETTO:-0400
TZNAME:-04
DTSTART:20240324T030000
END:STANDARD
BEGIN:DAYLIGHT
TZOFFSETFROM:-0400
TZOFFSETTO:-0300
TZNAME:-03
DTSTART:20241006T040000
END:DAYLIGHT
BEGIN:STANDARD
TZOFFSETFROM:-0300
TZOFFSETTO:-0300
TZNAME:-03
DTSTART:20241015T030000
END:STANDARD
END:VTIMEZONE
BEGIN:VEVENT
DTSTART;TZID=America/Asuncion:20250815T080000
DTEND;TZID=America/Asuncion:20250815T200000
DTSTAMP:20260425T072634
CREATED:20250813T212509Z
LAST-MODIFIED:20250813T212509Z
UID:55635-1755244800-1755288000@www.icpa-gz.org.py
SUMMARY:Temporal – Festival de Performance Art 5/6
DESCRIPTION:Temporal – Festival de Performance Art\n\n\n\nTemporal tomará lugar del 11 al 16 de agosto 2025 en Asunción y alrededores.\nEs un festival dedicado a performance en espacios públicos y/o comunitarios. Este año es invitada la queeradora\, millenial y triple Piscis\, Mariana Rodríguez Iglesias (Buenos Aires\, AR).\nEl encuentro cuenta con el apoyo de Argentina Performance Art y el ICPA-GZ.\n\n\n\nSe transitán calles\, veredas\, plazas\, mercados y parques de la gran Asunción (incluyendo el área metropolitana) para generar arte acción\, happenings\, performance. También se ofrecerán talleres y conversatorios al público general sobre las prácticas y procesos artísticos.\n\n\n\nPara más info visitar:\nwww.festivaltemporal.com\nRed Gris | Instagram\n@artesedele | Instagram
URL:https://www.icpa-gz.org.py/evento/temporal-festival-de-performance-art-5-6/
LOCATION:Asunción\, Asunción\, Distrito Capital\, Paraguay
CATEGORIES:apoyado por el ICPA-GZ,Arte,Conferencia,Conversatorio,Cultura,Evento presencial,Festival,Taller,Videoarte
ATTACH;FMTTYPE=image/jpeg:https://www.icpa-gz.org.py/wp-content/uploads/2025/08/WhatsApp-Image-2025-07-17-at-21.39.18-1.jpeg
END:VEVENT
END:VCALENDAR