BEGIN:VCALENDAR
VERSION:2.0
PRODID:-//Instituto Cultural Paraguayo Alemán – Goethe-Zentrum - ECPv6.15.20//NONSGML v1.0//EN
CALSCALE:GREGORIAN
METHOD:PUBLISH
X-WR-CALNAME:Instituto Cultural Paraguayo Alemán – Goethe-Zentrum
X-ORIGINAL-URL:https://www.icpa-gz.org.py
X-WR-CALDESC:Eventos para Instituto Cultural Paraguayo Alemán – Goethe-Zentrum
REFRESH-INTERVAL;VALUE=DURATION:PT1H
X-Robots-Tag:noindex
X-PUBLISHED-TTL:PT1H
BEGIN:VTIMEZONE
TZID:America/Asuncion
BEGIN:STANDARD
TZOFFSETFROM:-0300
TZOFFSETTO:-0400
TZNAME:-04
DTSTART:20240324T030000
END:STANDARD
BEGIN:DAYLIGHT
TZOFFSETFROM:-0400
TZOFFSETTO:-0300
TZNAME:-03
DTSTART:20241006T040000
END:DAYLIGHT
BEGIN:STANDARD
TZOFFSETFROM:-0300
TZOFFSETTO:-0300
TZNAME:-03
DTSTART:20241015T030000
END:STANDARD
END:VTIMEZONE
BEGIN:VEVENT
DTSTART;TZID=America/Asuncion:20250718T190000
DTEND;TZID=America/Asuncion:20250718T210000
DTSTAMP:20260425T110648
CREATED:20250718T205408Z
LAST-MODIFIED:20250718T210309Z
UID:54813-1752865200-1752872400@www.icpa-gz.org.py
SUMMARY:Conferencia "300 años de La Pasión según San Juan" | Bach Sudamericano
DESCRIPTION:El Prof. Dr. Michael Maul. Director del BachFest de Leipzig. (Alemania)\, ofrecerá la conferencia inaugural de nuestro festival\, con el tema “300 años de La Pasión según San Juan”\n\n\n\n\nConferencia inaugural: viernes 18 de julio / 19:00h\nAcceso libre y gratuito.\n\n\n \n\n\nInstituto Cultural Paraguayo Alemán. (Juan de Salazar 310 c/ Avda. Artigas)\n\n\n \n\n\nMayor información del Festival: \n\n\n www.sociedadbachparaguay.com \n\n\n @sociedadbachparaguay \n\n\n Teléfono +595 991 709880
URL:https://www.icpa-gz.org.py/evento/conferencia-300-anos-de-la-pasion-segun-san-juan-bach-sudamericano/
LOCATION:Salón Rolando Rasmussen del Instituto Cultural Paraguayo-Alemán – Goethe-Zentrum | ICPA-GZ\, Juan de Salazar 310 c/ Artigas Barrio Ricardo Brugada\, Asunción\, Distrito Capital\, Paraguay
CATEGORIES:apoyado por el ICPA-GZ,Arte,Conferencia,Cultura,Evento presencial,Festival,Música
ATTACH;FMTTYPE=image/jpeg:https://www.icpa-gz.org.py/wp-content/uploads/2025/07/514346026_1121873779968119_8630197245579974162_n.jpg
END:VEVENT
END:VCALENDAR