BEGIN:VCALENDAR
VERSION:2.0
PRODID:-//Instituto Cultural Paraguayo Alemán – Goethe-Zentrum - ECPv6.15.20//NONSGML v1.0//EN
CALSCALE:GREGORIAN
METHOD:PUBLISH
X-WR-CALNAME:Instituto Cultural Paraguayo Alemán – Goethe-Zentrum
X-ORIGINAL-URL:https://www.icpa-gz.org.py
X-WR-CALDESC:Eventos para Instituto Cultural Paraguayo Alemán – Goethe-Zentrum
REFRESH-INTERVAL;VALUE=DURATION:PT1H
X-Robots-Tag:noindex
X-PUBLISHED-TTL:PT1H
BEGIN:VTIMEZONE
TZID:America/Asuncion
BEGIN:STANDARD
TZOFFSETFROM:-0300
TZOFFSETTO:-0400
TZNAME:-04
DTSTART:20240324T030000
END:STANDARD
BEGIN:DAYLIGHT
TZOFFSETFROM:-0400
TZOFFSETTO:-0300
TZNAME:-03
DTSTART:20241006T040000
END:DAYLIGHT
BEGIN:STANDARD
TZOFFSETFROM:-0300
TZOFFSETTO:-0300
TZNAME:-03
DTSTART:20241015T030000
END:STANDARD
END:VTIMEZONE
BEGIN:VEVENT
DTSTART;TZID=America/Asuncion:20250919T080000
DTEND;TZID=America/Asuncion:20250919T190000
DTSTAMP:20260425T003049
CREATED:20250918T193931Z
LAST-MODIFIED:20250918T193931Z
UID:56952-1758268800-1758308400@www.icpa-gz.org.py
SUMMARY:Convocatoria Rescatar + Preservar y Remontar 1/4
DESCRIPTION:Cada obra o registro audiovisual es un testimonio único de su tiempo y de su gente. Sin embargo\, gran parte del patrimonio audiovisual paraguayo: películas familiares\, comunitarias y registros en soportes fílmicos\, magnéticos y digitales\, se encuentra en riesgo de perderse para siempre debido al deterioro y la falta de preservación o conservación. \nRescatar + Preservar y Remontar es un proyecto que busca revertir esa situación\, formando nuevas generaciones de especialistas y activando redes de memoria que mantengan vivas nuestras imágenes e historias. \nEn su segunda etapa\, el proyecto abre esta convocatoria para participar de una semana intensiva de formación práctica (Del 14 al 19 de octubre) en la que reconocidos profesionales nacionales e internacionales compartirán herramientas y metodologías de preservación\, rescate e interpretación de archivos. A partir de esta instancia\, se conformará un equipo de rescate audiovisual que recorrerá distintas localidades del país durante octubre y noviembre\, para identificar\, preservar y difundir materiales audiovisuales familiares y comunitarios. \nPara anotarse\, debes completar este formulario
URL:https://www.icpa-gz.org.py/evento/convocatoria-rescatar-preservar-y-remontar-1-4/
LOCATION:Online
CATEGORIES:apoyado por el ICPA-GZ,Arte,Cine,Convocatoria,Cultura,Evento digital,Fotografía,Taller
ATTACH;FMTTYPE=image/jpeg:https://www.icpa-gz.org.py/wp-content/uploads/2025/09/WhatsApp-Image-2025-09-15-at-16.23.54.jpeg
END:VEVENT
END:VCALENDAR