BEGIN:VCALENDAR
VERSION:2.0
PRODID:-//Instituto Cultural Paraguayo Alemán – Goethe-Zentrum - ECPv6.15.20//NONSGML v1.0//EN
CALSCALE:GREGORIAN
METHOD:PUBLISH
X-WR-CALNAME:Instituto Cultural Paraguayo Alemán – Goethe-Zentrum
X-ORIGINAL-URL:https://www.icpa-gz.org.py
X-WR-CALDESC:Eventos para Instituto Cultural Paraguayo Alemán – Goethe-Zentrum
REFRESH-INTERVAL;VALUE=DURATION:PT1H
X-Robots-Tag:noindex
X-PUBLISHED-TTL:PT1H
BEGIN:VTIMEZONE
TZID:America/Asuncion
BEGIN:STANDARD
TZOFFSETFROM:-0300
TZOFFSETTO:-0400
TZNAME:-04
DTSTART:20240324T030000
END:STANDARD
BEGIN:DAYLIGHT
TZOFFSETFROM:-0400
TZOFFSETTO:-0300
TZNAME:-03
DTSTART:20241006T040000
END:DAYLIGHT
BEGIN:STANDARD
TZOFFSETFROM:-0300
TZOFFSETTO:-0300
TZNAME:-03
DTSTART:20241015T030000
END:STANDARD
END:VTIMEZONE
BEGIN:VEVENT
DTSTART;TZID=America/Asuncion:20250530T193000
DTEND;TZID=America/Asuncion:20250530T210000
DTSTAMP:20260425T130731
CREATED:20250520T174959Z
LAST-MODIFIED:20250520T174959Z
UID:53474-1748633400-1748638800@www.icpa-gz.org.py
SUMMARY:Under de volcano | XVI Ciclo de Cine Europeo
DESCRIPTION:El XVI Ciclo de Cine Europeo tendrá lugar del 22 al 30 de mayo. Te esperamos para ver todas las películas que tenemos para vos\, con acceso libre y gratuito. \nUnder de volcano \nUna familia ucraniana mixta\, pasa el último día de vacaciones en Tenerife\, España. Cuando la invación rusa de Ucrania los deja varados en la isla\, deben lidiar con el aislamiento\, el deber\, el miedo… y entre ellos. \nFecha: Viernes 30 de mayo 2025 \nHorario: 19:30 Hs. \nLugar: Instituto Cultural Paraguayo-Alemán – Goethe-Zentrum \nDirección: Juan de Salazar 310 esquina Artigas | Asunción \n  \nMás información sobre el ciclo de cine: \nUE Paraguay en Instagram \nUE Paraguay en Facebook
URL:https://www.icpa-gz.org.py/evento/under-de-volcano-xvi-ciclo-de-cine-europeo/
LOCATION:Salón Rolando Rasmussen del Instituto Cultural Paraguayo-Alemán – Goethe-Zentrum | ICPA-GZ\, Juan de Salazar 310 c/ Artigas Barrio Ricardo Brugada\, Asunción\, Distrito Capital\, Paraguay
CATEGORIES:Arte,Ciclo de Cine Europeo en Paraguay,Cine,Cultura,Evento presencial,Mes de Europa
ATTACH;FMTTYPE=image/jpeg:https://www.icpa-gz.org.py/wp-content/uploads/2025/05/497860740_18132943957411289_8879086245040561096_n.jpg
END:VEVENT
END:VCALENDAR