BEGIN:VCALENDAR
VERSION:2.0
PRODID:-//Instituto Cultural Paraguayo Alemán – Goethe-Zentrum - ECPv6.15.20//NONSGML v1.0//EN
CALSCALE:GREGORIAN
METHOD:PUBLISH
X-WR-CALNAME:Instituto Cultural Paraguayo Alemán – Goethe-Zentrum
X-ORIGINAL-URL:https://www.icpa-gz.org.py
X-WR-CALDESC:Eventos para Instituto Cultural Paraguayo Alemán – Goethe-Zentrum
REFRESH-INTERVAL;VALUE=DURATION:PT1H
X-Robots-Tag:noindex
X-PUBLISHED-TTL:PT1H
BEGIN:VTIMEZONE
TZID:America/Asuncion
BEGIN:STANDARD
TZOFFSETFROM:-0300
TZOFFSETTO:-0400
TZNAME:-04
DTSTART:20240324T030000
END:STANDARD
BEGIN:DAYLIGHT
TZOFFSETFROM:-0400
TZOFFSETTO:-0300
TZNAME:-03
DTSTART:20241006T040000
END:DAYLIGHT
BEGIN:STANDARD
TZOFFSETFROM:-0300
TZOFFSETTO:-0300
TZNAME:-03
DTSTART:20241015T030000
END:STANDARD
END:VTIMEZONE
BEGIN:VEVENT
DTSTART;TZID=America/Asuncion:20250415T190000
DTEND;TZID=America/Asuncion:20250415T210000
DTSTAMP:20260425T130658
CREATED:20250414T204419Z
LAST-MODIFIED:20250414T204527Z
UID:52500-1744743600-1744750800@www.icpa-gz.org.py
SUMMARY:Audición guiada de "La pasión según San Juan"
DESCRIPTION:La Sociedad Bach del Paraguay\, invita a (y ver) esta obra monumental de la historia de la música\, de una fuerza dramática incomparable y de una profundidad espiritual absolutamente conmovedora. Escucharemos una de las mejores versiones grabadas en audio y vídeo\, con supertitulos en español.\n\n\n \n\n\nNos prepararemos así para la Semana Santa\, y para escuchar la obra en vivo en nuestro Festival Bach Sudamericano Asunción 2025.\n\n\n \n\n\nFecha: Martes 15 de abril\n\n\nHorario: 19:00 Hs. \n\n\nEntrada: Gratuita.\n\n\nLugar: Instituto Cultural Paraguayo-Alemán – Goethe-Zentrum \n\n\nJuan de Salazar y Artigas
URL:https://www.icpa-gz.org.py/evento/audicion-guiada-de-la-pasion-segun-san-juan/
LOCATION:Salón Rolando Rasmussen del Instituto Cultural Paraguayo-Alemán – Goethe-Zentrum | ICPA-GZ\, Juan de Salazar 310 c/ Artigas Barrio Ricardo Brugada\, Asunción\, Distrito Capital\, Paraguay
CATEGORIES:Arte,Cine,Cultura,Evento presencial,Música
ATTACH;FMTTYPE=image/jpeg:https://www.icpa-gz.org.py/wp-content/uploads/2025/04/490495600_9471410156287963_9105301803760220223_n.jpg
END:VEVENT
END:VCALENDAR