BEGIN:VCALENDAR
VERSION:2.0
PRODID:-//Instituto Cultural Paraguayo Alemán – Goethe-Zentrum - ECPv6.15.20//NONSGML v1.0//EN
CALSCALE:GREGORIAN
METHOD:PUBLISH
X-ORIGINAL-URL:https://www.icpa-gz.org.py
X-WR-CALDESC:Eventos para Instituto Cultural Paraguayo Alemán – Goethe-Zentrum
REFRESH-INTERVAL;VALUE=DURATION:PT1H
X-Robots-Tag:noindex
X-PUBLISHED-TTL:PT1H
BEGIN:VTIMEZONE
TZID:America/Asuncion
BEGIN:STANDARD
TZOFFSETFROM:-0300
TZOFFSETTO:-0400
TZNAME:-04
DTSTART:20240324T030000
END:STANDARD
BEGIN:DAYLIGHT
TZOFFSETFROM:-0400
TZOFFSETTO:-0300
TZNAME:-03
DTSTART:20241006T040000
END:DAYLIGHT
BEGIN:STANDARD
TZOFFSETFROM:-0300
TZOFFSETTO:-0300
TZNAME:-03
DTSTART:20241015T030000
END:STANDARD
END:VTIMEZONE
BEGIN:VEVENT
DTSTART;TZID=America/Asuncion:20251004T180000
DTEND;TZID=America/Asuncion:20251004T190000
DTSTAMP:20260425T002808
CREATED:20250922T215427Z
LAST-MODIFIED:20251010T195404Z
UID:57050-1759600800-1759604400@www.icpa-gz.org.py
SUMMARY:Noche de cine alemán en el Puerto | Semana Alemana
DESCRIPTION:Noche de cine alemán en el Puerto: “Into the beat – Tu corazón baila” – Ciclo de cinematografía contemporánea europaa “Al otro lado del mar”\nHorario: 18:00 hs \nInto the Beat – Dein Herz tanzt\nAño 2020\nDuración 98 min.\nDirección: Stefan Westerwelle\nGénero. Drama. Romance | Baile. Ballet. Hip Hop. Música \nSinopsis\nUna joven bailarina de ballet descubre el hip-hop por casualidad y se enfrenta a un dilema imposible: seguir los pasos de sus padres o dedicarse a su nueva pasión. \nLugar: Centro Cultural del Puerto de Asunción\nAvda. De la República esq. Avda. Colón
URL:https://www.icpa-gz.org.py/evento/noche-de-cine-aleman-en-el-puerto-semana-alemana/
LOCATION:Centro Cultural del Puerto\, Avda. República\, Asunción\, Distrito Capital\, Paraguay
CATEGORIES:apoyado por el ICPA-GZ,Arte,Cine,Cultura,Evento presencial,Semana Alemana | Deutsche Woche
ATTACH;FMTTYPE=image/jpeg:https://www.icpa-gz.org.py/wp-content/uploads/2025/09/al-otro-lado-del-mar-alemania-feed.jpg
END:VEVENT
BEGIN:VEVENT
DTSTART;TZID=America/Asuncion:20251007T193000
DTEND;TZID=America/Asuncion:20251007T213000
DTSTAMP:20260425T002808
CREATED:20250924T214902Z
LAST-MODIFIED:20250924T214902Z
UID:57097-1759865400-1759872600@www.icpa-gz.org.py
SUMMARY:Documental “Leben.Jezzt” | Semana Alemana
DESCRIPTION:Estreno del documental “Leben.Jezzt” de Mónica Ismael \nFecha: Martes 7 de octubre 2025\nHorario: 19:30 hs\nLugar: Salón Auditorio del Instituto Cultural Paraguayo Alemán (ICPA) Juan de Salazar y Espinoza 310 c/ Av. Artigas \nIngresa en este enlace para conocer toda la programación de la Semana Alemana
URL:https://www.icpa-gz.org.py/evento/documental-leben-jezzt-semana-alemana/
LOCATION:Salón Rolando Rasmussen del Instituto Cultural Paraguayo-Alemán – Goethe-Zentrum | ICPA-GZ\, Juan de Salazar 310 c/ Artigas Barrio Ricardo Brugada\, Asunción\, Distrito Capital\, Paraguay
CATEGORIES:apoyado por el ICPA-GZ,Arte,Cine,Cultura,Evento presencial,Semana Alemana | Deutsche Woche
ATTACH;FMTTYPE=image/jpeg:https://www.icpa-gz.org.py/wp-content/uploads/2025/09/547514550_1095553402751787_2563951313678458577_n.jpg
END:VEVENT
BEGIN:VEVENT
DTSTART;TZID=America/Asuncion:20251012T160000
DTEND;TZID=America/Asuncion:20251012T173000
DTSTAMP:20260425T002808
CREATED:20251007T212930Z
LAST-MODIFIED:20251007T212930Z
UID:57361-1760284800-1760290200@www.icpa-gz.org.py
SUMMARY:Película "Checker Tobi y el viaje a los ríos voladores"
DESCRIPTION:¡Domingo de película para los más pequeños! \nEste domingo 12 de octubre\, te esperamos en el ICPA-GZ con la película infantil “Checker Tobi y el viaje a los ríos voladores”. Te esperamos con toda la familia. \nSobre la película:\nEl inspector Tobi recibe un misterioso cofre del tesoro. Solo una persona tiene la llave: Marina\, su mejor amiga desde la infancia. Pero nadie sabe dónde está. Tobi inicia su búsqueda por el mundo\, para resolver este enigma. \nDomingo 12 de octubre\n16:00 Hs.\nAcceso gratuito\nInstituto Cultural Paraguayo Alemán | Juan de Salazar 310 esq. Artiga \nEste evento se realiza en el marco de la Semana Ambiental \, organizada por la Unión Europea en Paraguay y la Semana Alemana \, organizada por la Embajada de Alemania Asunción – Deutsche Botschaft Asuncion y el ICPA-GZ.
URL:https://www.icpa-gz.org.py/evento/pelicula-checker-tobi-y-el-viaje-a-los-rios-voladores/
LOCATION:Salón Rolando Rasmussen del Instituto Cultural Paraguayo-Alemán – Goethe-Zentrum | ICPA-GZ\, Juan de Salazar 310 c/ Artigas Barrio Ricardo Brugada\, Asunción\, Distrito Capital\, Paraguay
CATEGORIES:apoyado por el ICPA-GZ,Arte,Cine,Cultura,Embajada de Alemania Asunción,Evento para niñas y niños,Evento presencial,Goethe-Institut,Semana Alemana | Deutsche Woche,Semana de Acción Ambiental
ATTACH;FMTTYPE=image/png:https://www.icpa-gz.org.py/wp-content/uploads/2025/10/feed-Pelicula-ICPA.png
END:VEVENT
END:VCALENDAR