BEGIN:VCALENDAR
VERSION:2.0
PRODID:-//Instituto Cultural Paraguayo Alemán – Goethe-Zentrum - ECPv6.15.20//NONSGML v1.0//EN
CALSCALE:GREGORIAN
METHOD:PUBLISH
X-WR-CALNAME:Instituto Cultural Paraguayo Alemán – Goethe-Zentrum
X-ORIGINAL-URL:https://www.icpa-gz.org.py
X-WR-CALDESC:Eventos para Instituto Cultural Paraguayo Alemán – Goethe-Zentrum
REFRESH-INTERVAL;VALUE=DURATION:PT1H
X-Robots-Tag:noindex
X-PUBLISHED-TTL:PT1H
BEGIN:VTIMEZONE
TZID:America/Asuncion
BEGIN:STANDARD
TZOFFSETFROM:-0300
TZOFFSETTO:-0400
TZNAME:-04
DTSTART:20240324T030000
END:STANDARD
BEGIN:DAYLIGHT
TZOFFSETFROM:-0400
TZOFFSETTO:-0300
TZNAME:-03
DTSTART:20241006T040000
END:DAYLIGHT
BEGIN:STANDARD
TZOFFSETFROM:-0300
TZOFFSETTO:-0300
TZNAME:-03
DTSTART:20241015T030000
END:STANDARD
END:VTIMEZONE
BEGIN:VEVENT
DTSTART;TZID=America/Asuncion:20250510T083000
DTEND;TZID=America/Asuncion:20250510T120000
DTSTAMP:20260425T074108
CREATED:20250507T202907Z
LAST-MODIFIED:20250507T202907Z
UID:53043-1746865800-1746878400@www.icpa-gz.org.py
SUMMARY:Taller de subtitulado audiovisual | Anjana Beisel 1/2
DESCRIPTION:Te invitamos a participar este taller práctico donde aprenderás a añadir subtítulos a películas y vídeos de forma profesional\, manualmente y con la ayuda de herramientas de AI. Impartido por Anjana Beisel. \n\n\n \n\n\nConocerás y utilizarás el programa “Subtitle Edit”. También podrás practicar tus habilidades de traducción\, porque se crearán subtítulos en español para películas en alemán. El resultado formará parte del ciclo de cine “posmigración”. \n\n\n\n\n\nDirigido a personas que cuenten con un nivel intermedio (por lo menos B1) tanto en alemán como en español y puedan asistir a las dos fechas del taller. \n\n\n \n\n\nAnne Anjana Beisel estudia alemán y español en el Máster de Educación de la Universidad Johannes Gutenberg de Maguncia. Poco antes de graduarse\, se trasladó a la Universidad Nacional de Asunción en Paraguay como becaria del DAAD\, como asistente de docencia en el Instituto Superior de Lenguas en la Universidad Nacional de Asunción\, donde ahora trabaja\, entre otras cosas\, como profesora de Alemán. Sus principales áreas de interés son la adquisición de L1 y L2\, la gramática\, la traducción y el uso del idioma en las películas tanto dobladas como subtituladas.\n\n\n \n\n\nFechas: 10 y 24 de mayo\n\n\nHorario: De 08:30 a 12:00 Hs. \n\n\nCosto:  Gratis\nInscripciones hasta el 8 de mayo:\n\n\n +595985712784\n\n\nabeisel@fiuna.edu.py
URL:https://www.icpa-gz.org.py/evento/taller-de-subtitulado-audiovisual-anjana-beisel-1-2/
LOCATION:Instituto Cultural Paraguayo-Alemán – Goethe-Zentrum | ICPA-GZ\, Juan de Salazar 310 c/ Artigas_\, Asuncion\, 3500\, Paraguay
CATEGORIES:apoyado por el ICPA-GZ,Arte,Capacitación,Cine,Cultura,Evento presencial,Servicio Alemán de Intercambio Académico | DAAD,Taller
ATTACH;FMTTYPE=image/jpeg:https://www.icpa-gz.org.py/wp-content/uploads/2025/05/WhatsApp-Image-2025-05-02-at-18.13.59.jpeg
END:VEVENT
BEGIN:VEVENT
DTSTART;TZID=America/Asuncion:20250522T193000
DTEND;TZID=America/Asuncion:20250522T213000
DTSTAMP:20260425T074108
CREATED:20250519T195355Z
LAST-MODIFIED:20250519T195355Z
UID:53316-1747942200-1747949400@www.icpa-gz.org.py
SUMMARY:UFO Sweden | XVI Ciclo de Cine Europeo
DESCRIPTION:El XVI Ciclo de Cine Europeo tendrá lugar del 22 al 30 de mayo. Te esperamos para ver todas las películas que tenemos para vos\, con acceso libre y gratuito. \nUFO Sweden: Cazadores de Ovnis \nUna adolescente rebelde colocada en una casa de acogida\, sospecha que su padre no se ha muerto\, sino que ha sido secuestrado. Ella está decidida a descubrir la verdad con la ayuda de una asociación de ovnis. \n  \nFecha: Jueves 22 de mayo 2025 \nHorario: 19:30 Hs. \nLugar: Cines Villamorra | Salas 5 y 6 \n  \nMás información sobre el ciclo de cine: \nUE Paraguay en Instagram \nUE Paraguay en Facebook
URL:https://www.icpa-gz.org.py/evento/ufo-sweden-xvi-ciclo-de-cine-europeo/
LOCATION:Cine Villamorra\, Av. Mariscal López 3794 | Shopping Villamorra\, Asunción\, Distrito Capital\, Paraguay
CATEGORIES:Arte,Ciclo de Cine Europeo en Paraguay,Cine,Cultura,Evento presencial,Mes de Europa
ATTACH;FMTTYPE=image/jpeg:https://www.icpa-gz.org.py/wp-content/uploads/2025/05/497308787_18132477658411289_462895622415890992_n.jpg
END:VEVENT
BEGIN:VEVENT
DTSTART;TZID=America/Asuncion:20250523T193000
DTEND;TZID=America/Asuncion:20250523T213000
DTSTAMP:20260425T074108
CREATED:20250519T200154Z
LAST-MODIFIED:20250520T175707Z
UID:53332-1748028600-1748035800@www.icpa-gz.org.py
SUMMARY:That they may face the rising sun | XVI Ciclo de Cine Europeo
DESCRIPTION:El XVI Ciclo de Cine Europeo tendrá lugar del 22 al 30 de mayo. Te esperamos para ver todas las películas que tenemos para vos\, con acceso libre y gratuito. \nThat they may face the rising sun \nJoe y Kate Ruttledge regresan de Londres a una comunidad junto al lago\, cerca de donde Joe creció. Integrados a una vida lacustre\, su drama y el de los personajes que lo rodean se depliegan mediante rituales cotidianos y el paso de las estaciones. Adaptación de la aclamada novela homónima de John McGahern. \n  \nFecha: Viernes 23 de mayo 2025 \nHorario: 19:30 Hs. \nLugar: Cines Villamorra | Sala 1 \n  \nMás información sobre el ciclo de cine: \nUE Paraguay en Instagram \nUE Paraguay en Facebook
URL:https://www.icpa-gz.org.py/evento/that-they-may-face-the-rising-sun-xvi-ciclo-de-cine-europeo/
LOCATION:Cine Villamorra\, Av. Mariscal López 3794 | Shopping Villamorra\, Asunción\, Distrito Capital\, Paraguay
CATEGORIES:Arte,Ciclo de Cine Europeo en Paraguay,Cine,Cultura,Evento presencial,Mes de Europa
ATTACH;FMTTYPE=image/jpeg:https://www.icpa-gz.org.py/wp-content/uploads/2025/05/496918204_18132477679411289_2616008984582410544_n.jpg
END:VEVENT
BEGIN:VEVENT
DTSTART;TZID=America/Asuncion:20250524T083000
DTEND;TZID=America/Asuncion:20250524T120000
DTSTAMP:20260425T074108
CREATED:20250507T203049Z
LAST-MODIFIED:20250507T203401Z
UID:53059-1748075400-1748088000@www.icpa-gz.org.py
SUMMARY:Taller de subtitulado audivisual | Anjana Beisel 2/2
DESCRIPTION:Te invitamos a participar este taller práctico donde aprenderás a añadir subtítulos a películas y vídeos de forma profesional\, manualmente y con la ayuda de herramientas de AI. Impartido por Anjana Beisel. \n\n\n \n\n\nConocerás y utilizarás el programa “Subtitle Edit”. También podrás practicar tus habilidades de traducción\, porque se crearán subtítulos en español para películas en alemán. El resultado formará parte del ciclo de cine “posmigración”. \n\n\n\n\n\nDirigido a personas que cuenten con un nivel intermedio (por lo menos B1) tanto en alemán como en español y puedan asistir a las dos fechas del taller. \n\n\n \n\n\nAnne Anjana Beisel estudia alemán y español en el Máster de Educación de la Universidad Johannes Gutenberg de Maguncia. Poco antes de graduarse\, se trasladó a la Universidad Nacional de Asunción en Paraguay como becaria del DAAD\, como asistente de docencia en el Instituto Superior de Lenguas en la Universidad Nacional de Asunción\, donde ahora trabaja\, entre otras cosas\, como profesora de Alemán. Sus principales áreas de interés son la adquisición de L1 y L2\, la gramática\, la traducción y el uso del idioma en las películas tanto dobladas como subtituladas.\n\n\n \n\n\nFechas: 10 y 24 de mayo\n\n\nHorario: De 08:30 a 12:00 Hs. \n\n\nCosto:  Gratis\nInscripciones hasta el 8 de mayo:\n\n\n +595985712784\n\n\nabeisel@fiuna.edu.py
URL:https://www.icpa-gz.org.py/evento/taller-de-subtitulado-audivisual-anjana-beisel-2-2/
LOCATION:Instituto Cultural Paraguayo-Alemán – Goethe-Zentrum | ICPA-GZ\, Juan de Salazar 310 c/ Artigas_\, Asuncion\, 3500\, Paraguay
CATEGORIES:apoyado por el ICPA-GZ,Arte,Cine,Cultura,Evento presencial,Servicio Alemán de Intercambio Académico | DAAD,Taller
ATTACH;FMTTYPE=image/jpeg:https://www.icpa-gz.org.py/wp-content/uploads/2025/05/WhatsApp-Image-2025-05-02-at-18.13.59.jpeg
END:VEVENT
BEGIN:VEVENT
DTSTART;TZID=America/Asuncion:20250524T093000
DTEND;TZID=America/Asuncion:20250524T120000
DTSTAMP:20260425T074108
CREATED:20250422T192321Z
LAST-MODIFIED:20250422T193229Z
UID:52554-1748079000-1748088000@www.icpa-gz.org.py
SUMMARY:Ciclo de Cine "Con-versar Cine"
DESCRIPTION:Con-versar Cine tendrá una edición especial donde se proyectará la película V13\, aún en etapa de prelanzamiento\, del reconocido cineasta\, artista y escritor neoyorquino Richard C. Ledes quien\, al término de la proyección\, conversará en vivo con psicoanalistas de Paraguay\, actores en formación y  un selecto público. Esta edición especial es auspiciada por la École Lacanienne de Psychanalyse (ELP). \nTras la proyección\, se abrirá a las 12:00 hs. un privilegiado espacio de intercambio entre @rledes y los presentes\, donde se podrán explorar las conexiones entre su obra\, el psicoanálisis y otros temas relevantes que surjan a partir del film. El evento contará con traducción simultánea. \nEste encuentro excepcional está dirigido a psicólogos y psiquiatras con amplia experiencia interdisciplinaria\, artistas\, cineastas\, escritores y a personas interesadas en el cine\, el psicoanálisis y la cultura. \nFecha: La actividad está prevista para el sábado 24 de mayo a las 9:30 hs. \nLugar: Auditorio Rolando Rasmussen | Instituto Cultural Paraguayo-Alemán – Goethe-Zentrum \nDirección: Juan de Salazar 310 esquina Artigas. \nCosto: La contribución para cubrir los gastos del evento es de 110 mil Gs. para profesionales y 80 mil Gs. para estudiantes de @tiamanegliaschembori. La misma podrá efectuarse  hasta el 14 de mayo. \nGestionar contribución: +595971 203 552\nMás información: +595972 281 821
URL:https://www.icpa-gz.org.py/evento/ciclo-de-cine-con-versar-cine/
LOCATION:Salón Rolando Rasmussen del Instituto Cultural Paraguayo-Alemán – Goethe-Zentrum | ICPA-GZ\, Juan de Salazar 310 c/ Artigas Barrio Ricardo Brugada\, Asunción\, Distrito Capital\, Paraguay
CATEGORIES:Arte,Charla,Cine,Cultura,Evento presencial
ATTACH;FMTTYPE=image/jpeg:https://www.icpa-gz.org.py/wp-content/uploads/2025/04/WhatsApp-Image-2025-04-21-at-13.59.38-1.jpeg
END:VEVENT
BEGIN:VEVENT
DTSTART;TZID=America/Asuncion:20250524T170000
DTEND;TZID=America/Asuncion:20250524T190000
DTSTAMP:20260425T074108
CREATED:20250519T201622Z
LAST-MODIFIED:20250519T201622Z
UID:53348-1748106000-1748113200@www.icpa-gz.org.py
SUMMARY:Mariposas Negras | XVI Ciclo de Cine Europeo
DESCRIPTION:El XVI Ciclo de Cine Europeo tendrá lugar del 22 al 30 de mayo. Te esperamos para ver todas las películas que tenemos para vos\, con acceso libre y gratuito. \nMariposas Negras \nEl cambio climático impacta en la vida de Tanit\, Valeria y Shaila. Tres mujeres de puntos muy distintos del planeta\, pero con algo en común: las tres lo pierden todo y se ven forzadas a migrar. Inspiradas por mujeres reales\, propone un viaje por África\, el Caribe y Asia\, hacia un incierto futuro para la humanidad. \nFecha: Sábado 24 de mayo 2025 \nHorario: 17:00 Hs. \nLugar: Centro Cultural de España Juan de Salazar \nDirección: Herrera 834 c/ Tacuary \n  \nMás información sobre el ciclo de cine: \nUE Paraguay en Instagram \nUE Paraguay en Facebook
URL:https://www.icpa-gz.org.py/evento/mariposas-negras-xvi-ciclo-de-cine-europeo/
LOCATION:Centro Cultural de España Juan de Salazar | CCEJS\, Herrera 834\, Asunción\, Distrito Capital\, Paraguay
CATEGORIES:Arte,Ciclo de Cine Europeo en Paraguay,Cine,Cultura,Evento presencial,Mes de Europa
ATTACH;FMTTYPE=image/jpeg:https://www.icpa-gz.org.py/wp-content/uploads/2025/05/497394352_18132650461411289_7655719274522616448_n.jpg
END:VEVENT
BEGIN:VEVENT
DTSTART;TZID=America/Asuncion:20250524T193000
DTEND;TZID=America/Asuncion:20250524T213000
DTSTAMP:20260425T074108
CREATED:20250519T202321Z
LAST-MODIFIED:20250519T202321Z
UID:53364-1748115000-1748122200@www.icpa-gz.org.py
SUMMARY:Les pas perdus | XVI Ciclo de Cine Europeo
DESCRIPTION:El XVI Ciclo de Cine Europeo tendrá lugar del 22 al 30 de mayo. Te esperamos para ver todas las películas que tenemos para vos\, con acceso libre y gratuito. \nLes pas perdus \nEl juzgado abre sus puertas. En él se precipitan seres en busca de libertad\, reconocimiento\, amor y perdón. Están en tránsito en la habitación de los pasos perdidos\, pero no por mucho tiempo. Hoy tomarán una decisión que cambiará sus vidas y descubrirán que la búsqueda de sí mismos no está exenta de consecuencias. \nFecha: Sábado 24 de mayo 2025 \nHorario: 19:30 Hs. \nLugar: Cines Villamorra | Sala 1 \n  \nMás información sobre el ciclo de cine: \nUE Paraguay en Instagram \nUE Paraguay en Facebook
URL:https://www.icpa-gz.org.py/evento/les-pas-perdus-xvi-ciclo-de-cine-europeo/
LOCATION:Cine Villamorra\, Av. Mariscal López 3794 | Shopping Villamorra\, Asunción\, Distrito Capital\, Paraguay
CATEGORIES:Arte,Ciclo de Cine Europeo en Paraguay,Cine,Cultura,Evento presencial,Mes de Europa
ATTACH;FMTTYPE=image/jpeg:https://www.icpa-gz.org.py/wp-content/uploads/2025/05/497490267_18132650485411289_4717541349978589330_n.jpg
END:VEVENT
BEGIN:VEVENT
DTSTART;TZID=America/Asuncion:20250525T180000
DTEND;TZID=America/Asuncion:20250525T200000
DTSTAMP:20260425T074108
CREATED:20250519T202847Z
LAST-MODIFIED:20250519T202847Z
UID:53380-1748196000-1748203200@www.icpa-gz.org.py
SUMMARY:Enrico Piaggio un sueño italiano | XVI Ciclo de Cine Europeo
DESCRIPTION:El XVI Ciclo de Cine Europeo tendrá lugar del 22 al 30 de mayo. Te esperamos para ver todas las películas que tenemos para vos\, con acceso libre y gratuito. \nEnrico Piaggio un sueño italiano \nCuando su negocio está a punto de quebrar\, el empresario Enrico Piaggio se le ocurre un nuevo invento que cambia el mundo. La vida de Enrico Piaggio y de una moto icónica: La Vespa. \nFecha: Domingo 25 de mayo 2025 \nHorario: 18:00 Hs. \nLugar: Cine Cañisá \n  \nMás información sobre el ciclo de cine: \nUE Paraguay en Instagram \nUE Paraguay en Facebook
URL:https://www.icpa-gz.org.py/evento/enrico-piaggio-un-sueno-italiano-xvi-ciclo-de-cine-europeo/
LOCATION:Cine Cañisá\, Asunción\, Paraguay
CATEGORIES:Arte,Ciclo de Cine Europeo en Paraguay,Cine,Cultura,Evento presencial,Mes de Europa
ATTACH;FMTTYPE=image/jpeg:https://www.icpa-gz.org.py/wp-content/uploads/2025/05/497530554_18132728362411289_6779699463501344823_n.jpg
END:VEVENT
BEGIN:VEVENT
DTSTART;TZID=America/Asuncion:20250526T200000
DTEND;TZID=America/Asuncion:20250526T220000
DTSTAMP:20260425T074108
CREATED:20250519T203655Z
LAST-MODIFIED:20250519T203655Z
UID:53396-1748289600-1748296800@www.icpa-gz.org.py
SUMMARY:Flow | XVI Ciclo de Cine Europeo
DESCRIPTION:El XVI Ciclo de Cine Europeo tendrá lugar del 22 al 30 de mayo. Te esperamos para ver todas las películas que tenemos para vos\, con acceso libre y gratuito. \nFlow \nEl gato es un animal solitario. Pero cuando su hogar es devastado por una gran inundación\, encuentra refugio en un barco habitado por varias especies. Tendrá que trabajar en equipo con ellas\, a pesar de sus diferencias. \nFecha: Lunes 16 de mayo 2025 \nHorario: 20:00 Hs. \nLugar: Cinemark \n  \nMás información sobre el ciclo de cine: \nUE Paraguay en Instagram \nUE Paraguay en Facebook
URL:https://www.icpa-gz.org.py/evento/flow-xvi-ciclo-de-cine-europeo/
LOCATION:Cinemark Paseo La Galería\, Av. Sta. Teresa casi\, Asunción 001410\, Asunción\, Paraguay
CATEGORIES:Arte,Ciclo de Cine Europeo en Paraguay,Cine,Cultura,Evento presencial,Mes de Europa
ATTACH;FMTTYPE=image/jpeg:https://www.icpa-gz.org.py/wp-content/uploads/2025/05/497881687_18132728386411289_1806362454038940562_n.jpg
END:VEVENT
BEGIN:VEVENT
DTSTART;TZID=America/Asuncion:20250527T193000
DTEND;TZID=America/Asuncion:20250527T210000
DTSTAMP:20260425T074108
CREATED:20250519T204343Z
LAST-MODIFIED:20250519T204343Z
UID:53413-1748374200-1748379600@www.icpa-gz.org.py
SUMMARY:Un Métier Sérieux | XVI Ciclo de Cine Europeo
DESCRIPTION:El XVI Ciclo de Cine Europeo tendrá lugar del 22 al 30 de mayo. Te esperamos para ver todas las películas que tenemos para vos\, con acceso libre y gratuito. \nUn Métier Sérieux \nComineza un nuevo año escolar. Benjamín\, un estudiante de doctorado\, entusiasta pero sin beca\, acepta un reto inesperado: trabajar como profesor en un instituto de Paris. Aunque llega sin formación previa ni experiencia\, pronto se enfrenta al desafío con determinación. En un sistema educativo con limitaciones\, descubre no sólo las dificultades del oficio\, sino también su lado más humano y tranformador. \nFecha: Martes 27 de mayo 2025 \nHorario: 19:30 Hs. \nLugar: Alianza Francesa de Asunción \n  \nMás información sobre el ciclo de cine: \nUE Paraguay en Instagram \nUE Paraguay en Facebook
URL:https://www.icpa-gz.org.py/evento/un-metier-serieux-xvi-ciclo-de-cine-europeo/
LOCATION:Alianza Francesa | Asunción\, Mcal. Estigarribia 1039\, Asunción\, Distrito Capital\, Paraguay
CATEGORIES:Arte,Ciclo de Cine Europeo en Paraguay,Cine,Cultura,Evento presencial,Mes de Europa
ATTACH;FMTTYPE=image/jpeg:https://www.icpa-gz.org.py/wp-content/uploads/2025/05/498117867_18132855706411289_8894796295591363480_n.jpg
END:VEVENT
BEGIN:VEVENT
DTSTART;TZID=America/Asuncion:20250528T193000
DTEND;TZID=America/Asuncion:20250528T210000
DTSTAMP:20260425T074108
CREATED:20250519T205030Z
LAST-MODIFIED:20250520T173354Z
UID:53429-1748460600-1748466000@www.icpa-gz.org.py
SUMMARY:Orphea Enamorada | XVI Ciclo de Cine Europeo
DESCRIPTION:El XVI Ciclo de Cine Europeo tendrá lugar del 22 al 30 de mayo. Te esperamos para ver todas las películas que tenemos para vos\, con acceso libre y gratuito. \nOrphea Enamorada \nAl superar su cotiadiana y gris realidad a través de la música\, la ópera y la danza\, la agente de un locutorio Nele y el delincuente de poca monta Kolya\, se encuentran como almas gemelas. Pero pronto tendrán que superar pruebas de una dimensión mitológica griega\, en una simpática fusión de cine y ópera. \nFecha: Miércoles 28 de mayo 2025 \nHorario: 19:30 Hs. \nLugar: Instituto Cultural Paraguayo-Alemán – Goethe-Zentrum \nDirección: Juan de Salazar 310 esquina Artigas | Asunción – Paraguay \n  \nMás información sobre el ciclo de cine: \nUE Paraguay en Instagram \nUE Paraguay en Facebook
URL:https://www.icpa-gz.org.py/evento/orphea-enamorada-xvi-ciclo-de-cine-europeo/
LOCATION:Instituto Cultural Paraguayo-Alemán – Goethe-Zentrum | ICPA-GZ\, Juan de Salazar 310 c/ Artigas_\, Asuncion\, 3500\, Paraguay
CATEGORIES:Arte,Ciclo de Cine Europeo en Paraguay,Cine,Cultura,Evento presencial,Mes de Europa
ATTACH;FMTTYPE=image/jpeg:https://www.icpa-gz.org.py/wp-content/uploads/2025/05/497881687_18132855733411289_5333810575909857520_n.jpg
END:VEVENT
BEGIN:VEVENT
DTSTART;TZID=America/Asuncion:20250529T193000
DTEND;TZID=America/Asuncion:20250529T210000
DTSTAMP:20260425T074108
CREATED:20250520T174239Z
LAST-MODIFIED:20250520T174239Z
UID:53458-1748547000-1748552400@www.icpa-gz.org.py
SUMMARY:A bella América | XVI Ciclo de Cine Europeo
DESCRIPTION:El XVI Ciclo de Cine Europeo tendrá lugar del 22 al 30 de mayo. Te esperamos para ver todas las películas que tenemos para vos\, con acceso libre y gratuito. \nA bella América \nLucas\, el cocinero\, seduce a América\, una estrella de televisión y candidata presidencial. Entrará clandestinamente a su casa para seducirla con comidas extraordinarias\, provocando la improbable intersección de sus destinos. \nFecha: Jueves 29 de mayo 2025 \nHorario: 19:30 Hs. \nLugar: Cines Villamorra | Sala 1 \n  \nMás información sobre el ciclo de cine: \nUE Paraguay en Instagram \nUE Paraguay en Facebook
URL:https://www.icpa-gz.org.py/evento/a-bella-america-xvi-ciclo-de-cine-europeo/
LOCATION:Cine Villamorra\, Av. Mariscal López 3794 | Shopping Villamorra\, Asunción\, Distrito Capital\, Paraguay
CATEGORIES:Arte,Ciclo de Cine Europeo en Paraguay,Cine,Cultura,Evento presencial,Mes de Europa
ATTACH;FMTTYPE=image/jpeg:https://www.icpa-gz.org.py/wp-content/uploads/2025/05/497886069_18132943939411289_8830814756166304386_n.jpg
END:VEVENT
BEGIN:VEVENT
DTSTART;TZID=America/Asuncion:20250530T193000
DTEND;TZID=America/Asuncion:20250530T210000
DTSTAMP:20260425T074108
CREATED:20250520T174959Z
LAST-MODIFIED:20250520T174959Z
UID:53474-1748633400-1748638800@www.icpa-gz.org.py
SUMMARY:Under de volcano | XVI Ciclo de Cine Europeo
DESCRIPTION:El XVI Ciclo de Cine Europeo tendrá lugar del 22 al 30 de mayo. Te esperamos para ver todas las películas que tenemos para vos\, con acceso libre y gratuito. \nUnder de volcano \nUna familia ucraniana mixta\, pasa el último día de vacaciones en Tenerife\, España. Cuando la invación rusa de Ucrania los deja varados en la isla\, deben lidiar con el aislamiento\, el deber\, el miedo… y entre ellos. \nFecha: Viernes 30 de mayo 2025 \nHorario: 19:30 Hs. \nLugar: Instituto Cultural Paraguayo-Alemán – Goethe-Zentrum \nDirección: Juan de Salazar 310 esquina Artigas | Asunción \n  \nMás información sobre el ciclo de cine: \nUE Paraguay en Instagram \nUE Paraguay en Facebook
URL:https://www.icpa-gz.org.py/evento/under-de-volcano-xvi-ciclo-de-cine-europeo/
LOCATION:Salón Rolando Rasmussen del Instituto Cultural Paraguayo-Alemán – Goethe-Zentrum | ICPA-GZ\, Juan de Salazar 310 c/ Artigas Barrio Ricardo Brugada\, Asunción\, Distrito Capital\, Paraguay
CATEGORIES:Arte,Ciclo de Cine Europeo en Paraguay,Cine,Cultura,Evento presencial,Mes de Europa
ATTACH;FMTTYPE=image/jpeg:https://www.icpa-gz.org.py/wp-content/uploads/2025/05/497860740_18132943957411289_8879086245040561096_n.jpg
END:VEVENT
BEGIN:VEVENT
DTSTART;TZID=America/Asuncion:20250531T150000
DTEND;TZID=America/Asuncion:20250531T190000
DTSTAMP:20260425T074108
CREATED:20250516T180117Z
LAST-MODIFIED:20250516T183623Z
UID:53170-1748703600-1748718000@www.icpa-gz.org.py
SUMMARY:Si escucho el tren\, no necesito ver la estación | XVI Ciclo de Cine Europero 1/2
DESCRIPTION:El Instituto Cultural Paraguayo-Alemán – Goethe-Zentrum\, invita a participar del taller intensivo de escritura audiovisual “Si escucho el tren\, no necesito ver la estación”\, impartida por Joaquín Pedretti. El taller busca ser un espacio de exploración creativa para desarrollar historias a partir de la escucha\, y transformarlas en proyectos cinematográficos. Esta actividad se realiza en el marco del XVI Cicclo de Cine Europeo\, organizado por la Delegación de la Unión Europea en Paraguay\, con el apoyo del ICPA-GZ. \n¿A quién está dirigido?\nA estudiantes\, amantes del cine y personas que hayan escuchado una buena historia cercana y quieran transformarlas en obras audiovisuales. No hace falta que tengan experiencia previa; solo ganas de aprender\, desaprender\, trabajar y disfrutar del proceso creativo. \n¿Qué propone el taller?\nExplorar el universo de cada relato escuchado por cada participante\, para que luego\, a través de ejercicios prácticos que vinculan la escucha\, la memoria y la observación del entorno\, se animen a convertirlos en guiones y proyectos cinematográficos. \n¿Qué propone el taller?\nA lo largo de dos encuentros intensivos\, se trabajará sobre cuestiones teórico/prácticas entorno a la escritura audiovisual:\n• El desarrollo de una idea a partir de un relato original de alguien cercano.\n• La construcción de personajes\, tono y estructura narrativa.\n• Recetas para la elaboración de un guion y una carpeta de proyecto audiovisual.\n• La exposición de la obra a un público general. \nFechas y horario:\n• Sábado 31 de mayo\, de 15 a 19 hs\n• Sábado 7 de junio\, de 15 a 19 hs\nDuración total: 8 horas \nCosto: Gratuito. Cupos limitados: \nPara incribirse\, debes completar este formulario.  \n¿Dónde?\nInstituto Cultural Paraguayo-Alemán – Goethe-Zentrum\nJuan de Salazar 310 esquina Artigas\nAsunción\, Paraguay.
URL:https://www.icpa-gz.org.py/evento/si-escucho-el-tren-no-necesito-ver-la-estacion-joaquin-pedretti-1-2/
LOCATION:Biblioteca Ulrich Schmidl del Instituto Cultural Paraguayo-Alemán – Goethe-Zentrum | ICPA-GZ\, Juan de Salazar 310 c/ Artigas_\, Asuncion\, Distrito Capital\, Paraguay
CATEGORIES:apoyado por el ICPA-GZ,Arte,Biblioteca,Cine,Cultura,Evento presencial,Taller
ATTACH;FMTTYPE=image/png:https://www.icpa-gz.org.py/wp-content/uploads/2025/05/AficheTallerGuion-1.png
END:VEVENT
END:VCALENDAR