BEGIN:VCALENDAR
VERSION:2.0
PRODID:-//Instituto Cultural Paraguayo Alemán – Goethe-Zentrum - ECPv6.15.20//NONSGML v1.0//EN
CALSCALE:GREGORIAN
METHOD:PUBLISH
X-WR-CALNAME:Instituto Cultural Paraguayo Alemán – Goethe-Zentrum
X-ORIGINAL-URL:https://www.icpa-gz.org.py
X-WR-CALDESC:Eventos para Instituto Cultural Paraguayo Alemán – Goethe-Zentrum
REFRESH-INTERVAL;VALUE=DURATION:PT1H
X-Robots-Tag:noindex
X-PUBLISHED-TTL:PT1H
BEGIN:VTIMEZONE
TZID:America/Asuncion
BEGIN:STANDARD
TZOFFSETFROM:-0300
TZOFFSETTO:-0400
TZNAME:-04
DTSTART:20240324T030000
END:STANDARD
BEGIN:DAYLIGHT
TZOFFSETFROM:-0400
TZOFFSETTO:-0300
TZNAME:-03
DTSTART:20241006T040000
END:DAYLIGHT
BEGIN:STANDARD
TZOFFSETFROM:-0300
TZOFFSETTO:-0300
TZNAME:-03
DTSTART:20241015T030000
END:STANDARD
END:VTIMEZONE
BEGIN:VEVENT
DTSTART;TZID=America/Asuncion:20250314T160000
DTEND;TZID=America/Asuncion:20250314T180000
DTSTAMP:20260425T232921
CREATED:20250311T185907Z
LAST-MODIFIED:20250311T185907Z
UID:51859-1741968000-1741975200@www.icpa-gz.org.py
SUMMARY:Talleres de Ética & Inclusión en el Audiovisual | Dea Pompa 1/2
DESCRIPTION:Organiza: Dea Pompa\nInvitados especiales: Michi Moragas y Sergio Cáceres \nUna propuesta para reflexionar sobre buenas prácticas en la industria audiovisual\nEn el marco de su contrapartida con el Fondo Nacional de la Cultura y las Artes (FONDEC)\, la productora y directora Dea Pompa organiza los Talleres de Ética & Inclusión en el Audiovisual\, un espacio de debate y construcción colectiva para fortalecer las buenas prácticas en la industria audiovisual paraguaya. \nDesde la experiencia de producciones cinematográficas y proyectos inmersivos inclusivos\, como Tiflo Maze de Carlitos Cañete\, Dea Pompa propone un espacio de análisis sobre cómo garantizar entornos laborales más justos\, accesibles y equitativos. La iniciativa busca trascender el cumplimiento de una exigencia contractual y convertirse en una oportunidad real de crecimiento y reflexión para el sector. \nPara enriquecer el debate\, los talleres contarán con la participación de los expertos Michi Moragas (abogada\, activista feminista y de derechos humanos) y Sergio Cáceres (filósofo\, investigador y crítico de cine). \nEl resultado esperado de los talleres es la participación activa de miembros del sector audiovisual y de la cultura.  \nLos talleres se desarrollarán el día viernes 14 de marzo\, de 16h a 18h y de 18h30 a 20h30 en el ICPA – Instituto Cultural Paraguayo Alemán\, ubicado en Juan de Salazar casi Artigas\, de Asunción. \nInscripciones gratuitas:  \nhttps://forms.gle/JkyZrN25kjzs9hDS9  \nPara más información:\nCorreo: deamaria72@gmail.com \nRedes sociales: @deamaria.72
URL:https://www.icpa-gz.org.py/evento/talleres-de-etica-inclusion-en-el-audiovisual-dea-pompa-1-2/
LOCATION:Instituto Cultural Paraguayo-Alemán – Goethe-Zentrum | ICPA-GZ\, Juan de Salazar 310 c/ Artigas_\, Asuncion\, 3500\, Paraguay
CATEGORIES:apoyado por el ICPA-GZ,Arte,Charla,Cine,Conversatorio,Cultura,Evento presencial,Taller
ATTACH;FMTTYPE=image/png:https://www.icpa-gz.org.py/wp-content/uploads/2025/03/taller1-Inclusion.png
ORGANIZER;CN="Dea Pompa":MAILTO:deamaria72@gmail.com
END:VEVENT
BEGIN:VEVENT
DTSTART;TZID=America/Asuncion:20250328T190000
DTEND;TZID=America/Asuncion:20250328T203000
DTSTAMP:20260425T232922
CREATED:20250328T192521Z
LAST-MODIFIED:20250328T194104Z
UID:52140-1743188400-1743193800@www.icpa-gz.org.py
SUMMARY:Cronicas del Orgasmo según las mujeres | Cine Club Itinerante
DESCRIPTION:En el marco del mes Internacional de la Mujer desde el Cineclub Itinerante queremos invitarte al estreno del documental nacional “Crónicas del Orgasmo según las Mujeres” de Regina Maria José González. \n\n\n \n\n\nEn este material Regina va documentando testimonios de mujeres de diferentes edades que reflexionan sobre sus orgasmos. Un abordaje sobre un tema que sigue considerándose tabú; contada por ellas mismas y la perspectiva de la sexóloga clínica Jazmin Escobar.\n\n\n \n\n\nCineclub Itinerante organiza este espacio para debatir y porofundizar sobre estos temas. Estará presente la realizadora del documental y con algunos miembros del colectivo de mujeres audiovisualistas de Jopoi Lab.\n\n\n \n\n\nFecha: Viernes 28 de marzo 2025 \nHorario: Desde las 19:00 hs. \n\n\nCosto: Gratis\n\n\n \n\n\nLugar. Biblioteca Ulrich Schmidl\n\n\nInstituto Cultural Paraguayo-Alemán – Goethe-Zentrum\n\n\nJuan de Salazar 310 esquina Artigas
URL:https://www.icpa-gz.org.py/evento/cronicas-del-orgasmo-segun-las-mujeres-cine-club-itinerante/
LOCATION:Instituto Cultural Paraguayo-Alemán – Goethe-Zentrum | ICPA-GZ\, Juan de Salazar 310 c/ Artigas_\, Asuncion\, 3500\, Paraguay
CATEGORIES:apoyado por el ICPA-GZ,Arte,Cine,Cultura,Evento presencial
ATTACH;FMTTYPE=image/png:https://www.icpa-gz.org.py/wp-content/uploads/2025/03/Opera-Captura-de-pantalla_2025-03-26_184141_www.instagram.com_.png
END:VEVENT
END:VCALENDAR