BEGIN:VCALENDAR
VERSION:2.0
PRODID:-//Instituto Cultural Paraguayo Alemán – Goethe-Zentrum - ECPv6.15.20//NONSGML v1.0//EN
CALSCALE:GREGORIAN
METHOD:PUBLISH
X-ORIGINAL-URL:https://www.icpa-gz.org.py
X-WR-CALDESC:Eventos para Instituto Cultural Paraguayo Alemán – Goethe-Zentrum
REFRESH-INTERVAL;VALUE=DURATION:PT1H
X-Robots-Tag:noindex
X-PUBLISHED-TTL:PT1H
BEGIN:VTIMEZONE
TZID:America/Asuncion
BEGIN:STANDARD
TZOFFSETFROM:-0300
TZOFFSETTO:-0400
TZNAME:-04
DTSTART:20240324T030000
END:STANDARD
BEGIN:DAYLIGHT
TZOFFSETFROM:-0400
TZOFFSETTO:-0300
TZNAME:-03
DTSTART:20241006T040000
END:DAYLIGHT
BEGIN:STANDARD
TZOFFSETFROM:-0300
TZOFFSETTO:-0300
TZNAME:-03
DTSTART:20241015T030000
END:STANDARD
END:VTIMEZONE
BEGIN:VEVENT
DTSTART;TZID=America/Asuncion:20251104T170000
DTEND;TZID=America/Asuncion:20251104T210000
DTSTAMP:20260425T082809
CREATED:20251110T193752Z
LAST-MODIFIED:20251110T194722Z
UID:57789-1762275600-1762290000@www.icpa-gz.org.py
SUMMARY:Rhythmik im DAF-Unterricht | Alexander Riedmüller
DESCRIPTION:¡Taller de rítmica para las clases de alemán! \nEl taller “Rhythmik im DAF-Unterricht” o “Rítmica en las clases de alemán como lengua extranjera” \, será un único taller con eldocente Alexander Riedmüller.\nEstá dirigido a profesores de alemán\, así como a estudiantes de la Lic. en Lengua Alemana. El acceso es gratuito\, con inscripción previa.\nEs una actividad organizada por el ICPA-GZ y por APYPA \nFecha: Martes 4 de noviembre\nHorario: 17:00 Hs.\nModalidad: Presencial\nCosto: Gratis\nInscripciones cerradas. \nLugar: Instituto Cultural Paraguayo-Alemán – Goethe-Zentrum\nJuan de Salazar 310 esq. Artigas\, Asunción
URL:https://www.icpa-gz.org.py/evento/rhythmik-im-daf-unterricht-alexander-riedmuller/
LOCATION:Instituto Cultural Paraguayo-Alemán – Goethe-Zentrum | ICPA-GZ\, Juan de Salazar 310 c/ Artigas_\, Asuncion\, 3500\, Paraguay
CATEGORIES:apoyado por el ICPA-GZ,Arte,Asociación de profesores de alemán del Paraguay (APYPA),Capacitación,Cultura,Evento presencial,Música,Taller
ATTACH;FMTTYPE=image/png:https://www.icpa-gz.org.py/wp-content/uploads/2025/11/02-ICPA_RhythmikUndDeutsch-Feed.png
END:VEVENT
BEGIN:VEVENT
DTSTART;TZID=America/Asuncion:20251107T120000
DTEND;TZID=America/Asuncion:20251107T210000
DTSTAMP:20260425T082809
CREATED:20251110T195614Z
LAST-MODIFIED:20251110T200117Z
UID:57812-1762516800-1762549200@www.icpa-gz.org.py
SUMMARY:El ExpyFest 2025 | Festival de experiencias inmersivas 1/2
DESCRIPTION:¡La fiesta del Arte y la Tecnología te espera! \nEl EXPYFEST2025 llega a la Alianza Francesa Asunción con experiencias XR\, música electrónica y obras que exploran los límites entre lo real y lo virtual. Un encuentro donde la innovación se vuelve emoción y la tecnología\, arte. \nEste es un festival pionero en artes y tecnologías inmersivas en Paraguay. Un espacio para sentir nuevas experiencias con realidad virtual\, aumentada\, mixta\, instalaciones y shows en vivo que nos llevarán a otros universos. \nConseguí las entrada en esta web \nFecha: viernes 7 y sábado 8 de noviembre 2025 \nLugar: Alianza Francesa de Asunción
URL:https://www.icpa-gz.org.py/evento/el-expyfest-2025-festival-de-experiencias-inmersivas-1-2/
LOCATION:Alianza Francesa | Asunción\, Mcal. Estigarribia 1039\, Asunción\, Distrito Capital\, Paraguay
CATEGORIES:apoyado por el ICPA-GZ,Arte,Capacitación,Charla,Conferencia,Conversatorio,Cultura,Evento presencial,Festival,Taller,Videoarte
ATTACH;FMTTYPE=image/jpeg:https://www.icpa-gz.org.py/wp-content/uploads/2025/11/572577180_17893630944352092_8082897832840631629_n.jpg
ORGANIZER;CN="Laboratorio de Experiencias Inmersivas Paraguay | EXPYLAB":MAILTO:info@expy.com.py
END:VEVENT
END:VCALENDAR