BEGIN:VCALENDAR
VERSION:2.0
PRODID:-//Instituto Cultural Paraguayo Alemán – Goethe-Zentrum - ECPv6.15.20//NONSGML v1.0//EN
CALSCALE:GREGORIAN
METHOD:PUBLISH
X-WR-CALNAME:Instituto Cultural Paraguayo Alemán – Goethe-Zentrum
X-ORIGINAL-URL:https://www.icpa-gz.org.py
X-WR-CALDESC:Eventos para Instituto Cultural Paraguayo Alemán – Goethe-Zentrum
REFRESH-INTERVAL;VALUE=DURATION:PT1H
X-Robots-Tag:noindex
X-PUBLISHED-TTL:PT1H
BEGIN:VTIMEZONE
TZID:America/Asuncion
BEGIN:STANDARD
TZOFFSETFROM:-0300
TZOFFSETTO:-0400
TZNAME:-04
DTSTART:20240324T030000
END:STANDARD
BEGIN:DAYLIGHT
TZOFFSETFROM:-0400
TZOFFSETTO:-0300
TZNAME:-03
DTSTART:20241006T040000
END:DAYLIGHT
BEGIN:STANDARD
TZOFFSETFROM:-0300
TZOFFSETTO:-0300
TZNAME:-03
DTSTART:20241015T030000
END:STANDARD
END:VTIMEZONE
BEGIN:VEVENT
DTSTART;TZID=America/Asuncion:20250802T090000
DTEND;TZID=America/Asuncion:20250802T110000
DTSTAMP:20260425T002538
CREATED:20250723T215119Z
LAST-MODIFIED:20250723T215119Z
UID:55051-1754125200-1754132400@www.icpa-gz.org.py
SUMMARY:Taller de Introducción a la Impresión 3D 2/3
DESCRIPTION:El Instituto Cultural Paraguayo-Alemán – Goethe-Zentrum presenta el Taller de Introducción a la Impresión de 3D. Son tres jornadas impartidas por el Ing. Gerardo Weiler\, de Rainbow Mechatronics.\n\n\n\n\n\nLa impresión de 3D tiene aplicaciones en áreas\, como en la salud\, en la mecánica\, tecnologías\, artes\, entre otras. Este taller busca mostrar las nociones básicas y sus posibilidades. Este taller cuenta con el apoyo del Goethe-Institut.\n\n\n\nSábados 26 de julio\, 2 y 9 de agosto\nDe 9:00 a 11:00 hs.\nPresencial\nEl costo es gratuito\, pero los cupos son limitados.\nInscribite ingresando a este enlace: https://forms.gle/QsVoyLKxSvtWHzhMA\n\nInstituto Cultural Paraguayo-Alemán – Goethe-Zentrum\nJuan de Salazar 310 esq. Artigas
URL:https://www.icpa-gz.org.py/evento/taller-de-introduccion-a-la-impresion-3d-2-3/
LOCATION:Instituto Cultural Paraguayo-Alemán – Goethe-Zentrum | ICPA-GZ\, Juan de Salazar 310 c/ Artigas_\, Asuncion\, 3500\, Paraguay
CATEGORIES:apoyado por el ICPA-GZ,Capacitación,Evento presencial,Taller
ATTACH;FMTTYPE=image/png:https://www.icpa-gz.org.py/wp-content/uploads/2025/07/ICPA_CursoImpresion3D.png
END:VEVENT
BEGIN:VEVENT
DTSTART;TZID=America/Asuncion:20250809T090000
DTEND;TZID=America/Asuncion:20250809T110000
DTSTAMP:20260425T002538
CREATED:20250723T215332Z
LAST-MODIFIED:20250723T215332Z
UID:55066-1754730000-1754737200@www.icpa-gz.org.py
SUMMARY:Taller de Introducción a la Impresión 3D 3/3
DESCRIPTION:El Instituto Cultural Paraguayo-Alemán – Goethe-Zentrum presenta el Taller de Introducción a la Impresión de 3D. Son tres jornadas impartidas por el Ing. Gerardo Weiler\, de Rainbow Mechatronics.\n\n\n\n\n\nLa impresión de 3D tiene aplicaciones en áreas\, como en la salud\, en la mecánica\, tecnologías\, artes\, entre otras. Este taller busca mostrar las nociones básicas y sus posibilidades. Este taller cuenta con el apoyo del Goethe-Institut.\n\n\n\nSábados 26 de julio\, 2 y 9 de agosto\nDe 9:00 a 11:00 hs.\nPresencial\nEl costo es gratuito\, pero los cupos son limitados.\nInscribite ingresando a este enlace: https://forms.gle/QsVoyLKxSvtWHzhMA\n\nInstituto Cultural Paraguayo-Alemán – Goethe-Zentrum\nJuan de Salazar 310 esq. Artigas
URL:https://www.icpa-gz.org.py/evento/taller-de-introduccion-a-la-impresion-3d-3-3/
LOCATION:Instituto Cultural Paraguayo-Alemán – Goethe-Zentrum | ICPA-GZ\, Juan de Salazar 310 c/ Artigas_\, Asuncion\, 3500\, Paraguay
CATEGORIES:apoyado por el ICPA-GZ,Capacitación,Cultura,Taller
ATTACH;FMTTYPE=image/png:https://www.icpa-gz.org.py/wp-content/uploads/2025/07/ICPA_CursoImpresion3D.png
END:VEVENT
BEGIN:VEVENT
DTSTART;TZID=America/Asuncion:20250811T220000
DTEND;TZID=America/Asuncion:20250811T233000
DTSTAMP:20260425T002538
CREATED:20250805T205735Z
LAST-MODIFIED:20250805T205735Z
UID:55242-1754949600-1754955000@www.icpa-gz.org.py
SUMMARY:Laboratorio de Videomapping Bauhaus100+ | Daniel Milessi
DESCRIPTION:Laboratorio de Videomapping por los 100 años de la Bauhaus\n\n\nImpartido por Daniel Milessi\nOrganizado por el Instituto Cultural Paraguayo-Alemán – Goethe-Zentrum\n\n\n\n¿Querés aprender a proyectar sobre arquitectura y crear una obra colectiva de videomapping? Sumate a este laboratorio intensivo donde trabajaremos con imágenes\, memoria\, espacio público y el legado de la Bauhaus a 100 años de su influencia.\n\n\n\nInicio: lunes 18 de agosto\n Horario: 20:00 a 22.00 h\n 8 encuentros semanales (todos los lunes)\n\n\nMuestra final con proyección en espacio público\n\n\n\nInscribite hasta el lunes 11 de agosto\nRellena este enlace: https://forms.gle/9jhrGwdWSw2ApZ9L8\n\n\nActividad gratuita con selección previa\n\n\n\nEn el  ICPA-GZ | Juan de Salazar 310 esq. Artigas
URL:https://www.icpa-gz.org.py/evento/laboratorio-de-videomapping-bauhaus100-daniel-milessi/
LOCATION:Instituto Cultural Paraguayo-Alemán – Goethe-Zentrum | ICPA-GZ\, Juan de Salazar 310 c/ Artigas_\, Asuncion\, 3500\, Paraguay
CATEGORIES:apoyado por el ICPA-GZ,Arte,Capacitación,Cultura,Evento presencial,Taller,Videoarte
ATTACH;FMTTYPE=image/png:https://www.icpa-gz.org.py/wp-content/uploads/2025/08/CASTING-5.png
END:VEVENT
BEGIN:VEVENT
DTSTART;TZID=America/Asuncion:20250816T140000
DTEND;TZID=America/Asuncion:20250816T170000
DTSTAMP:20260425T002538
CREATED:20250808T193643Z
LAST-MODIFIED:20250808T194412Z
UID:55516-1755352800-1755363600@www.icpa-gz.org.py
SUMMARY:Taller de formación para artistas | Aso HipHop
DESCRIPTION:Se viene el 52° aniversario del Hip Hop\, y este año\, junto a la Asociación de Danzas Urbanas\, te traemos una propuesta diferente.  Te invitamos al Taller de Formación de la Aso HipHop\, un espacio pensado para artistas que desean profesionalizar su camino.\nEn este taller aprenderás a: \nDesarrollar y presentar proyectos artísticos\nArmar tu currículum profesional\nPresupuestar correctamente tu trabajo \nContaremos con la guía de referentes nacionales como el Magíster Humberto López La Bella y el coreógrafo Ramón “Fuska” Méndez\, quienes compartirán su experiencia y conocimiento. \nCon el apoyo de la Secretaría Nacional de Cultura y el Instituto Cultural Paraguayo- Alemán – Goethe-Zentrum \nFecha: Sabado 16 de agosto\nLugar: Instituto Cultural Paraguayo Alemán\nHora: 14:00 hs\nCosto: 20.000 Gs \nInscribite acá y accedé a las herramientas clave para crecer como artista.  
URL:https://www.icpa-gz.org.py/evento/taller-de-formacion-para-artistas-aso-hiphop/
LOCATION:Instituto Cultural Paraguayo-Alemán – Goethe-Zentrum | ICPA-GZ\, Juan de Salazar 310 c/ Artigas_\, Asuncion\, 3500\, Paraguay
CATEGORIES:apoyado por el ICPA-GZ,Arte,Capacitación,Presentación,Taller
ATTACH;FMTTYPE=image/jpeg:https://www.icpa-gz.org.py/wp-content/uploads/2025/08/WhatsApp-Image-2025-08-07-at-10.39.26.jpeg
END:VEVENT
END:VCALENDAR