BEGIN:VCALENDAR
VERSION:2.0
PRODID:-//Instituto Cultural Paraguayo Alemán – Goethe-Zentrum - ECPv6.15.20//NONSGML v1.0//EN
CALSCALE:GREGORIAN
METHOD:PUBLISH
X-ORIGINAL-URL:https://www.icpa-gz.org.py
X-WR-CALDESC:Eventos para Instituto Cultural Paraguayo Alemán – Goethe-Zentrum
REFRESH-INTERVAL;VALUE=DURATION:PT1H
X-Robots-Tag:noindex
X-PUBLISHED-TTL:PT1H
BEGIN:VTIMEZONE
TZID:America/Asuncion
BEGIN:STANDARD
TZOFFSETFROM:-0300
TZOFFSETTO:-0400
TZNAME:-04
DTSTART:20240324T030000
END:STANDARD
BEGIN:DAYLIGHT
TZOFFSETFROM:-0400
TZOFFSETTO:-0300
TZNAME:-03
DTSTART:20241006T040000
END:DAYLIGHT
BEGIN:STANDARD
TZOFFSETFROM:-0300
TZOFFSETTO:-0300
TZNAME:-03
DTSTART:20241015T030000
END:STANDARD
END:VTIMEZONE
BEGIN:VEVENT
DTSTART;TZID=America/Asuncion:20250723T183000
DTEND;TZID=America/Asuncion:20250723T203000
DTSTAMP:20260425T094138
CREATED:20250718T220117Z
LAST-MODIFIED:20250718T220117Z
UID:54943-1753295400-1753302600@www.icpa-gz.org.py
SUMMARY:Nö | Ciclo de Cine "Amores convulsionados"
DESCRIPTION:Ciclo de Cine “Amores Convulsionados”\n\n\n\nEs una muestra de de cine alemán coordinada por Yosue Ayala\, con el apoyo del Instituto Cultural Paraguayo-Alemán – Goethe-Zentrum. Serán los miércoles 16\, 23 y 30 de julio\, con acceso libre y gratuito.\n\n\n\nEn una sociedad que busca vínculos descartables\, este ciclo busca recordarnos que amar\, es un acto de rebeldía. Porque ningún amor es un cuento de hadas\, pero sí que vale la pena luchar por él.\n\n\n\n\n\nNö\nMiércoles 23 de julio a las 18:30 horas\nAlemania 2021 – 119 min. – Dietrich Brüggemann – Comedia/Romance | Subtitulada al español\nSinopsis:\nDina y Michael\, una actriz y un médico intentan mantener viva la llama de su amor a lo largo de los años\, se ven obligados a luchar por obtener la aprobación de sus padres\, evitar el desempleo e intentar dominar el arte de la paternidad.\n\nTráiler: https://youtu.be/ZLHSUZrstL0?si=0GctkcNMf-RKxiJR\n\n\n\n\n\nGratis\n\nInstituto Cultural Paraguayo-Alemán – Goethe-Zentrum\nJuan de Salazar 310 esq. Artigas
URL:https://www.icpa-gz.org.py/evento/no-ciclo-de-cine-amores-convulsionados/
CATEGORIES:apoyado por el ICPA-GZ,Arte,Biblioteca,Cine,Cultura
ATTACH;FMTTYPE=image/png:https://www.icpa-gz.org.py/wp-content/uploads/2025/07/AC-CINE-DEBATE-5.png
END:VEVENT
END:VCALENDAR