BEGIN:VCALENDAR
VERSION:2.0
PRODID:-//Instituto Cultural Paraguayo Alemán – Goethe-Zentrum - ECPv6.15.20//NONSGML v1.0//EN
CALSCALE:GREGORIAN
METHOD:PUBLISH
X-WR-CALNAME:Instituto Cultural Paraguayo Alemán – Goethe-Zentrum
X-ORIGINAL-URL:https://www.icpa-gz.org.py
X-WR-CALDESC:Eventos para Instituto Cultural Paraguayo Alemán – Goethe-Zentrum
REFRESH-INTERVAL;VALUE=DURATION:PT1H
X-Robots-Tag:noindex
X-PUBLISHED-TTL:PT1H
BEGIN:VTIMEZONE
TZID:America/Asuncion
BEGIN:STANDARD
TZOFFSETFROM:-0300
TZOFFSETTO:-0300
TZNAME:-03
DTSTART:20250101T000000
END:STANDARD
END:VTIMEZONE
BEGIN:VEVENT
DTSTART;TZID=America/Asuncion:20260313T190000
DTEND;TZID=America/Asuncion:20260313T200000
DTSTAMP:20260423T160343
CREATED:20260311T193759Z
LAST-MODIFIED:20260311T194938Z
UID:60368-1773428400-1773432000@www.icpa-gz.org.py
SUMMARY:"Por tu bien" | Ciclo de Cine "Crecer en los Suburbios" 1/3
DESCRIPTION:Este marzo arranca “Crecer en los Suburbios” – Ciclo de Cine Coming of Age\, un espacio que nos invita a navegar una de las etapas más intensas\, contradictorias y transformadoras de la vida: la adolescencia. El ciclo será los días Viernes 13\, 20 y 27 de marzo a las 19:00 hs. La entrada será de gs. 10.000\, incluye pororó. \nLas películas seleccionadas son:\nPor tu bien (2024)\, Entremedio (2024) y Hoy partido a las tres (2017). \nEste espacio es una colaboración con el Instituto Cultural Paraguayo-Alemán – Goethe-Zentrum (ICPA-GZ)\, con el apoyo de SintoníaPy\, medio paraguayo especializado en cultura \nPor tu bien | Viernes 13 de marzo a las 19:00 hs.\nArgentina 2024 – 77 min. – Axel Monsú – Drama/Coming of Age \nSinopsis:\nZulma es una adolescente que crece en un pueblo rural\, aceptando los mandatos impuestos por su familia y la comunidad religiosa\, hasta que una serie de acontecimientos la obliga a tomar decisiones drásticas. Hija de una familia humilde\, en una comunidad cerrada donde la lealtad\, la culpa y el miedo sostienen antiguas normas draconianas\, Zulma deberá hacer lo necesario para salvarse a sí misma y a quienes ama.\nTráiler \nFestivales: Florianópolis Audiovisual Mercosul (Brasil)\, Festival Internacional de Mar del Plata (Argentina)\, Festival Internacional de Moscú (Rusia)\, Festival de la Frontera (Brasil)
URL:https://www.icpa-gz.org.py/evento/ciclo-de-cine-crecer-en-los-suburbios-sintonia/
LOCATION:Salón Rolando Rasmussen del Instituto Cultural Paraguayo-Alemán – Goethe-Zentrum | ICPA-GZ\, Juan de Salazar 310 c/ Artigas Barrio Ricardo Brugada\, Asunción\, Distrito Capital\, Paraguay
CATEGORIES:apoyado por el ICPA-GZ,Arte,Cine,Cultura,Evento presencial
ATTACH;FMTTYPE=image/jpeg:https://www.icpa-gz.org.py/wp-content/uploads/2026/03/WhatsApp-Image-2026-03-09-at-3.06.28-PM.jpeg
END:VEVENT
BEGIN:VEVENT
DTSTART;TZID=America/Asuncion:20260318T180000
DTEND;TZID=America/Asuncion:20260318T200000
DTSTAMP:20260423T160343
CREATED:20260312T213343Z
LAST-MODIFIED:20260313T203449Z
UID:60513-1773856800-1773864000@www.icpa-gz.org.py
SUMMARY:Happy Hour con Jeremías
DESCRIPTION:Jeremías\, la exitosa banda alemana de indie-pop\, ofrecerá un espacio de encuentro y happy hour el día 18 de marzo en el Instituto Cultural Paraguayo-Alemán\, de 18 a 20 Hs\, con acceso gratuito. El grupo llega al país con entradas agotadas para sus conciertos. \nJEREMÍAS es una banda alemana de indie-pop fundada en Hannover en 2018\, con un estilo que combina elementos melancólicos y bailables. El grupo está compuesto por cuatro miembros y debe su nombre al vocalista principal\, Jeremias Heimbach. Combinan canciones de amor y desamor con momentos melancólicos y otros más alegres y bailables. \nEl ICPA-GZ y la Embajada Alemana invitan al “Happy Hour con Jeremías”\, el día 18 de marzo a las 18 Hs\, en la sede del instituto (Juan de Salazar 310 esq Artigas). Será un espacio para quienes quieran conocer y compartir un espacio con los músicos alemanes\, acompañados de unos tragos. \nParaguay es una de las paradas de la gira latinoamericana\, que incluye fechas en México\, Colombia\, Argentina y nuestro país. La banda ofrecerá dos fechas de conciertos en La Tarantela (ex JazzCube)\, los días 21 y 22 de marzo. Las entradas para estos shows se agotaron ni bien salieron a la venta por medio de su web. \nPara conocer más a la banda\, se puede visitar su web. También podés ver sus videos en el canal de Youtube de JEREMÍAS.
URL:https://www.icpa-gz.org.py/evento/happy-hour-con-jeremias/
LOCATION:Instituto Cultural Paraguayo-Alemán – Goethe-Zentrum | ICPA-GZ\, Juan de Salazar 310 c/ Artigas_\, Asuncion\, 3500\, Paraguay
CATEGORIES:apoyado por el ICPA-GZ,Arte,Cultura,Embajada de Alemania Asunción,Evento presencial,Música
ATTACH;FMTTYPE=image/png:https://www.icpa-gz.org.py/wp-content/uploads/2026/03/ICPA_ConciertoJeremias-Feed.png
END:VEVENT
BEGIN:VEVENT
DTSTART;TZID=America/Asuncion:20260320T190000
DTEND;TZID=America/Asuncion:20260320T200000
DTSTAMP:20260423T160343
CREATED:20260311T194351Z
LAST-MODIFIED:20260311T194806Z
UID:60391-1774033200-1774036800@www.icpa-gz.org.py
SUMMARY:"Entremedio" | Ciclo de Cine "Crecer en los suburbios" 2/3
DESCRIPTION:Este marzo arranca “Crecer en los Suburbios” – Ciclo de Cine Coming of Age\, un espacio que nos invita a navegar una de las etapas más intensas\, contradictorias y transformadoras de la vida: la adolescencia. El ciclo será los días Viernes 13\, 20 y 27 de marzo a las 19:00 hs. La entrada será de gs. 10.000\, incluye pororó. \nLas películas seleccionadas son:\nPor tu bien (2024)\, Entremedio (2024) y Hoy partido a las tres (2017). \nEste espacio es una colaboración con el Instituto Cultural Paraguayo-Alemán – Goethe-Zentrum (ICPA-GZ)\, con el apoyo de SintoníaPy\, medio paraguayo especializado en cultura. \nEntremedio | Viernes 20 de marzo a las 19:00 hs. \nArgentina 2024 – 82 min. – Martín Gamaler – Drama/Coming of Age \nSinopsis:\nNico\, un niño de 10 años\, atraviesa con desconcierto la separación de sus padres. Sin avisar a nadie\, sale en busca de su perra Frida\, que se ha escapado. Así comienza un recorrido por su barrio\, sin imaginar los peligros que lo esperan.\nTráiler \nFestivales: FICPBA (Argentina)\, Festival del Cinema Ibero-Latino Americano di Trieste (Italia)\, Festival Internacional de Cine Independiente de Paraná (Argentina)
URL:https://www.icpa-gz.org.py/evento/entremedio-ciclo-de-cine-crecer-en-los-suburbios-2-3/
LOCATION:Salón Rolando Rasmussen del Instituto Cultural Paraguayo-Alemán – Goethe-Zentrum | ICPA-GZ\, Juan de Salazar 310 c/ Artigas Barrio Ricardo Brugada\, Asunción\, Distrito Capital\, Paraguay
CATEGORIES:apoyado por el ICPA-GZ,Arte,Cine,Cultura,Evento presencial
ATTACH;FMTTYPE=image/png:https://www.icpa-gz.org.py/wp-content/uploads/2026/03/Entremedio-Portada.png
END:VEVENT
BEGIN:VEVENT
DTSTART;TZID=America/Asuncion:20260323T180000
DTEND;TZID=America/Asuncion:20260323T200000
DTSTAMP:20260423T160343
CREATED:20260312T205913Z
LAST-MODIFIED:20260312T205944Z
UID:60463-1774288800-1774296000@www.icpa-gz.org.py
SUMMARY:Taller de reparación básica de libros | Valeria Vega 1/2
DESCRIPTION:Vas a aprender a identificaciar daños\, la aplicación de técnicas de reparación básica y el fortalecimiento de criterios profesionales para el cuidado del acervos y/o colecciones bibliográficas. Dirigido a bibliotecarios\, auxiliares de biblioteca\, gestores de información y profesionales vinculados al manejo de colecciones documentales. Las clases serán con Valeria Vega. \nLunes 23 y miércoles 25 de marzo\nDe 18:00 a 20:00 Hs.\nGratis\, con cupos limitados\nAnotate en este enlace  \nBiblioteca del ICPA-GZ | Juan de Salazar 310 esq. Artigas \nCONTENIDOS\n\nMódulo 1: Conservación preventiva \n\nConceptos básicos de preservación bibliográfica\nFactores de deterioro\nBuenas prácticas de manipulación\n\n\n\nMódulo 2: Diagnóstico del material \n\nPartes del libro\nIdentificación de daños frecuentes\nCriterios de intervención\n\n\n\nMódulo 3: Reparación básica \n\nPegado de hojas sueltas\nReparación de lomos\nRefuerzo de tapas\nUso de materiales libres de ácido\nLimpieza superficial
URL:https://www.icpa-gz.org.py/evento/taller-de-reparacion-basica-de-libros-valeria-vega-1-2/
LOCATION:Biblioteca Ulrich Schmidl del Instituto Cultural Paraguayo-Alemán – Goethe-Zentrum | ICPA-GZ\, Juan de Salazar 310 c/ Artigas_\, Asuncion\, Distrito Capital\, Paraguay
CATEGORIES:apoyado por el ICPA-GZ,Biblioteca,Cultura,Evento presencial,Taller
ATTACH;FMTTYPE=image/png:https://www.icpa-gz.org.py/wp-content/uploads/2026/03/ICPA_RepararLibros-Feed.png
END:VEVENT
BEGIN:VEVENT
DTSTART;TZID=America/Asuncion:20260325T180000
DTEND;TZID=America/Asuncion:20260325T200000
DTSTAMP:20260423T160343
CREATED:20260312T210144Z
LAST-MODIFIED:20260312T212342Z
UID:60486-1774461600-1774468800@www.icpa-gz.org.py
SUMMARY:Taller de repración básica de libros | Valeria Vega 2/2
DESCRIPTION:Vas a aprender a identificaciar daños\, la aplicación de técnicas de reparación básica y el fortalecimiento de criterios profesionales para el cuidado del acervos y/o colecciones bibliográficas. Dirigido a bibliotecarios\, auxiliares de biblioteca\, gestores de información y profesionales vinculados al manejo de colecciones documentales. Las clases serán con Valeria Vega. \nLunes 23 y miércoles 25 de marzo\nDe 18:00 a 20:00 Hs.\nGratis\, con cupos limitados\nAnotate en este enlace  \nBiblioteca del ICPA-GZ | Juan de Salazar 310 esq. Artigas \nCONTENIDOS\n\nMódulo 1: Conservación preventiva \n\nConceptos básicos de preservación bibliográfica\nFactores de deterioro\nBuenas prácticas de manipulación\n\n\n\nMódulo 2: Diagnóstico del material \n\nPartes del libro\nIdentificación de daños frecuentes\nCriterios de intervención\n\n\n\nMódulo 3: Reparación básica \n\nPegado de hojas sueltas\nReparación de lomos\nRefuerzo de tapas\nUso de materiales libres de ácido\nLimpieza superficial
URL:https://www.icpa-gz.org.py/evento/taller-de-repracion-basica-de-libros-valeria-vega-2-2/
LOCATION:Biblioteca Ulrich Schmidl del Instituto Cultural Paraguayo-Alemán – Goethe-Zentrum | ICPA-GZ\, Juan de Salazar 310 c/ Artigas_\, Asuncion\, Distrito Capital\, Paraguay
CATEGORIES:apoyado por el ICPA-GZ,Biblioteca,Cultura,Evento presencial,Taller
ATTACH;FMTTYPE=image/png:https://www.icpa-gz.org.py/wp-content/uploads/2026/03/ICPA_RepararLibros-Feed.png
END:VEVENT
BEGIN:VEVENT
DTSTART;TZID=America/Asuncion:20260327T190000
DTEND;TZID=America/Asuncion:20260327T200000
DTSTAMP:20260423T160343
CREATED:20260311T194715Z
LAST-MODIFIED:20260311T194829Z
UID:60407-1774638000-1774641600@www.icpa-gz.org.py
SUMMARY:"Hoy partido a las tres" | Ciclo de Cine "Crecer en los suburbios" 3/3
DESCRIPTION:Este marzo arranca “Crecer en los Suburbios” – Ciclo de Cine Coming of Age\, un espacio que nos invita a navegar una de las etapas más intensas\, contradictorias y transformadoras de la vida: la adolescencia. El ciclo será los días Viernes 13\, 20 y 27 de marzo a las 19:00 hs. La entrada será de gs. 10.000\, incluye pororó. \nLas películas seleccionadas son:\nPor tu bien (2024)\, Entremedio (2024) y Hoy partido a las tres (2017). \nEste espacio es una colaboración con el Instituto Cultural Paraguayo-Alemán – Goethe-Zentrum (ICPA-GZ)\, con el apoyo de SintoníaPy\, medio paraguayo especializado en cultura. \nHoy partido a las 3 | Viernes 27 de marzo a las 19:00 hs. \nArgentina 2017 – 96 min. – Clarisa Navas – Drama LGBT/Coming of Age \nSinopsis:\nLas Indomables aguardan con ansiedad el comienzo de un torneo de fútbol femenino barrial. Durante la espera todo tipo de acontecimientos suceden\, amor\, conflictos\, política y hasta una lluvia\, acechan a la pasión por la que están ahí: Jugar al fútbol cueste lo que cueste.\nTráiler.  \nFestivales: BAFICI (Argentina)\, Festival Internacional de cine de Mérida y Yucatán (México)\, ANTOFACINE/ Competencia Internacional (Chile)\, Festival de BIARRITZ AMÉRIQUE LATINE 2017 (Francia)\, QUEER SCREEN FILM FEST\, Mardi Grass (Australia)
URL:https://www.icpa-gz.org.py/evento/hoy-partido-a-las-tres-ciclo-de-cine-crecer-en-los-suburbios/
LOCATION:Salón Rolando Rasmussen del Instituto Cultural Paraguayo-Alemán – Goethe-Zentrum | ICPA-GZ\, Juan de Salazar 310 c/ Artigas Barrio Ricardo Brugada\, Asunción\, Distrito Capital\, Paraguay
CATEGORIES:apoyado por el ICPA-GZ,Arte,Cine,Cultura,Evento presencial
ATTACH;FMTTYPE=image/png:https://www.icpa-gz.org.py/wp-content/uploads/2026/03/Hoy-partido-a-las-3-Portada.png
END:VEVENT
BEGIN:VEVENT
DTSTART;TZID=America/Asuncion:20260328T200000
DTEND;TZID=America/Asuncion:20260328T210000
DTSTAMP:20260423T160343
CREATED:20260324T205558Z
LAST-MODIFIED:20260324T210339Z
UID:60577-1774728000-1774731600@www.icpa-gz.org.py
SUMMARY:Teatro "Cuentos de la Vieja Tacuaral"
DESCRIPTION:Escrito por Juan Pastoriza\, esta es una pieza teatral es un homenaje a Ypacaraí y a sus leyendas. Una puesta en escena llena de danza\, música y color.\nLa dirección está a cargo de Juan Bürgin. Con las actuaciones de Ángeles Roa\, Maria Del Mar Monge\, Liz Noguera\, Cinthia Montaner\, Florencia Ramírez\, María Fernanda Flores\, Pedro García Narváez\, Carlos Tapia\, Luis Reyes y Mauricio Bauza. \nSábado 28 de marzo\n20:00 hs.\nGs. 30.000 | 2 x Gs. 40.000 \nPara más información\, contactanos:\n+59591646689 \nInstituto Cultural Paraguayo-Alemán – Goethe-Zentrum\nJuan de Salazar 310\, Asunción
URL:https://www.icpa-gz.org.py/evento/teatro-cuentos-de-la-vieja-tacuaral/
LOCATION:Salón Rolando Rasmussen del Instituto Cultural Paraguayo-Alemán – Goethe-Zentrum | ICPA-GZ\, Juan de Salazar 310 c/ Artigas Barrio Ricardo Brugada\, Asunción\, Distrito Capital\, Paraguay
CATEGORIES:apoyado por el ICPA-GZ,Arte,Cultura,Evento presencial,Teatro
ATTACH;FMTTYPE=image/jpeg:https://www.icpa-gz.org.py/wp-content/uploads/2026/03/WhatsApp-Image-2026-03-22-at-5.53.07-PM.jpeg
ORGANIZER;CN="Juan B%C3%BCrgin | Dramaturgo. Director de teatro. Docente":MAILTO:https://www.instagram.com/hannes_burginteatroactstudio/
END:VEVENT
END:VCALENDAR