BEGIN:VCALENDAR
VERSION:2.0
PRODID:-//Instituto Cultural Paraguayo Alemán – Goethe-Zentrum - ECPv6.15.20//NONSGML v1.0//EN
CALSCALE:GREGORIAN
METHOD:PUBLISH
X-WR-CALNAME:Instituto Cultural Paraguayo Alemán – Goethe-Zentrum
X-ORIGINAL-URL:https://www.icpa-gz.org.py
X-WR-CALDESC:Eventos para Instituto Cultural Paraguayo Alemán – Goethe-Zentrum
REFRESH-INTERVAL;VALUE=DURATION:PT1H
X-Robots-Tag:noindex
X-PUBLISHED-TTL:PT1H
BEGIN:VTIMEZONE
TZID:America/Asuncion
BEGIN:STANDARD
TZOFFSETFROM:-0300
TZOFFSETTO:-0300
TZNAME:-03
DTSTART:20250101T000000
END:STANDARD
END:VTIMEZONE
BEGIN:VEVENT
DTSTART;TZID=America/Asuncion:20260427T170000
DTEND;TZID=America/Asuncion:20260427T180000
DTSTAMP:20260423T192211
CREATED:20260421T220438Z
LAST-MODIFIED:20260421T220438Z
UID:61189-1777309200-1777312800@www.icpa-gz.org.py
SUMMARY:Charla sobre el Programa "Deutsch Lehren Lernen"
DESCRIPTION:Si sos docente o querés enseñar alemán\, esta charla es para vos\n¿Estás pensando en inscribirte al programa de capacitación y perfeccionamiento online “Deutsch Lehren Lernen” (DLL)? Entonces\, ¡sumate esta charla virtual! ⁣⁣⁣⁣ \n27 de abril\, 17 horas\nPor Zoom\, con inscripción previa⁣⁣ \nPróximos módulos:⁣⁣⁣\nMódulo DLL6 – Patrones curriculares y planificación de clases⁣⁣⁣⁣⁣⁣\nMódulo DLL8 – Alemán como idioma extranjero para niños⁣⁣⁣⁣⁣⁣⁣⁣⁣\n⁣⁣⁣⁣\n¡No te pierdas la oportunidad de hacer tus preguntas!⁣⁣⁣⁣ El DLL es un programa del Goethe-Institut Buenos Aires
URL:https://www.icpa-gz.org.py/evento/charla-sobre-el-programa-deutsch-lehren-lernen/
LOCATION:Online
CATEGORIES:Charla,Evento digital,Goethe-Institut
ATTACH;FMTTYPE=image/jpeg:https://www.icpa-gz.org.py/wp-content/uploads/2026/04/670854375_1401404012027295_4125748441842191523_n.jpg
ORGANIZER;CN="Goethe Institut Buenos Aires":MAILTO:info-buenosaires@goethe.de
END:VEVENT
BEGIN:VEVENT
DTSTART;TZID=America/Asuncion:20260427T173000
DTEND;TZID=America/Asuncion:20260427T190000
DTSTAMP:20260423T192211
CREATED:20260421T214642Z
LAST-MODIFIED:20260421T214642Z
UID:61173-1777311000-1777316400@www.icpa-gz.org.py
SUMMARY:Teatro infantil "Babka y el gran viaje al pequeño libro"
DESCRIPTION:¿Qué pasaría si pudieras hacerte chiquitita y entrar en otros mundos? Babka\, una tierna y valiente abuelita\, decide dejar atrás los cuentos de princesas y entrar en un libro para vivir su propia aventura. \nCelebramos el Día del Libro con esta obra para toda la familia. Una propuesta con marionetas\, teatro de sombras y una sorprendente escenografía en Pop Up. Al finalizar la función\, podrás sumarte al taller de libros pop up. Es una obra de la Cía. Palíndrome (Rosario\, Argentina) \nLunes 27 de abril\n17:30 hs.\nGratis \nInstituto Cultural Paraguayo-Alemán – Goethe-Zentrum\nJuan de Salazar 310 esq. Artigas
URL:https://www.icpa-gz.org.py/evento/teatro-infantil-babka-y-el-gran-viaje-al-pequeno-libro/
LOCATION:Instituto Cultural Paraguayo-Alemán – Goethe-Zentrum | ICPA-GZ\, Juan de Salazar 310 c/ Artigas_\, Asuncion\, 3500\, Paraguay
CATEGORIES:apoyado por el ICPA-GZ,Arte,Biblioteca,Cultura,Evento para niñas y niños,Evento presencial,Taller,Teatro,Tiempo de lectura
ATTACH;FMTTYPE=image/png:https://www.icpa-gz.org.py/wp-content/uploads/2026/04/CPA_Bakba-Feed.png
END:VEVENT
BEGIN:VEVENT
DTSTART;TZID=America/Asuncion:20260427T183000
DTEND;TZID=America/Asuncion:20260427T203000
DTSTAMP:20260423T192211
CREATED:20260331T192132Z
LAST-MODIFIED:20260331T192132Z
UID:60716-1777314600-1777321800@www.icpa-gz.org.py
SUMMARY:Taller “Estudiando alemán a través del teatro” 4/4
DESCRIPTION:¿Querés aprender alemán y te gusta el teatro?\nAnimate a acercarte al idioma por medio de herramientas teatrales. Vuelven las clases de teatro en alemán con director Juan Hannes Burgin. Aprenderás vocabulario y gramática alemana\, junto con ejercicios teatrales. Para la puesta final\, se trabajará en base a cuentos de autores alemanes.  Duración de mayo a abril. \nInicio: Lunes 6 de Abril\nTodos los lunes\nDe 18:45 a 20:45 horas.\nInversión: Gs. 170. 000 por mes. \nPara más información\, contactanos:\n+59591646689\n+595 983 307 150 | WhatsApp \nInstituto Cultural Paraguayo-Alemán – Goethe-Zentrum\nJuan de Salazar 310 esq. Artigas
URL:https://www.icpa-gz.org.py/evento/taller-estudiando-aleman-a-traves-del-teatro-4-4/
LOCATION:Instituto Cultural Paraguayo-Alemán – Goethe-Zentrum | ICPA-GZ\, Juan de Salazar 310 c/ Artigas_\, Asuncion\, 3500\, Paraguay
CATEGORIES:apoyado por el ICPA-GZ,Arte,Cultura,Evento presencial,Taller,Teatro
ATTACH;FMTTYPE=image/png:https://www.icpa-gz.org.py/wp-content/uploads/2026/03/ICPA_TeatroEnAleman-2026-Feed.png
ORGANIZER;CN="Juan B%C3%BCrgin | Dramaturgo. Director de teatro. Docente":MAILTO:https://www.instagram.com/hannes_burginteatroactstudio/
END:VEVENT
END:VCALENDAR