BEGIN:VCALENDAR
VERSION:2.0
PRODID:-//Instituto Cultural Paraguayo Alemán – Goethe-Zentrum - ECPv6.15.20//NONSGML v1.0//EN
CALSCALE:GREGORIAN
METHOD:PUBLISH
X-WR-CALNAME:Instituto Cultural Paraguayo Alemán – Goethe-Zentrum
X-ORIGINAL-URL:https://www.icpa-gz.org.py
X-WR-CALDESC:Eventos para Instituto Cultural Paraguayo Alemán – Goethe-Zentrum
REFRESH-INTERVAL;VALUE=DURATION:PT1H
X-Robots-Tag:noindex
X-PUBLISHED-TTL:PT1H
BEGIN:VTIMEZONE
TZID:America/Asuncion
BEGIN:STANDARD
TZOFFSETFROM:-0300
TZOFFSETTO:-0300
TZNAME:-03
DTSTART:20250101T000000
END:STANDARD
END:VTIMEZONE
BEGIN:VEVENT
DTSTART;TZID=America/Asuncion:20260420T183000
DTEND;TZID=America/Asuncion:20260420T203000
DTSTAMP:20260423T140619
CREATED:20260331T192004Z
LAST-MODIFIED:20260331T192004Z
UID:60701-1776709800-1776717000@www.icpa-gz.org.py
SUMMARY:Taller “Estudiando alemán a través del teatro” 3/4
DESCRIPTION:¿Querés aprender alemán y te gusta el teatro?\nAnimate a acercarte al idioma por medio de herramientas teatrales. Vuelven las clases de teatro en alemán con director Juan Hannes Burgin. Aprenderás vocabulario y gramática alemana\, junto con ejercicios teatrales. Para la puesta final\, se trabajará en base a cuentos de autores alemanes.  Duración de mayo a abril. \nInicio: Lunes 6 de Abril\nTodos los lunes\nDe 18:45 a 20:45 horas.\nInversión: Gs. 170. 000 por mes. \nPara más información\, contactanos:\n+59591646689\n+595 983 307 150 | WhatsApp \nInstituto Cultural Paraguayo-Alemán – Goethe-Zentrum\nJuan de Salazar 310 esq. Artigas
URL:https://www.icpa-gz.org.py/evento/taller-estudiando-aleman-a-traves-del-teatro-3-4/
LOCATION:Instituto Cultural Paraguayo-Alemán – Goethe-Zentrum | ICPA-GZ\, Juan de Salazar 310 c/ Artigas_\, Asuncion\, 3500\, Paraguay
CATEGORIES:apoyado por el ICPA-GZ,Arte,Cultura,Evento presencial,Taller,Teatro
ATTACH;FMTTYPE=image/png:https://www.icpa-gz.org.py/wp-content/uploads/2026/03/ICPA_TeatroEnAleman-2026-Feed.png
ORGANIZER;CN="Juan B%C3%BCrgin | Dramaturgo. Director de teatro. Docente":MAILTO:https://www.instagram.com/hannes_burginteatroactstudio/
END:VEVENT
END:VCALENDAR