BEGIN:VCALENDAR
VERSION:2.0
PRODID:-//Instituto Cultural Paraguayo Alemán – Goethe-Zentrum - ECPv6.15.20//NONSGML v1.0//EN
CALSCALE:GREGORIAN
METHOD:PUBLISH
X-ORIGINAL-URL:https://www.icpa-gz.org.py
X-WR-CALDESC:Eventos para Instituto Cultural Paraguayo Alemán – Goethe-Zentrum
REFRESH-INTERVAL;VALUE=DURATION:PT1H
X-Robots-Tag:noindex
X-PUBLISHED-TTL:PT1H
BEGIN:VTIMEZONE
TZID:America/Asuncion
BEGIN:STANDARD
TZOFFSETFROM:-0300
TZOFFSETTO:-0300
TZNAME:-03
DTSTART:20250101T000000
END:STANDARD
END:VTIMEZONE
BEGIN:VEVENT
DTSTART;TZID=America/Asuncion:20260319T183000
DTEND;TZID=America/Asuncion:20260319T203000
DTSTAMP:20260423T155009
CREATED:20260303T215931Z
LAST-MODIFIED:20260303T215948Z
UID:60285-1773945000-1773952200@www.icpa-gz.org.py
SUMMARY:Taller de libro infantil ilustrado | Amelí Schneider 3/4
DESCRIPTION:Te invitamos al Taller de Libro Ilustrado\, impartido por Amelí Schneider. Será un espacio para compartir herramientas creativas y vivir la experiencia del libro infantil desde adentro. \nHorario: jueves de 18 a 20 hs\nCosto: Gs. 350.000 mensual \nLugar: ICPA-GZ\nJuan de Salazar 310 esq. Artigas \nInformación e inscripciones en +595981436561
URL:https://www.icpa-gz.org.py/evento/taller-de-libro-infantil-ilustrado-ameli-schneider-3-4/
LOCATION:Biblioteca Ulrich Schmidl del Instituto Cultural Paraguayo-Alemán – Goethe-Zentrum | ICPA-GZ\, Juan de Salazar 310 c/ Artigas_\, Asuncion\, Distrito Capital\, Paraguay
CATEGORIES:Arte,Cultura,Evento presencial,Taller
ATTACH;FMTTYPE=image/png:https://www.icpa-gz.org.py/wp-content/uploads/2026/02/Taller-Ameli.png
END:VEVENT
END:VCALENDAR