BEGIN:VCALENDAR
VERSION:2.0
PRODID:-//Instituto Cultural Paraguayo Alemán – Goethe-Zentrum - ECPv6.15.20//NONSGML v1.0//EN
CALSCALE:GREGORIAN
METHOD:PUBLISH
X-WR-CALNAME:Instituto Cultural Paraguayo Alemán – Goethe-Zentrum
X-ORIGINAL-URL:https://www.icpa-gz.org.py
X-WR-CALDESC:Eventos para Instituto Cultural Paraguayo Alemán – Goethe-Zentrum
REFRESH-INTERVAL;VALUE=DURATION:PT1H
X-Robots-Tag:noindex
X-PUBLISHED-TTL:PT1H
BEGIN:VTIMEZONE
TZID:America/Asuncion
BEGIN:STANDARD
TZOFFSETFROM:-0300
TZOFFSETTO:-0300
TZNAME:-03
DTSTART:20250101T000000
END:STANDARD
END:VTIMEZONE
BEGIN:VEVENT
DTSTART;TZID=America/Asuncion:20260303T090000
DTEND;TZID=America/Asuncion:20260303T120000
DTSTAMP:20260423T174041
CREATED:20260303T205644Z
LAST-MODIFIED:20260303T205830Z
UID:59911-1772528400-1772539200@www.icpa-gz.org.py
SUMMARY:Taller de Dibujo y Pintura | Gabriel Brizuela Santomé 1/14
DESCRIPTION:Dirigidos por el experimentado artista plástico Gabriel Brizuela Santomé (@gbsantome) los participantes hacen un recorrido por diversas técnicas como grafito\, pastel\, acuarela\, óleo pastel\, tinta\, mixtas y otras; a elección del estudiante\, al igual que los temas a desarrollar\, que van de la figura humana fundamentalmente a otros\, como bodegones\, naturaleza\, etc. En niveles de representación tanto figurativos como abstractos. \nGabriel Brizuela Santomé tiene un centenar de exposiciones realizadas en Paraguay y el exterior\, varias en representación de nuestro país en Brasil\, Argentina\, Uruguay\, España\, Portugal\, Italia\, USA\, en Bienales\, festivales\, concursos\, etc. Más de 20 premios nacionales e internacionales\, como también es mencionado en una veintena de libros de arte y publicidad de nuestro medio y el exterior Es fundador del MAD\, Museo de Arte Digital\, el primer portal de artes visuales de Paraguay y América\, de la primera facultad de diseño gráfico\, UCA\, en nuestro país\, el Círculo de Creativos del Paraguay\, el colectivo de acuarela Medium Aquae\, el Salón Anual de Acuarela y es Líder de Paraguay para IWS\, International Watercolor Society. \nLos talleres de desarrollan en éstos horarios: \nMartes\, en dos turnos\, de 09:00 hs. a 12:00 hs. y de 15:00 hs. a 18:00 hs. \nSábados que son de 09:00 hs. a 12:00 hs. \nMás información: \n\nContacto telefónico del ICPA-GZ | (021) 22 44 55\nMensaje vía WhatsApp | +595 983 307 150 
URL:https://www.icpa-gz.org.py/evento/taller-de-dibujo-y-pintura-gabriel-brizuela-santome-1-14-3/
LOCATION:Biblioteca Ulrich Schmidl del Instituto Cultural Paraguayo-Alemán – Goethe-Zentrum | ICPA-GZ\, Juan de Salazar 310 c/ Artigas_\, Asuncion\, Distrito Capital\, Paraguay
CATEGORIES:Arte,Cultura,Evento presencial,Taller
ATTACH;FMTTYPE=image/jpeg:https://www.icpa-gz.org.py/wp-content/uploads/2025/02/WhatsApp-Image-2025-02-18-at-15.48.01.jpeg
END:VEVENT
BEGIN:VEVENT
DTSTART;TZID=America/Asuncion:20260303T100000
DTEND;TZID=America/Asuncion:20260303T120000
DTSTAMP:20260423T174041
CREATED:20260303T204811Z
LAST-MODIFIED:20260303T204845Z
UID:59890-1772532000-1772539200@www.icpa-gz.org.py
SUMMARY:Taller de Cerámica | Jazi Brizuela 4/4
DESCRIPTION:Si hace tiempo querías aprender cerámica\, si ya tomaste algunas clases pero querés profundizar y practicar\, este taller es para vos. Se abre este espacio de introducción a la cerámica con Jazmín Brizuela García @jazibrizuela | Instagram. \nFecha: Todos los sábados\nHorario: De 10:00 a 12:00 Hs.\nInversión:\nGs. 380.000 por mes (4 clases)\nGs. 160.000 por clase (2 hs.)\nIncluye materiales\, cocción y piezas elaboradas. \nTaller libre:\nSi querés experimentar por primera vez o si experiencia y querés desarrollar proyectos personales. Podés consultar también por estas clases personalizadas. \nInscripciones y consultas\n+595 983 307 150 | WhatsApp\n+595 (21) 22 44 55
URL:https://www.icpa-gz.org.py/evento/taller-de-ceramica-jazi-brizuela-4-4-9/
LOCATION:Instituto Cultural Paraguayo-Alemán – Goethe-Zentrum | ICPA-GZ\, Juan de Salazar 310 c/ Artigas_\, Asuncion\, 3500\, Paraguay
CATEGORIES:Arte,Cultura,Evento presencial,Taller
ATTACH;FMTTYPE=image/jpeg:https://www.icpa-gz.org.py/wp-content/uploads/2025/05/WhatsApp-Image-2025-04-03-at-16.41.23.jpeg
END:VEVENT
BEGIN:VEVENT
DTSTART;TZID=America/Asuncion:20260303T150000
DTEND;TZID=America/Asuncion:20260303T180000
DTSTAMP:20260423T174041
CREATED:20260303T210119Z
LAST-MODIFIED:20260303T210148Z
UID:59932-1772550000-1772560800@www.icpa-gz.org.py
SUMMARY:Taller de Dibujo y Pintura | Gabriel Brizuela Santomé 2/14
DESCRIPTION:Dirigidos por el experimentado artista plástico Gabriel Brizuela Santomé (@gbsantome) los participantes hacen un recorrido por diversas técnicas como grafito\, pastel\, acuarela\, óleo pastel\, tinta\, mixtas y otras; a elección del estudiante\, al igual que los temas a desarrollar\, que van de la figura humana fundamentalmente a otros\, como bodegones\, naturaleza\, etc. En niveles de representación tanto figurativos como abstractos. \nGabriel Brizuela Santomé tiene un centenar de exposiciones realizadas en Paraguay y el exterior\, varias en representación de nuestro país en Brasil\, Argentina\, Uruguay\, España\, Portugal\, Italia\, USA\, en Bienales\, festivales\, concursos\, etc. Más de 20 premios nacionales e internacionales\, como también es mencionado en una veintena de libros de arte y publicidad de nuestro medio y el exterior Es fundador del MAD\, Museo de Arte Digital\, el primer portal de artes visuales de Paraguay y América\, de la primera facultad de diseño gráfico\, UCA\, en nuestro país\, el Círculo de Creativos del Paraguay\, el colectivo de acuarela Medium Aquae\, el Salón Anual de Acuarela y es Líder de Paraguay para IWS\, International Watercolor Society. \nLos talleres de desarrollan en éstos horarios: \nMartes\, en dos turnos\, de 09:00 hs. a 12:00 hs. y de 15:00 hs. a 18:00 hs. \nSábados que son de 09:00 hs. a 12:00 hs. \nMás información: \n\nContacto telefónico del ICPA-GZ | (021) 22 44 55\nMensaje vía WhatsApp | +595 983 307 150 
URL:https://www.icpa-gz.org.py/evento/taller-de-dibujo-y-pintura-gabriel-brizuela-santome-2-14-4/
LOCATION:Biblioteca Ulrich Schmidl del Instituto Cultural Paraguayo-Alemán – Goethe-Zentrum | ICPA-GZ\, Juan de Salazar 310 c/ Artigas_\, Asuncion\, Distrito Capital\, Paraguay
CATEGORIES:Arte,Cultura,Evento presencial,Taller
ATTACH;FMTTYPE=image/jpeg:https://www.icpa-gz.org.py/wp-content/uploads/2025/02/WhatsApp-Image-2025-02-18-at-15.48.01.jpeg
END:VEVENT
BEGIN:VEVENT
DTSTART;TZID=America/Asuncion:20260303T160000
DTEND;TZID=America/Asuncion:20260303T190000
DTSTAMP:20260423T174041
CREATED:20260304T214259Z
LAST-MODIFIED:20260304T214259Z
UID:60337-1772553600-1772564400@www.icpa-gz.org.py
SUMMARY:Traducir en el contexto latinoamericano: Alemán como Lengua Extranjera y Traductología 2/3
DESCRIPTION:Workshopsreihe ÜBERSETZEN IM LATEINAMERIKANISCHEN KONTEXT: DAF UND TRANSLATOLOGIE”\nSerie de talleres: Traducir en el contexto latinoamericano: Alemán como Lengua Extranjera y Traductología\n\n\nEsta importante iniciativa es fruto de la colaboración entre nuestra Licenciatura en Lengua Alemana (UNA) y la prestigiosa Universidad Federal de Santa Catarina (UFSC)\, buscando fomentar el intercambio y la formación en áreas clave para nuestra región.\n\n\nPara más información\, ingresar a este enlace. 
URL:https://www.icpa-gz.org.py/evento/traducir-en-el-contexto-latinoamericano-aleman-como-lengua-extranjera-y-traductologia-2-3/
LOCATION:Online
CATEGORIES:Evento digital,Taller
ATTACH;FMTTYPE=image/png:https://www.icpa-gz.org.py/wp-content/uploads/2026/03/Workshop-Ubersetzung-und-Daf.png
ORGANIZER;CN="Instituto Superior de Lenguas %E2%80%93 FFUNA":MAILTO:isl-info@fil.una.py
END:VEVENT
END:VCALENDAR