BEGIN:VCALENDAR
VERSION:2.0
PRODID:-//Instituto Cultural Paraguayo Alemán – Goethe-Zentrum - ECPv6.15.20//NONSGML v1.0//EN
CALSCALE:GREGORIAN
METHOD:PUBLISH
X-WR-CALNAME:Instituto Cultural Paraguayo Alemán – Goethe-Zentrum
X-ORIGINAL-URL:https://www.icpa-gz.org.py
X-WR-CALDESC:Eventos para Instituto Cultural Paraguayo Alemán – Goethe-Zentrum
REFRESH-INTERVAL;VALUE=DURATION:PT1H
X-Robots-Tag:noindex
X-PUBLISHED-TTL:PT1H
BEGIN:VTIMEZONE
TZID:America/Asuncion
BEGIN:STANDARD
TZOFFSETFROM:-0300
TZOFFSETTO:-0300
TZNAME:-03
DTSTART:20250101T000000
END:STANDARD
END:VTIMEZONE
BEGIN:VEVENT
DTSTART;TZID=America/Asuncion:20260129T143000
DTEND;TZID=America/Asuncion:20260129T153000
DTSTAMP:20260423T172659
CREATED:20260122T180923Z
LAST-MODIFIED:20260122T180923Z
UID:59331-1769697000-1769700600@www.icpa-gz.org.py
SUMMARY:Charla "Vías de acceso al mercado laboral alemán"
DESCRIPTION:Descubrí cómo dar los primeros pasos en el mercado laboral en Alemania\, junto a la Oficina Central de Colocación Extranjera y Especializada de la Agencia Federal de Empleo. Recibirás valiosos consejos e información sobre reconocimiento de títulos académicos y profesionales\, búsqueda de empleo y formación\, cartas de solicitud y entrevistas de trabajo y sistema de seguridad social en Alemania. \nJueves 29 de enero\n14:30 horas Argentina\, Paraguay y Uruguay\nModalidad: Online\nIdioma: Inglés con traducción simultánea al español \nInscribite previamente a través del enlace  \nMás información en la web de Mein Weg Nach Deutschland \n 
URL:https://www.icpa-gz.org.py/evento/charla-vias-de-acceso-al-mercado-laboral-aleman/
LOCATION:Online
CATEGORIES:Charla,Evento digital,Goethe-Institut,Vivir & trabajar en Alemania
ATTACH;FMTTYPE=image/jpeg:https://www.icpa-gz.org.py/wp-content/uploads/2026/01/618882948_1330552392445791_739853105916354823_n.jpg
END:VEVENT
END:VCALENDAR