BEGIN:VCALENDAR
VERSION:2.0
PRODID:-//Instituto Cultural Paraguayo Alemán – Goethe-Zentrum - ECPv6.15.20//NONSGML v1.0//EN
CALSCALE:GREGORIAN
METHOD:PUBLISH
X-WR-CALNAME:Instituto Cultural Paraguayo Alemán – Goethe-Zentrum
X-ORIGINAL-URL:https://www.icpa-gz.org.py
X-WR-CALDESC:Eventos para Instituto Cultural Paraguayo Alemán – Goethe-Zentrum
REFRESH-INTERVAL;VALUE=DURATION:PT1H
X-Robots-Tag:noindex
X-PUBLISHED-TTL:PT1H
BEGIN:VTIMEZONE
TZID:America/Asuncion
BEGIN:STANDARD
TZOFFSETFROM:-0300
TZOFFSETTO:-0400
TZNAME:-04
DTSTART:20240324T030000
END:STANDARD
BEGIN:DAYLIGHT
TZOFFSETFROM:-0400
TZOFFSETTO:-0300
TZNAME:-03
DTSTART:20241006T040000
END:DAYLIGHT
BEGIN:STANDARD
TZOFFSETFROM:-0300
TZOFFSETTO:-0300
TZNAME:-03
DTSTART:20241015T030000
END:STANDARD
END:VTIMEZONE
BEGIN:VEVENT
DTSTART;TZID=America/Asuncion:20251213T080000
DTEND;TZID=America/Asuncion:20251213T100000
DTSTAMP:20260423T210757
CREATED:20251209T205823Z
LAST-MODIFIED:20251209T210439Z
UID:59054-1765612800-1765620000@www.icpa-gz.org.py
SUMMARY:Derecho de a la Ciudad | Encuentro
DESCRIPTION:Organizaciones ciudadanas ivitan a personas y organizaciones de Asunción y el área metropolitana\, al primer encuentro por el derecho a la ciudad. Será un ciclo de encuentros donde se debatiraá sobre el derecho de todos a habitar\, transformar y disfrutar de la ciudad de manera justa e inclusiva. \nSábado 13 de diciembre\n08:00 Hs.\nInstituto Cultural Paraguayo-Alemán – Goethe-Zentrum\nJuan de Salazar 310 esq. Artigas \nPara participar\, inscribite en este formulario \nOrganizan: Asunción Causa Nacional\, Centro Paraguayo de Estudios Sociológicos (CPES)\, Organización de Pasajeros del Área Metropolitana (OPAMA)\, Unión de Bosques Urbanos\, comision vecinal El Barranco\, Centro Cultural La Abadía\, Salvemos el Parque Guasu y movimiento A Mano Alzada. Apoya: el ICPA – GZ.
URL:https://www.icpa-gz.org.py/evento/derecho-de-a-la-ciudad-encuentro/
LOCATION:Instituto Cultural Paraguayo-Alemán – Goethe-Zentrum | ICPA-GZ\, Juan de Salazar 310 c/ Artigas_\, Asuncion\, 3500\, Paraguay
CATEGORIES:apoyado por el ICPA-GZ,Charla,Evento presencial
ATTACH;FMTTYPE=image/jpeg:https://www.icpa-gz.org.py/wp-content/uploads/2025/12/WhatsApp-Image-2025-12-03-at-18.57.23.jpeg
END:VEVENT
BEGIN:VEVENT
DTSTART;TZID=America/Asuncion:20251213T090000
DTEND;TZID=America/Asuncion:20251213T120000
DTSTAMP:20260423T210757
CREATED:20251202T213656Z
LAST-MODIFIED:20251202T213656Z
UID:58801-1765616400-1765627200@www.icpa-gz.org.py
SUMMARY:Taller de Dibujo y Pintura | Gabriel Brizuela Santomé 6/14
DESCRIPTION:Dirigidos por el experimentado artista plástico Gabriel Brizuela Santomé los participantes hacen un recorrido por diversas técnicas como grafito\, pastel\, acuarela\, óleo pastel\, tinta\, mixtas y otras; a elección del estudiante\, al igual que los temas a desarrollar\, que van de la figura humana fundamentalmente a otros\, como bodegones\, naturaleza\, etc. En niveles de representación tanto figurativos como abstractos. \nGabriel Brizuela Santomé tiene un centenar de exposiciones realizadas en Paraguay y el exterior\, varias en representación de nuestro país en Brasil\, Argentina\, Uruguay\, España\, Portugal\, Italia\, USA\, en Bienales\, festivales\, concursos\, etc. Más de 20 premios nacionales e internacionales\, como también es mencionado en una veintena de libros de arte y publicidad de nuestro medio y el exterior Es fundador del MAD\, Museo de Arte Digital\, el primer portal de artes visuales de Paraguay y América\, de la primera facultad de diseño gráfico\, UCA\, en nuestro país\, el Círculo de Creativos del Paraguay\, el colectivo de acuarela Medium Aquae\, el Salón Anual de Acuarela y es Líder de Paraguay para IWS\, International Watercolor Society. \nLos talleres de desarrollan en éstos horarios: \nMartes\, en dos turnos\, de 09:00 hs. a 12:00 hs. y de 15:00 hs. a 18:00 hs. \nSábados que son de 09:00 hs. a 12:00 hs. \nMás información: \n\nContacto telefónico del ICPA-GZ | (021) 22 44 55\nMensaje vía WhatsApp | +595 983 307 150 
URL:https://www.icpa-gz.org.py/evento/taller-de-dibujo-y-pintura-gabriel-brizuela-santome-6-14-3/
LOCATION:Instituto Cultural Paraguayo-Alemán – Goethe-Zentrum | ICPA-GZ\, Juan de Salazar 310 c/ Artigas_\, Asuncion\, 3500\, Paraguay
CATEGORIES:Arte,Cultura,Evento presencial,Taller
ATTACH;FMTTYPE=image/jpeg:https://www.icpa-gz.org.py/wp-content/uploads/2025/02/WhatsApp-Image-2025-02-18-at-15.48.01.jpeg
END:VEVENT
BEGIN:VEVENT
DTSTART;TZID=America/Asuncion:20251213T100000
DTEND;TZID=America/Asuncion:20251213T120000
DTSTAMP:20260423T210757
CREATED:20251202T211806Z
LAST-MODIFIED:20251202T211806Z
UID:58681-1765620000-1765627200@www.icpa-gz.org.py
SUMMARY:Taller de Cerámica | Jazi Brizuela 2/4
DESCRIPTION:Si hace tiempo querías aprender cerámica\, si ya tomaste algunas clases pero querés profundizar y practicar\, este taller es para vos. Se abre este espacio de introducción a la cerámica con Jazmín Brizuela García @jazibrizuela | Instagram. \nFecha: Todos los sábados\nHorario: De 10:00 a 12:00 Hs.\nInversión:\nGs. 380.000 por mes (4 clases)\nGs. 160.000 por clase (2 hs.)\nIncluye materiales\, cocción y piezas elaboradas. \nTaller libre:\nSi querés experimentar por primera vez o si experiencia y querés desarrollar proyectos personales. Podés consultar también por estas clases personalizadas. \nInscripciones y consultas\n+595 983 307 150 | WhatsApp\n+595 (21) 22 44 55
URL:https://www.icpa-gz.org.py/evento/taller-de-ceramica-jazi-brizuela-2-4-7/
LOCATION:Instituto Cultural Paraguayo-Alemán – Goethe-Zentrum | ICPA-GZ\, Juan de Salazar 310 c/ Artigas_\, Asuncion\, 3500\, Paraguay
CATEGORIES:apoyado por el ICPA-GZ,Arte,Cultura,Evento presencial,Taller
ATTACH;FMTTYPE=image/jpeg:https://www.icpa-gz.org.py/wp-content/uploads/2025/05/WhatsApp-Image-2025-04-03-at-16.41.23.jpeg
END:VEVENT
BEGIN:VEVENT
DTSTART;TZID=America/Asuncion:20251213T140000
DTEND;TZID=America/Asuncion:20251213T160000
DTSTAMP:20260423T210757
CREATED:20251117T202111Z
LAST-MODIFIED:20251117T202111Z
UID:58425-1765634400-1765641600@www.icpa-gz.org.py
SUMMARY:Taller de costura | Manualidades Navideñas 4/4
DESCRIPTION:El ICPA invita a los talleres de Maualidades Navideñas. Talleres para aprender y encontrarnos. \nTaller de costura\nGratis con inscripción previa. Cupos llenos.\nSábados de 14 a 16 Hs.\nInicio: Sábado 22 de noviembre 2025 \nBiblioteca Ulrich Schmidl\nInstituto Cultural Paraguayo-Alemán – Goethe-Zentrum\nJuan de Salazar 310 esq. Artigas
URL:https://www.icpa-gz.org.py/evento/taller-de-costura-manualidades-navidenas-4-4/
LOCATION:Biblioteca Ulrich Schmidl del Instituto Cultural Paraguayo-Alemán – Goethe-Zentrum | ICPA-GZ\, Juan de Salazar 310 c/ Artigas_\, Asuncion\, Distrito Capital\, Paraguay
CATEGORIES:apoyado por el ICPA-GZ,Biblioteca,Evento presencial,Taller
ATTACH;FMTTYPE=image/png:https://www.icpa-gz.org.py/wp-content/uploads/2025/11/ICPA_TallerNavidenho-Feed.png
END:VEVENT
BEGIN:VEVENT
DTSTART;TZID=America/Asuncion:20251213T140000
DTEND;TZID=America/Asuncion:20251213T160000
DTSTAMP:20260423T210757
CREATED:20251203T213637Z
LAST-MODIFIED:20251203T213637Z
UID:59024-1765634400-1765641600@www.icpa-gz.org.py
SUMMARY:Taller de Bordado | Manualidades Navideña 5/6
DESCRIPTION:El ICPA invita a los talleres de Maualidades Navideñas. Talleres para aprender y encontrarnos. \nTaller de Bordado\nGratis y sin incripción.\nSábados de 14 a 16 Hs.\nInicio: Sábado 15 de noviembre 2025 \nBiblioteca Ulrich Schmidl\nInstituto Cultural Paraguayo-Alemán – Goethe-Zentrum\nJuan de Salazar 310 esq. Artigas
URL:https://www.icpa-gz.org.py/evento/taller-de-bordado-manualidades-navidena-5-6/
LOCATION:Biblioteca Ulrich Schmidl del Instituto Cultural Paraguayo-Alemán – Goethe-Zentrum | ICPA-GZ\, Juan de Salazar 310 c/ Artigas_\, Asuncion\, Distrito Capital\, Paraguay
CATEGORIES:apoyado por el ICPA-GZ,Cultura,Evento presencial,Taller
ATTACH;FMTTYPE=image/png:https://www.icpa-gz.org.py/wp-content/uploads/2025/11/ICPA_TallerNavidenho-Feed.png
END:VEVENT
END:VCALENDAR