BEGIN:VCALENDAR
VERSION:2.0
PRODID:-//Instituto Cultural Paraguayo Alemán – Goethe-Zentrum - ECPv6.15.20//NONSGML v1.0//EN
CALSCALE:GREGORIAN
METHOD:PUBLISH
X-WR-CALNAME:Instituto Cultural Paraguayo Alemán – Goethe-Zentrum
X-ORIGINAL-URL:https://www.icpa-gz.org.py
X-WR-CALDESC:Eventos para Instituto Cultural Paraguayo Alemán – Goethe-Zentrum
REFRESH-INTERVAL;VALUE=DURATION:PT1H
X-Robots-Tag:noindex
X-PUBLISHED-TTL:PT1H
BEGIN:VTIMEZONE
TZID:America/Asuncion
BEGIN:STANDARD
TZOFFSETFROM:-0300
TZOFFSETTO:-0400
TZNAME:-04
DTSTART:20240324T030000
END:STANDARD
BEGIN:DAYLIGHT
TZOFFSETFROM:-0400
TZOFFSETTO:-0300
TZNAME:-03
DTSTART:20241006T040000
END:DAYLIGHT
BEGIN:STANDARD
TZOFFSETFROM:-0300
TZOFFSETTO:-0300
TZNAME:-03
DTSTART:20241015T030000
END:STANDARD
END:VTIMEZONE
BEGIN:VEVENT
DTSTART;TZID=America/Asuncion:20251205T180000
DTEND;TZID=America/Asuncion:20251205T200000
DTSTAMP:20260423T210546
CREATED:20251201T213004Z
LAST-MODIFIED:20251201T213004Z
UID:58614-1764957600-1764964800@www.icpa-gz.org.py
SUMMARY:Taller "Más que Música" | EUNIC 2/2
DESCRIPTION:El grupo Fetén Fetén\, integrado por Jorge Arribas y Diego Galaz\, ofrecerá un taller de formación e intercambio musical. La propuesta formativa está dirigida a músicos e intérpretes de cualquier instrumento y edad\, proponiendo un recorrido didáctico y musical por las músicas tradicionales y populares de España. A través de jotas\, fandangos\, valses\, mazurcas\, seguidillas\, pasodobles\, ruedas o ajechados\, se invita a descubrir un legado cultural diverso\, fruto de las múltiples culturas y pueblos que han habitado el país. De este modo\, se busca difundir músicas características de España y fomentar el encuentro e intercambio con músicos de diferentes contextos\, compartiendo formas de entender la tradición e incorporando nuevas miradas a partir de las expresiones locales. \nEsta actividad forma parte del concierto “Raíces del Mundo”\, presentado por el Cluster EUNIC Asunción. Este grupo está integrado por el Centro Cultural de España\, el Instituto Cultural Paraguayo-Alemán\, la Alianza Francesa y la Embajada de Italia—\, en conjunto con la Delegación de la Unión Europea. \nMartes 2 de diciembre\, a las 18.00\, en el Juande (Herrera\, 834)\nViernes 5 de diciembre\, a las 18.00\, en el ICPA (Juan de Salazar 310 c/ Artigas)\nAcceso libre y gratuito\, previa inscripción a través de este formulario \n 
URL:https://www.icpa-gz.org.py/evento/taller-mas-que-musica-eunic-2-2/
LOCATION:Instituto Cultural Paraguayo-Alemán – Goethe-Zentrum | ICPA-GZ\, Juan de Salazar 310 c/ Artigas_\, Asuncion\, 3500\, Paraguay
CATEGORIES:apoyado por el ICPA-GZ,Arte,Cultura,European Union National Institutes for Culture | EUNIC,Evento presencial,Música,Taller
ATTACH;FMTTYPE=image/jpeg:https://www.icpa-gz.org.py/wp-content/uploads/2025/12/589040066_18540063325020252_1569204533359204345_n.jpg
END:VEVENT
END:VCALENDAR