BEGIN:VCALENDAR
VERSION:2.0
PRODID:-//Instituto Cultural Paraguayo Alemán – Goethe-Zentrum - ECPv6.15.20//NONSGML v1.0//EN
CALSCALE:GREGORIAN
METHOD:PUBLISH
X-WR-CALNAME:Instituto Cultural Paraguayo Alemán – Goethe-Zentrum
X-ORIGINAL-URL:https://www.icpa-gz.org.py
X-WR-CALDESC:Eventos para Instituto Cultural Paraguayo Alemán – Goethe-Zentrum
REFRESH-INTERVAL;VALUE=DURATION:PT1H
X-Robots-Tag:noindex
X-PUBLISHED-TTL:PT1H
BEGIN:VTIMEZONE
TZID:America/Asuncion
BEGIN:STANDARD
TZOFFSETFROM:-0300
TZOFFSETTO:-0400
TZNAME:-04
DTSTART:20240324T030000
END:STANDARD
BEGIN:DAYLIGHT
TZOFFSETFROM:-0400
TZOFFSETTO:-0300
TZNAME:-03
DTSTART:20241006T040000
END:DAYLIGHT
BEGIN:STANDARD
TZOFFSETFROM:-0300
TZOFFSETTO:-0300
TZNAME:-03
DTSTART:20241015T030000
END:STANDARD
END:VTIMEZONE
BEGIN:VEVENT
DTSTART;TZID=America/Asuncion:20251122T090000
DTEND;TZID=America/Asuncion:20251122T120000
DTSTAMP:20260424T040850
CREATED:20251114T200335Z
LAST-MODIFIED:20251114T200335Z
UID:58173-1763802000-1763812800@www.icpa-gz.org.py
SUMMARY:Taller de Dibujo y Pintura | Gabriel Brizuela Santomé 10/13
DESCRIPTION:Dirigidos por el experimentado artista plástico Gabriel Brizuela Santomé los participantes hacen un recorrido por diversas técnicas como grafito\, pastel\, acuarela\, óleo pastel\, tinta\, mixtas y otras; a elección del estudiante\, al igual que los temas a desarrollar\, que van de la figura humana fundamentalmente a otros\, como bodegones\, naturaleza\, etc. En niveles de representación tanto figurativos como abstractos. \nGabriel Brizuela Santomé tiene un centenar de exposiciones realizadas en Paraguay y el exterior\, varias en representación de nuestro país en Brasil\, Argentina\, Uruguay\, España\, Portugal\, Italia\, USA\, en Bienales\, festivales\, concursos\, etc. Más de 20 premios nacionales e internacionales\, como también es mencionado en una veintena de libros de arte y publicidad de nuestro medio y el exterior Es fundador del MAD\, Museo de Arte Digital\, el primer portal de artes visuales de Paraguay y América\, de la primera facultad de diseño gráfico\, UCA\, en nuestro país\, el Círculo de Creativos del Paraguay\, el colectivo de acuarela Medium Aquae\, el Salón Anual de Acuarela y es Líder de Paraguay para IWS\, International Watercolor Society. \nLos talleres de desarrollan en éstos horarios: \nMartes\, en dos turnos\, de 09:00 hs. a 12:00 hs. y de 15:00 hs. a 18:00 hs. \nSábados que son de 09:00 hs. a 12:00 hs. \nMás información: \n\nContacto telefónico del ICPA-GZ | (021) 22 44 55\nMensaje vía WhatsApp | +595 983 307 150 
URL:https://www.icpa-gz.org.py/evento/taller-de-dibujo-y-pintura-gabriel-brizuela-santome-10-13-3/
LOCATION:Biblioteca Ulrich Schmidl del Instituto Cultural Paraguayo-Alemán – Goethe-Zentrum | ICPA-GZ\, Juan de Salazar 310 c/ Artigas_\, Asuncion\, Distrito Capital\, Paraguay
CATEGORIES:Arte,Biblioteca,Cultura,Evento presencial,Taller
ATTACH;FMTTYPE=image/jpeg:https://www.icpa-gz.org.py/wp-content/uploads/2025/02/WhatsApp-Image-2025-02-18-at-15.48.01.jpeg
END:VEVENT
BEGIN:VEVENT
DTSTART;TZID=America/Asuncion:20251122T090000
DTEND;TZID=America/Asuncion:20251122T120000
DTSTAMP:20260424T040850
CREATED:20251117T202745Z
LAST-MODIFIED:20251117T203341Z
UID:58440-1763802000-1763812800@www.icpa-gz.org.py
SUMMARY:Taller de Animación Experimental en fílmico
DESCRIPTION:Taller de Animación Experimental en fílmico 16mm. \nUna inmersión en las técnicas artesanales del cine sin cámara. A cargo de Dave Walls\, cineasta\, laboratorista y fotógrafo experimental-analógico. \nFecha: Sábado 22 de noviembre de 2025 / De 9a.m a 12:30m.\nAcceso libre y gratuito – ¡cupos limitados!\nInscribite en este enlace \nLugar: Instituto Cultural Paraguayo-Alemán – Goethe-Zentrum | Juan de Salazar 310 esq. Artigas
URL:https://www.icpa-gz.org.py/evento/taller-de-animacion-experimental-en-filmico/
LOCATION:Instituto Cultural Paraguayo-Alemán – Goethe-Zentrum | ICPA-GZ\, Juan de Salazar 310 c/ Artigas_\, Asuncion\, 3500\, Paraguay
CATEGORIES:apoyado por el ICPA-GZ,Arte,Cine,Cultura,Evento presencial,Taller
ATTACH;FMTTYPE=image/jpeg:https://www.icpa-gz.org.py/wp-content/uploads/2025/11/WhatsApp-Image-2025-11-14-at-13.28.18.jpeg
END:VEVENT
BEGIN:VEVENT
DTSTART;TZID=America/Asuncion:20251122T100000
DTEND;TZID=America/Asuncion:20251122T120000
DTSTAMP:20260424T040850
CREATED:20251110T204809Z
LAST-MODIFIED:20251110T204809Z
UID:57910-1763805600-1763812800@www.icpa-gz.org.py
SUMMARY:Taller de Cerámica | Jazi Brizuela 4/5
DESCRIPTION:Si hace tiempo querías aprender cerámica\, si ya tomaste algunas clases pero querés profundizar y practicar\, este taller es para vos. Se abre este espacio de introducción a la cerámica con Jazmín Brizuela García @jazibrizuela | Instagram. \n\n\n \n\n\nFecha: Todos los sábados\n\n\nHorario: De 10:00 a 12:00 Hs.\n\n\n\nInversión:\n\n\nGs. 380.000 por mes (4 clases)\n\n\nGs. 160.000 por clase (2 hs.)\n\n\nIncluye materiales\, cocción y piezas elaboradas.\n\n\n \n\n\nTaller libre:\n\n\nSi querés experimentar por primera vez o si experiencia y querés desarrollar proyectos personales. Podés consultar también por estas clases personalizadas.\n\n\n \n\n\nInscripciones y consultas\n\n\n +595 983 307 150 | WhatsApp\n +595 (21) 22 44 55
URL:https://www.icpa-gz.org.py/evento/taller-de-ceramica-jazi-brizuela-4-5-4/
LOCATION:Instituto Cultural Paraguayo-Alemán – Goethe-Zentrum | ICPA-GZ\, Juan de Salazar 310 c/ Artigas_\, Asuncion\, 3500\, Paraguay
ATTACH;FMTTYPE=image/jpeg:https://www.icpa-gz.org.py/wp-content/uploads/2025/05/WhatsApp-Image-2025-04-03-at-16.41.23.jpeg
END:VEVENT
BEGIN:VEVENT
DTSTART;TZID=America/Asuncion:20251122T140000
DTEND;TZID=America/Asuncion:20251122T160000
DTSTAMP:20260424T040850
CREATED:20251117T195421Z
LAST-MODIFIED:20251203T213333Z
UID:58323-1763820000-1763827200@www.icpa-gz.org.py
SUMMARY:Taller de bordado | Manualidades Navideñas 2/6
DESCRIPTION:El ICPA invita a los talleres de Maualidades Navideñas. Talleres para aprender y encontrarnos. \nTaller de Bordado\nGratis y sin incripción.\nSábados de 14 a 16 Hs.\nInicio: Sábado 15 de noviembre 2025 \nBiblioteca Ulrich Schmidl\nInstituto Cultural Paraguayo-Alemán – Goethe-Zentrum\nJuan de Salazar 310 esq. Artigas
URL:https://www.icpa-gz.org.py/evento/taller-de-bordado-manualidades-navidenas-2-4/
LOCATION:Biblioteca Ulrich Schmidl del Instituto Cultural Paraguayo-Alemán – Goethe-Zentrum | ICPA-GZ\, Juan de Salazar 310 c/ Artigas_\, Asuncion\, Distrito Capital\, Paraguay
CATEGORIES:apoyado por el ICPA-GZ,Biblioteca,Cultura,Evento presencial,Taller
ATTACH;FMTTYPE=image/png:https://www.icpa-gz.org.py/wp-content/uploads/2025/11/ICPA_TallerNavidenho-Feed.png
END:VEVENT
BEGIN:VEVENT
DTSTART;TZID=America/Asuncion:20251122T140000
DTEND;TZID=America/Asuncion:20251122T160000
DTSTAMP:20260424T040850
CREATED:20251117T201445Z
LAST-MODIFIED:20251117T201445Z
UID:58380-1763820000-1763827200@www.icpa-gz.org.py
SUMMARY:Taller de costura | Manualidades Navideñas 1/4
DESCRIPTION:El ICPA invita a los talleres de Maualidades Navideñas. Talleres para aprender y encontrarnos. \nTaller de costura\nGratis con inscripción previa. Cupos llenos.\nSábados de 14 a 16 Hs.\nInicio: Sábado 22 de noviembre 2025 \nBiblioteca Ulrich Schmidl\nInstituto Cultural Paraguayo-Alemán – Goethe-Zentrum\nJuan de Salazar 310 esq. Artigas
URL:https://www.icpa-gz.org.py/evento/taller-de-costura-manualidades-navidenas-1-4/
LOCATION:Biblioteca Ulrich Schmidl del Instituto Cultural Paraguayo-Alemán – Goethe-Zentrum | ICPA-GZ\, Juan de Salazar 310 c/ Artigas_\, Asuncion\, Distrito Capital\, Paraguay
CATEGORIES:apoyado por el ICPA-GZ,Biblioteca,Evento presencial,Taller
ATTACH;FMTTYPE=image/png:https://www.icpa-gz.org.py/wp-content/uploads/2025/11/ICPA_TallerNavidenho-Feed.png
END:VEVENT
BEGIN:VEVENT
DTSTART;TZID=America/Asuncion:20251122T150000
DTEND;TZID=America/Asuncion:20251122T180000
DTSTAMP:20260424T040850
CREATED:20251117T205135Z
LAST-MODIFIED:20251117T211133Z
UID:58463-1763823600-1763834400@www.icpa-gz.org.py
SUMMARY:Taller de Frottage | Luvier Casali
DESCRIPTION:El ICPA-GZ invita a participar del Taller de Frottage\, impartido por el artista Luvier Casali. \nEl frottage (del francés frotter\, ‘frotar’) es una técnica artística que consiste en frotar un lápiz sobre una hoja colocada sobre un objeto\, consiguiendo una impresión de la forma y textura de ese objeto. Fue ideado por el pintor surrealista Max Ernst en 1925.\n\nLuvier Casali presentó el pasado septiembre\, la exposición “Og\, la última casa”\, en el Pinta Sud. Durante esta muestra\, se presentaron instalaciones donde se trabajó la técnica del frottage en gran formato.\n\nEste taller está dirigido a estudiantes de artes y personas interesadas en las técnicas gráficas.\n\nFecha: Sábado 22 de noviembre 2025\nHorario: De 15 a 18 Hs.\nLugar: Instituto Cultural Paraguayo-Alemán – Goethe-Zentrum\nDirección: Juan de Salazar 310 esq. Artigas\n\nPara anotarte\, completa el siguiente formulario. \n 
URL:https://www.icpa-gz.org.py/evento/taller-de-frottage-luvier-casali/
LOCATION:Instituto Cultural Paraguayo-Alemán – Goethe-Zentrum | ICPA-GZ\, Juan de Salazar 310 c/ Artigas_\, Asuncion\, 3500\, Paraguay
CATEGORIES:apoyado por el ICPA-GZ,Arte,Cultura,Evento presencial,Taller
ATTACH;FMTTYPE=image/png:https://www.icpa-gz.org.py/wp-content/uploads/2025/11/ICPA_WorkshopFrottage-Feed.png
END:VEVENT
END:VCALENDAR