BEGIN:VCALENDAR
VERSION:2.0
PRODID:-//Instituto Cultural Paraguayo Alemán – Goethe-Zentrum - ECPv6.15.20//NONSGML v1.0//EN
CALSCALE:GREGORIAN
METHOD:PUBLISH
X-WR-CALNAME:Instituto Cultural Paraguayo Alemán – Goethe-Zentrum
X-ORIGINAL-URL:https://www.icpa-gz.org.py
X-WR-CALDESC:Eventos para Instituto Cultural Paraguayo Alemán – Goethe-Zentrum
REFRESH-INTERVAL;VALUE=DURATION:PT1H
X-Robots-Tag:noindex
X-PUBLISHED-TTL:PT1H
BEGIN:VTIMEZONE
TZID:America/Asuncion
BEGIN:STANDARD
TZOFFSETFROM:-0300
TZOFFSETTO:-0400
TZNAME:-04
DTSTART:20240324T030000
END:STANDARD
BEGIN:DAYLIGHT
TZOFFSETFROM:-0400
TZOFFSETTO:-0300
TZNAME:-03
DTSTART:20241006T040000
END:DAYLIGHT
BEGIN:STANDARD
TZOFFSETFROM:-0300
TZOFFSETTO:-0300
TZNAME:-03
DTSTART:20241015T030000
END:STANDARD
END:VTIMEZONE
BEGIN:VEVENT
DTSTART;TZID=America/Asuncion:20251113T170000
DTEND;TZID=America/Asuncion:20251113T190000
DTSTAMP:20260424T040951
CREATED:20251117T193746Z
LAST-MODIFIED:20251117T193759Z
UID:58239-1763053200-1763060400@www.icpa-gz.org.py
SUMMARY:Taller de crochet | Manualidades Navideñas 1/4
DESCRIPTION:El ICPA invita a los talleres de Maualidades Navideñas. Talleres para aprender y encontrarnos. \nTaller de Crochet\nGratis y sin incripción.\nJueves de 17 a 19 Hs.\nIncio: Jueves 13 de noviembre 2025 \nBiblioteca Ulrich Schmidl\nInstituto Cultural Paraguayo-Alemán – Goethe-Zentrum\nJuan de Salazar 310 esq. Artigas
URL:https://www.icpa-gz.org.py/evento/taller-de-crochet-manualidades-navidenas/
LOCATION:Biblioteca Ulrich Schmidl del Instituto Cultural Paraguayo-Alemán – Goethe-Zentrum | ICPA-GZ\, Juan de Salazar 310 c/ Artigas_\, Asuncion\, Distrito Capital\, Paraguay
CATEGORIES:apoyado por el ICPA-GZ,Biblioteca,Evento presencial,Taller
ATTACH;FMTTYPE=image/png:https://www.icpa-gz.org.py/wp-content/uploads/2025/11/ICPA_TallerNavidenho-Feed.png
END:VEVENT
BEGIN:VEVENT
DTSTART;TZID=America/Asuncion:20251113T190000
DTEND;TZID=America/Asuncion:20251113T210000
DTSTAMP:20260424T040951
CREATED:20251110T215010Z
LAST-MODIFIED:20251110T215010Z
UID:57984-1763060400-1763067600@www.icpa-gz.org.py
SUMMARY:Ciclo de Cine "Diferente de los demás" | Fernando Moure 2/3
DESCRIPTION:Martes 11\, jueves 13 y lunes 16 de noviembre 2025-  19:00 Hs.\nInstituto Cultural Paraguayo Alemán de Asunción. \nEste cine de temática LGBTQ+\, o queer\, cuenta las historias de personas que se atreven a desafiar las normas sociales\, narrando sus experiencias\, perspectivas y deseos desde posiciones divergentes con la heteronormatividad. A menudo\, sus formas cinemáticas también desafían las convenciones técnicas\, cuestionándolas o incluso trascendiéndolas. \nCurada por el crítico de arte Fernando Moure\, la selección de cuatro filmes del programa Diferente de los demás incluye dos cortometrajes noreamericanos\, American Reflexxx (2015) de la artista Signe Pierce y la pieza histórica Fireworks del cineasta experimental Kenneth Anger\, de 1947. Completa el programa la pieza de videoarte Too far with just enough del artista Andre Rolón (2023) y la película silente alemana Anders als die Andern (Diferente de los demás)\, el primer film de temática no heteronormativa\, de 1919\, que dá nombre al ciclo. \nEl programa (vigente del martes 11\, jueves 13 y lunes 16 de noviembre a las 19:00) \nAnders als die Andern/ Diferente de los demás. Director: Richard Oswald\, Alemania\, 50´ (fragmentos)\, blanco y negro\, silente\, 1919. \nAmerican Reflexxx. Directores: Alli Coates\, Signe Pierce\, USA\, video\, 15´\, 2015. \nFireworks. Director: Kenneth Anger\, 14´\, 16 mm.\, 1947. \nToo far with just enough\, dirigida por Andre Rolón\, video. 4´33″\, 2023 @hazelrbbts
URL:https://www.icpa-gz.org.py/evento/ciclo-de-cine-diferente-de-los-demas-fernando-moure-2-3/
LOCATION:Instituto Cultural Paraguayo-Alemán – Goethe-Zentrum | ICPA-GZ\, Juan de Salazar 310 c/ Artigas_\, Asuncion\, 3500\, Paraguay
CATEGORIES:apoyado por el ICPA-GZ,Arte,Cine,Cultura,Evento presencial,ICPA TREFF
ATTACH;FMTTYPE=image/png:https://www.icpa-gz.org.py/wp-content/uploads/2025/11/Opera-Captura-de-pantalla_2025-11-10_183543_www.instagram.com_.png
END:VEVENT
END:VCALENDAR